BEGIN:VCALENDAR
VERSION:2.0
PRODID:-//Yes And MTL - ECPv6.15.17.1//NONSGML v1.0//EN
CALSCALE:GREGORIAN
METHOD:PUBLISH
X-WR-CALNAME:Yes And MTL
X-ORIGINAL-URL:https://yesandmtl.com
X-WR-CALDESC:Events for Yes And MTL
REFRESH-INTERVAL;VALUE=DURATION:PT1H
X-Robots-Tag:noindex
X-PUBLISHED-TTL:PT1H
BEGIN:VTIMEZONE
TZID:America/Toronto
BEGIN:DAYLIGHT
TZOFFSETFROM:-0500
TZOFFSETTO:-0400
TZNAME:EDT
DTSTART:20250309T070000
END:DAYLIGHT
BEGIN:STANDARD
TZOFFSETFROM:-0400
TZOFFSETTO:-0500
TZNAME:EST
DTSTART:20251102T060000
END:STANDARD
BEGIN:DAYLIGHT
TZOFFSETFROM:-0500
TZOFFSETTO:-0400
TZNAME:EDT
DTSTART:20260308T070000
END:DAYLIGHT
BEGIN:STANDARD
TZOFFSETFROM:-0400
TZOFFSETTO:-0500
TZNAME:EST
DTSTART:20261101T060000
END:STANDARD
BEGIN:DAYLIGHT
TZOFFSETFROM:-0500
TZOFFSETTO:-0400
TZNAME:EDT
DTSTART:20270314T070000
END:DAYLIGHT
BEGIN:STANDARD
TZOFFSETFROM:-0400
TZOFFSETTO:-0500
TZNAME:EST
DTSTART:20271107T060000
END:STANDARD
END:VTIMEZONE
BEGIN:VEVENT
DTSTART;TZID=America/Toronto:20260308T150000
DTEND;TZID=America/Toronto:20260426T170000
DTSTAMP:20260419T093557
CREATED:20260223T225813Z
LAST-MODIFIED:20260223T225813Z
UID:1645-1772982000-1777222800@yesandmtl.com
SUMMARY:Musical Improv Level 1
DESCRIPTION:The Wiggle Room: The Wiggle Room\, 3874 Saint-Laurent blvd. \norganized by Musical Improv Montreal \nMusical Improv Comedy is an exciting program that will provide you with the tools required for improvising within the framework of musical games\, invented songs\, short form scenes\, and full length improvised musical theatre shows. \nIn Musical Improv Level 1\, we’ll start to practice improvising music within structures that will make you look like a magician on stage. We will learn the basics of creating songs and applying them to improvised musical scenes. This is a fun and collaborative class where we build skills together as an ensemble\, with ongoing direction and feedback to help you flourish. This course will provide you with the initial training and foundational skills needed to begin building a strong musical improv practice. \nNo prerequisite\, Musical Fun Times is recommended. \nNEXT MUSICAL LEVEL 1: SUNDAYS\, 3:00-5:00pm\nMarch 8\, 15\, 22\, 29\n(No class April 5)\nApril 12\, 19\, 26\n(No class show)\nTaught by Adina Katz with John Gilbert on the keys\nAt The Wiggle Room
URL:https://yesandmtl.com/event/musical-improv-level-1-3/
LOCATION:The Wiggle Room\, 3874 St Laurent Blvd\, Montreal\, Quebec\, H2W 1Y2\, Canada
CATEGORIES:Workshops/Classes
END:VEVENT
BEGIN:VEVENT
DTSTART;TZID=America/Toronto:20260419T110000
DTEND;TZID=America/Toronto:20260419T130000
DTSTAMP:20260419T093557
CREATED:20260329T040014Z
LAST-MODIFIED:20260329T040014Z
UID:1713-1776596400-1776603600@yesandmtl.com
SUMMARY:Every Sunday Improv 4 Breakfast Workshop
DESCRIPTION:Join us at Improv 4 Breakfast where all levels of improv are welcome! \nEvery Sunday we have a new topic to learn. It might be basic technique to advanced theory but we believe anyone can pick it up and add new skills in their repertoire! \nNever tried improv? Come check it out.\nWant more practice? This place is for you!\nWoke up too early on Sunday and are still lying in bed? GET UP AND GET SOME IMPROV 4 BREAKFAST \nEvery Sunday\n11:00am – 1:00pm\n$10 drop in – cash or etrans\n1454 rue atateken
URL:https://yesandmtl.com/event/every-sunday-improv-4-breakfast-workshop-39/
LOCATION:1454 rue Atateken\, 1454 rue Atateken\, Montreal\, Canada
CATEGORIES:Workshops/Classes
END:VEVENT
BEGIN:VEVENT
DTSTART;TZID=America/Toronto:20260419T160000
DTEND;TZID=America/Toronto:20260419T180000
DTSTAMP:20260419T093557
CREATED:20260405T040030Z
LAST-MODIFIED:20260405T040030Z
UID:1765-1776614400-1776621600@yesandmtl.com
SUMMARY:Sunday Night Improv Workshop
DESCRIPTION:Theatre St Catherine: 64 St Catherine St E \n\nOur workshop is a lively\, engaging experience that leads directly into our show. Every Sunday\, you can join us to practice scenes and learn about story-based improv\, guided by a variety of great teachers. Sunday 4-6\, always free.
URL:https://yesandmtl.com/event/sunday-night-improv-workshop-98/
LOCATION:Theatre Saint Catherine\, 264 St Catherine St E\, Montreal\, Quebec\, H2X 1L4\, Canada
CATEGORIES:Workshops/Classes
END:VEVENT
BEGIN:VEVENT
DTSTART;TZID=America/Toronto:20260419T190000
DTEND;TZID=America/Toronto:20260419T210000
DTSTAMP:20260419T093557
CREATED:20260329T040017Z
LAST-MODIFIED:20260329T040017Z
UID:1714-1776625200-1776632400@yesandmtl.com
SUMMARY:Sunday Night Improv
DESCRIPTION:Theatre St Catherine: 64 St Catherine St E \n\nOur show is a natural extension of the workshop. A regular rotation of some of Montreal’s most talented improvisers always perform\, including Sandi Armstrong\, Alain Mercieca\, Heidi Lynne Weeks\, Maité Sinave\, Mariana Vial\, Adalia Pemberton\, Solly Krygier-Paine\, Kristina Guevarra\, Mason Persaud\, Shanthony Exum\, Nicky Fournier and Jeremy Lewis . On top of having seasoned improvisers\, we also have the new birds that walk in for the first time and steal the show. You could just literally show up and get thrown in the fire of a live show with no script! It has led to many amazing walk-in\, home run hitters and creates an awesome “anything can happen” spirit\, which is the backbone to improv. \nAlways entertaining\, Sunday Night Improv promises a good time for audiences who are welcome to contribute to the show through their suggestions and voting.
URL:https://yesandmtl.com/event/sunday-night-improv-96/
LOCATION:Theatre Saint Catherine\, 264 St Catherine St E\, Montreal\, Quebec\, H2X 1L4\, Canada
CATEGORIES:Shows
END:VEVENT
BEGIN:VEVENT
DTSTART;TZID=America/Toronto:20260422T180000
DTEND;TZID=America/Toronto:20260422T193000
DTSTAMP:20260419T093557
CREATED:20260408T040029Z
LAST-MODIFIED:20260408T040029Z
UID:1766-1776880800-1776886200@yesandmtl.com
SUMMARY:M Bar Improv: Wednesday Night Workshops
DESCRIPTION:Hotel M Montreal: 1245 rue Saint-André\norganized by mbarimprov \nThe M BAR welcomes you to its wonderful space every WEDNESDAY NIGHT from 6pm to 7:30pm\, for a fun\, engaging\, and interactive introduction to the skills of improvised comedy. \nWhether you’re a seasoned performer or just curious about improv\, our workshops offer a no-commitment opportunity to explore and enjoy the art of improvisation. \nCome meet new people\, learn new skills\, and share an evening of laughs with us in a relaxed\, and supportive environment. Only $5 per session – see you there! \nHotel M Montreal\n1245 rue St André\nWednesdays\, 6-7:30pm\n@mbarimprov \n‘One-drink minimum’ live comedy show afterwards at 8pm!
URL:https://yesandmtl.com/event/m-bar-improv-wednesday-night-workshops-95/
LOCATION:Quebec
CATEGORIES:Workshops/Classes
END:VEVENT
BEGIN:VEVENT
DTSTART;TZID=America/Toronto:20260423T183000
DTEND;TZID=America/Toronto:20260423T200000
DTSTAMP:20260419T093557
CREATED:20260416T040000Z
LAST-MODIFIED:20260416T040000Z
UID:1767-1776969000-1776974400@yesandmtl.com
SUMMARY:The Weekly
DESCRIPTION:THURSDAYS / 6:30PM / 90 MINS + FREE ENTRY TO THE EVERY THURSDAY IMPROV SHOW \nSwing by for an hour and a half drop-in improv workshop for adults! These exciting drop-in classes are open to improvisers of all levels\, whether you’re just starting out or you want to hone your skills. Practice makes perfect and this weekly workshop will get your head back in the game\, introduce new concepts and give you the workout you need to keep moving forward in improv! \nALL LEVELS WELCOME / BEGINNERS TO EXPERIENCED / AGE 18+\nWorkshops will be taught by experienced improvisers/teachers\, and will be held in Studio B. These drop-ins are instructed in English and tend to fill up fast. Registration is highly recommended to reserve your spot\, and it’s best to do so on Monday or Tuesday. \n$15 IN ADVANCE VIA E-TRANSFER / OR / $20 IN PERSON BEFORE CLASS IF SPACE REMAINS.
URL:https://yesandmtl.com/event/the-weekly-88/
LOCATION:Mile End Improv\, 5337 boul. Saint Laurent\, Montreal\, Quebec\, H2T 1S5\, Canada
CATEGORIES:Shows
END:VEVENT
BEGIN:VEVENT
DTSTART;TZID=America/Toronto:20260423T203000
DTEND;TZID=America/Toronto:20260423T213000
DTSTAMP:20260419T093557
CREATED:20260416T040000Z
LAST-MODIFIED:20260416T040000Z
UID:1768-1776976200-1776979800@yesandmtl.com
SUMMARY:The Every Thursday Improv Show
DESCRIPTION:Mile End Improv / Theatre VME: 5337 Boul. Saint-Laurent #250\, Montréal\, QC H2T 1S5\norganized by Mile End Improv \n\nThere are three guarantees in life. \n1. Death\n2. Taxes\n3. An improv show every Thursday at Theatre VME \nWhether rain\, snow\, holiday or orgy\, you can bet your rear that The Every Thursday Improv show will be live and in living color!\nWatch as we invite some of our brightest and burgeoning players on stage for sixty minutes of improvised comedy.\nThe only thing that ain’t for sure? What we plan on doing! Each week\, the formats\, concepts and plans change. \nOh hell yeah.
URL:https://yesandmtl.com/event/the-every-thursday-improv-show-94/
LOCATION:Mile End Improv\, 5337 boul. Saint Laurent\, Montreal\, Quebec\, H2T 1S5\, Canada
CATEGORIES:Shows
END:VEVENT
BEGIN:VEVENT
DTSTART;TZID=America/Toronto:20260426T110000
DTEND;TZID=America/Toronto:20260426T130000
DTSTAMP:20260419T093557
CREATED:20260405T040014Z
LAST-MODIFIED:20260405T040014Z
UID:1763-1777201200-1777208400@yesandmtl.com
SUMMARY:Every Sunday Improv 4 Breakfast Workshop
DESCRIPTION:Join us at Improv 4 Breakfast where all levels of improv are welcome! \nEvery Sunday we have a new topic to learn. It might be basic technique to advanced theory but we believe anyone can pick it up and add new skills in their repertoire! \nNever tried improv? Come check it out.\nWant more practice? This place is for you!\nWoke up too early on Sunday and are still lying in bed? GET UP AND GET SOME IMPROV 4 BREAKFAST \nEvery Sunday\n11:00am – 1:00pm\n$10 drop in – cash or etrans\n1454 rue atateken
URL:https://yesandmtl.com/event/every-sunday-improv-4-breakfast-workshop-40/
LOCATION:1454 rue Atateken\, 1454 rue Atateken\, Montreal\, Canada
CATEGORIES:Workshops/Classes
END:VEVENT
BEGIN:VEVENT
DTSTART;TZID=America/Toronto:20260426T160000
DTEND;TZID=America/Toronto:20260426T180000
DTSTAMP:20260419T093557
CREATED:20260412T040032Z
LAST-MODIFIED:20260412T040032Z
UID:1773-1777219200-1777226400@yesandmtl.com
SUMMARY:Sunday Night Improv Workshop
DESCRIPTION:Theatre St Catherine: 64 St Catherine St E \n\nOur workshop is a lively\, engaging experience that leads directly into our show. Every Sunday\, you can join us to practice scenes and learn about story-based improv\, guided by a variety of great teachers. Sunday 4-6\, always free.
URL:https://yesandmtl.com/event/sunday-night-improv-workshop-99/
LOCATION:Theatre Saint Catherine\, 264 St Catherine St E\, Montreal\, Quebec\, H2X 1L4\, Canada
CATEGORIES:Workshops/Classes
END:VEVENT
BEGIN:VEVENT
DTSTART;TZID=America/Toronto:20260426T190000
DTEND;TZID=America/Toronto:20260426T210000
DTSTAMP:20260419T093557
CREATED:20260405T040018Z
LAST-MODIFIED:20260405T040018Z
UID:1764-1777230000-1777237200@yesandmtl.com
SUMMARY:Sunday Night Improv
DESCRIPTION:Theatre St Catherine: 64 St Catherine St E \n\nOur show is a natural extension of the workshop. A regular rotation of some of Montreal’s most talented improvisers always perform\, including Sandi Armstrong\, Alain Mercieca\, Heidi Lynne Weeks\, Maité Sinave\, Mariana Vial\, Adalia Pemberton\, Solly Krygier-Paine\, Kristina Guevarra\, Mason Persaud\, Shanthony Exum\, Nicky Fournier and Jeremy Lewis . On top of having seasoned improvisers\, we also have the new birds that walk in for the first time and steal the show. You could just literally show up and get thrown in the fire of a live show with no script! It has led to many amazing walk-in\, home run hitters and creates an awesome “anything can happen” spirit\, which is the backbone to improv. \nAlways entertaining\, Sunday Night Improv promises a good time for audiences who are welcome to contribute to the show through their suggestions and voting.
URL:https://yesandmtl.com/event/sunday-night-improv-97/
LOCATION:Theatre Saint Catherine\, 264 St Catherine St E\, Montreal\, Quebec\, H2X 1L4\, Canada
CATEGORIES:Shows
END:VEVENT
BEGIN:VEVENT
DTSTART;TZID=America/Toronto:20260429T180000
DTEND;TZID=America/Toronto:20260429T193000
DTSTAMP:20260419T093557
CREATED:20260415T040026Z
LAST-MODIFIED:20260415T040026Z
UID:1774-1777485600-1777491000@yesandmtl.com
SUMMARY:M Bar Improv: Wednesday Night Workshops
DESCRIPTION:Hotel M Montreal: 1245 rue Saint-André\norganized by mbarimprov \nThe M BAR welcomes you to its wonderful space every WEDNESDAY NIGHT from 6pm to 7:30pm\, for a fun\, engaging\, and interactive introduction to the skills of improvised comedy. \nWhether you’re a seasoned performer or just curious about improv\, our workshops offer a no-commitment opportunity to explore and enjoy the art of improvisation. \nCome meet new people\, learn new skills\, and share an evening of laughs with us in a relaxed\, and supportive environment. Only $5 per session – see you there! \nHotel M Montreal\n1245 rue St André\nWednesdays\, 6-7:30pm\n@mbarimprov \n‘One-drink minimum’ live comedy show afterwards at 8pm!
URL:https://yesandmtl.com/event/m-bar-improv-wednesday-night-workshops-96/
LOCATION:Quebec
CATEGORIES:Workshops/Classes
END:VEVENT
BEGIN:VEVENT
DTSTART;TZID=America/Toronto:20260503T110000
DTEND;TZID=America/Toronto:20260503T130000
DTSTAMP:20260419T093557
CREATED:20260412T040010Z
LAST-MODIFIED:20260412T040010Z
UID:1771-1777806000-1777813200@yesandmtl.com
SUMMARY:Every Sunday Improv 4 Breakfast Workshop
DESCRIPTION:Join us at Improv 4 Breakfast where all levels of improv are welcome! \nEvery Sunday we have a new topic to learn. It might be basic technique to advanced theory but we believe anyone can pick it up and add new skills in their repertoire! \nNever tried improv? Come check it out.\nWant more practice? This place is for you!\nWoke up too early on Sunday and are still lying in bed? GET UP AND GET SOME IMPROV 4 BREAKFAST \nEvery Sunday\n11:00am – 1:00pm\n$10 drop in – cash or etrans\n1454 rue atateken
URL:https://yesandmtl.com/event/every-sunday-improv-4-breakfast-workshop-41/
LOCATION:1454 rue Atateken\, 1454 rue Atateken\, Montreal\, Canada
CATEGORIES:Workshops/Classes
END:VEVENT
BEGIN:VEVENT
DTSTART;TZID=America/Toronto:20260503T160000
DTEND;TZID=America/Toronto:20260503T180000
DTSTAMP:20260419T093557
CREATED:20260419T040034Z
LAST-MODIFIED:20260419T040034Z
UID:1806-1777824000-1777831200@yesandmtl.com
SUMMARY:Sunday Night Improv Workshop
DESCRIPTION:Theatre St Catherine: 64 St Catherine St E \n\nOur workshop is a lively\, engaging experience that leads directly into our show. Every Sunday\, you can join us to practice scenes and learn about story-based improv\, guided by a variety of great teachers. Sunday 4-6\, always free.
URL:https://yesandmtl.com/event/sunday-night-improv-workshop-100/
LOCATION:Theatre Saint Catherine\, 264 St Catherine St E\, Montreal\, Quebec\, H2X 1L4\, Canada
CATEGORIES:Workshops/Classes
END:VEVENT
BEGIN:VEVENT
DTSTART;TZID=America/Toronto:20260503T190000
DTEND;TZID=America/Toronto:20260503T210000
DTSTAMP:20260419T093557
CREATED:20260412T040015Z
LAST-MODIFIED:20260412T040015Z
UID:1772-1777834800-1777842000@yesandmtl.com
SUMMARY:Sunday Night Improv
DESCRIPTION:Theatre St Catherine: 64 St Catherine St E \n\nOur show is a natural extension of the workshop. A regular rotation of some of Montreal’s most talented improvisers always perform\, including Sandi Armstrong\, Alain Mercieca\, Heidi Lynne Weeks\, Maité Sinave\, Mariana Vial\, Adalia Pemberton\, Solly Krygier-Paine\, Kristina Guevarra\, Mason Persaud\, Shanthony Exum\, Nicky Fournier and Jeremy Lewis . On top of having seasoned improvisers\, we also have the new birds that walk in for the first time and steal the show. You could just literally show up and get thrown in the fire of a live show with no script! It has led to many amazing walk-in\, home run hitters and creates an awesome “anything can happen” spirit\, which is the backbone to improv. \nAlways entertaining\, Sunday Night Improv promises a good time for audiences who are welcome to contribute to the show through their suggestions and voting.
URL:https://yesandmtl.com/event/sunday-night-improv-98/
LOCATION:Theatre Saint Catherine\, 264 St Catherine St E\, Montreal\, Quebec\, H2X 1L4\, Canada
CATEGORIES:Shows
END:VEVENT
BEGIN:VEVENT
DTSTART;TZID=America/Toronto:20260510T110000
DTEND;TZID=America/Toronto:20260510T130000
DTSTAMP:20260419T093557
CREATED:20260419T040018Z
LAST-MODIFIED:20260419T040018Z
UID:1805-1778410800-1778418000@yesandmtl.com
SUMMARY:Every Sunday Improv 4 Breakfast Workshop
DESCRIPTION:Join us at Improv 4 Breakfast where all levels of improv are welcome! \nEvery Sunday we have a new topic to learn. It might be basic technique to advanced theory but we believe anyone can pick it up and add new skills in their repertoire! \nNever tried improv? Come check it out.\nWant more practice? This place is for you!\nWoke up too early on Sunday and are still lying in bed? GET UP AND GET SOME IMPROV 4 BREAKFAST \nEvery Sunday\n11:00am – 1:00pm\n$10 drop in – cash or etrans\n1454 rue atateken
URL:https://yesandmtl.com/event/every-sunday-improv-4-breakfast-workshop-42/
LOCATION:1454 rue Atateken\, 1454 rue Atateken\, Montreal\, Canada
CATEGORIES:Workshops/Classes
END:VEVENT
BEGIN:VEVENT
DTSTART;TZID=America/Toronto:20260510T190000
DTEND;TZID=America/Toronto:20260510T210000
DTSTAMP:20260419T093557
CREATED:20260419T040013Z
LAST-MODIFIED:20260419T040013Z
UID:1804-1778439600-1778446800@yesandmtl.com
SUMMARY:Sunday Night Improv
DESCRIPTION:Theatre St Catherine: 64 St Catherine St E \n\nOur show is a natural extension of the workshop. A regular rotation of some of Montreal’s most talented improvisers always perform\, including Sandi Armstrong\, Alain Mercieca\, Heidi Lynne Weeks\, Maité Sinave\, Mariana Vial\, Adalia Pemberton\, Solly Krygier-Paine\, Kristina Guevarra\, Mason Persaud\, Shanthony Exum\, Nicky Fournier and Jeremy Lewis . On top of having seasoned improvisers\, we also have the new birds that walk in for the first time and steal the show. You could just literally show up and get thrown in the fire of a live show with no script! It has led to many amazing walk-in\, home run hitters and creates an awesome “anything can happen” spirit\, which is the backbone to improv. \nAlways entertaining\, Sunday Night Improv promises a good time for audiences who are welcome to contribute to the show through their suggestions and voting.
URL:https://yesandmtl.com/event/sunday-night-improv-99/
LOCATION:Theatre Saint Catherine\, 264 St Catherine St E\, Montreal\, Quebec\, H2X 1L4\, Canada
CATEGORIES:Shows
END:VEVENT
BEGIN:VEVENT
DTSTART;TZID=America/Toronto:20260612T183000
DTEND;TZID=America/Toronto:20260612T193000
DTSTAMP:20260419T093557
CREATED:20260403T152121Z
LAST-MODIFIED:20260403T152121Z
UID:1759-1781289000-1781292600@yesandmtl.com
SUMMARY:Flip Flop Fringe
DESCRIPTION:Petit Campus: 57 rue Prince-Arthur E.\, Montréal\, QC\norganized by Yes and MTL \nFlip Flop is an improvised game show where you decide who wins and who loses. Three teams go head-to-head\, battling for your love through a series of hilarious (and occasionally questionable) challenges. Is it a flip or a flop… it’s all up to you!
URL:https://yesandmtl.com/event/flip-flop-12-2-5/
LOCATION:Quebec
CATEGORIES:Shows
END:VEVENT
BEGIN:VEVENT
DTSTART;TZID=America/Toronto:20260614T221500
DTEND;TZID=America/Toronto:20260614T231500
DTSTAMP:20260419T093557
CREATED:20260403T150029Z
LAST-MODIFIED:20260403T151143Z
UID:1742-1781475300-1781478900@yesandmtl.com
SUMMARY:Flip Flop Fringe
DESCRIPTION:Petit Campus: 57 rue Prince-Arthur E.\, Montréal\, QC\norganized by Yes and MTL \nFlip Flop is an improvised game show where you decide who wins and who loses. Three teams go head-to-head\, battling for your love through a series of hilarious (and occasionally questionable) challenges. Is it a flip or a flop… it’s all up to you!
URL:https://yesandmtl.com/event/flip-flop-12-2/
LOCATION:Petit Campus\, 57-b Rue Prince-Arthur E\, Montreal\, Quebec\, H2X 1B4\, Canada
CATEGORIES:Shows
END:VEVENT
BEGIN:VEVENT
DTSTART;TZID=America/Toronto:20260617T190000
DTEND;TZID=America/Toronto:20260617T200000
DTSTAMP:20260419T093557
CREATED:20260403T151349Z
LAST-MODIFIED:20260403T151417Z
UID:1752-1781722800-1781726400@yesandmtl.com
SUMMARY:Flip Flop Fringe
DESCRIPTION:Petit Campus: 57 rue Prince-Arthur E.\, Montréal\, QC\norganized by Yes and MTL \nFlip Flop is an improvised game show where you decide who wins and who loses. Three teams go head-to-head\, battling for your love through a series of hilarious (and occasionally questionable) challenges. Is it a flip or a flop… it’s all up to you!
URL:https://yesandmtl.com/event/flip-flop-12-2-4/
LOCATION:Quebec
CATEGORIES:Shows
END:VEVENT
BEGIN:VEVENT
DTSTART;TZID=America/Toronto:20260618T171500
DTEND;TZID=America/Toronto:20260618T181500
DTSTAMP:20260419T093557
CREATED:20260403T151514Z
LAST-MODIFIED:20260403T151514Z
UID:1749-1781802900-1781806500@yesandmtl.com
SUMMARY:Flip Flop Fringe
DESCRIPTION:Petit Campus: 57 rue Prince-Arthur E.\, Montréal\, QC\norganized by Yes and MTL \nFlip Flop is an improvised game show where you decide who wins and who loses. Three teams go head-to-head\, battling for your love through a series of hilarious (and occasionally questionable) challenges. Is it a flip or a flop… it’s all up to you!
URL:https://yesandmtl.com/event/flip-flop-12-2-1/
LOCATION:Quebec
CATEGORIES:Shows
END:VEVENT
BEGIN:VEVENT
DTSTART;TZID=America/Toronto:20260620T203000
DTEND;TZID=America/Toronto:20260620T213000
DTSTAMP:20260419T093557
CREATED:20260403T151624Z
LAST-MODIFIED:20260403T151624Z
UID:1751-1781987400-1781991000@yesandmtl.com
SUMMARY:Flip Flop Fringe
DESCRIPTION:Petit Campus: 57 rue Prince-Arthur E.\, Montréal\, QC\norganized by Yes and MTL \nFlip Flop is an improvised game show where you decide who wins and who loses. Three teams go head-to-head\, battling for your love through a series of hilarious (and occasionally questionable) challenges. Is it a flip or a flop… it’s all up to you!
URL:https://yesandmtl.com/event/flip-flop-12-2-3/
LOCATION:Quebec
CATEGORIES:Shows
END:VEVENT
BEGIN:VEVENT
DTSTART;TZID=America/Toronto:20260621T123000
DTEND;TZID=America/Toronto:20260621T133000
DTSTAMP:20260419T093557
CREATED:20260403T151743Z
LAST-MODIFIED:20260403T151743Z
UID:1750-1782045000-1782048600@yesandmtl.com
SUMMARY:Flip Flop Fringe
DESCRIPTION:Petit Campus: 57 rue Prince-Arthur E.\, Montréal\, QC\norganized by Yes and MTL \nFlip Flop is an improvised game show where you decide who wins and who loses. Three teams go head-to-head\, battling for your love through a series of hilarious (and occasionally questionable) challenges. Is it a flip or a flop… it’s all up to you!
URL:https://yesandmtl.com/event/flip-flop-12-2-2/
LOCATION:Quebec
CATEGORIES:Shows
END:VEVENT
END:VCALENDAR