BEGIN:VCALENDAR
VERSION:2.0
PRODID:-//Yes And MTL - ECPv6.15.17.1//NONSGML v1.0//EN
CALSCALE:GREGORIAN
METHOD:PUBLISH
X-ORIGINAL-URL:https://yesandmtl.com
X-WR-CALDESC:Events for Yes And MTL
REFRESH-INTERVAL;VALUE=DURATION:PT1H
X-Robots-Tag:noindex
X-PUBLISHED-TTL:PT1H
BEGIN:VTIMEZONE
TZID:America/Toronto
BEGIN:DAYLIGHT
TZOFFSETFROM:-0500
TZOFFSETTO:-0400
TZNAME:EDT
DTSTART:20230312T070000
END:DAYLIGHT
BEGIN:STANDARD
TZOFFSETFROM:-0400
TZOFFSETTO:-0500
TZNAME:EST
DTSTART:20231105T060000
END:STANDARD
BEGIN:DAYLIGHT
TZOFFSETFROM:-0500
TZOFFSETTO:-0400
TZNAME:EDT
DTSTART:20240310T070000
END:DAYLIGHT
BEGIN:STANDARD
TZOFFSETFROM:-0400
TZOFFSETTO:-0500
TZNAME:EST
DTSTART:20241103T060000
END:STANDARD
BEGIN:DAYLIGHT
TZOFFSETFROM:-0500
TZOFFSETTO:-0400
TZNAME:EDT
DTSTART:20250309T070000
END:DAYLIGHT
BEGIN:STANDARD
TZOFFSETFROM:-0400
TZOFFSETTO:-0500
TZNAME:EST
DTSTART:20251102T060000
END:STANDARD
END:VTIMEZONE
BEGIN:VEVENT
DTSTART;TZID=America/Toronto:20241003T190000
DTEND;TZID=America/Toronto:20241003T200000
DTSTAMP:20260424T020110
CREATED:20240822T162010Z
LAST-MODIFIED:20240822T162010Z
UID:324-1727982000-1727985600@yesandmtl.com
SUMMARY:Rewrite Jam
DESCRIPTION:Montreal Improv: 3716 Notre-Dame St W\, Montreal\, Quebec H4C 1P7 \norganized by Yes And Mtl \nGet ready to unleash your creativity at the Rewrite Jam\, where the stage is yours to rewrite the rules of TV and film—on the spot! In this one-of-a-kind improv experience\, you’ll jump into the action as directors\, writers\, and actors team up to create brand-new movies and TV shows! \nThe jam kicks off with a set of directors/writers pitching their wildest ideas (based on the audience’s suggestion)\, and the actors bring them to life. But here’s the twist—at any moment\, the directors can ring a bell and flip the script\, taking the scene in an entirely new direction. And when the scene wraps\, the actors don’t just take a bow—they become the writers\, ready to dream up the next blockbuster hit. \nThis concept was originally created by Kim Alu at NYC’s People’s Improv Theater (PIT) who generously granted permission to bring it to Montreal. Now\, it’s your turn to step into the spotlight and see where your imagination can take you!
URL:https://yesandmtl.com/event/rewrite-jam/
LOCATION:Quebec
CATEGORIES:Jams
END:VEVENT
END:VCALENDAR