BEGIN:VCALENDAR
VERSION:2.0
PRODID:-//Yes And MTL - ECPv6.15.17.1//NONSGML v1.0//EN
CALSCALE:GREGORIAN
METHOD:PUBLISH
X-WR-CALNAME:Yes And MTL
X-ORIGINAL-URL:https://yesandmtl.com
X-WR-CALDESC:Events for Yes And MTL
REFRESH-INTERVAL;VALUE=DURATION:PT1H
X-Robots-Tag:noindex
X-PUBLISHED-TTL:PT1H
BEGIN:VTIMEZONE
TZID:America/Toronto
BEGIN:DAYLIGHT
TZOFFSETFROM:-0500
TZOFFSETTO:-0400
TZNAME:EDT
DTSTART:20230312T070000
END:DAYLIGHT
BEGIN:STANDARD
TZOFFSETFROM:-0400
TZOFFSETTO:-0500
TZNAME:EST
DTSTART:20231105T060000
END:STANDARD
BEGIN:DAYLIGHT
TZOFFSETFROM:-0500
TZOFFSETTO:-0400
TZNAME:EDT
DTSTART:20240310T070000
END:DAYLIGHT
BEGIN:STANDARD
TZOFFSETFROM:-0400
TZOFFSETTO:-0500
TZNAME:EST
DTSTART:20241103T060000
END:STANDARD
BEGIN:DAYLIGHT
TZOFFSETFROM:-0500
TZOFFSETTO:-0400
TZNAME:EDT
DTSTART:20250309T070000
END:DAYLIGHT
BEGIN:STANDARD
TZOFFSETFROM:-0400
TZOFFSETTO:-0500
TZNAME:EST
DTSTART:20251102T060000
END:STANDARD
BEGIN:DAYLIGHT
TZOFFSETFROM:-0500
TZOFFSETTO:-0400
TZNAME:EDT
DTSTART:20260308T070000
END:DAYLIGHT
BEGIN:STANDARD
TZOFFSETFROM:-0400
TZOFFSETTO:-0500
TZNAME:EST
DTSTART:20261101T060000
END:STANDARD
END:VTIMEZONE
BEGIN:VEVENT
DTSTART;TZID=America/Toronto:20250928T223000
DTEND;TZID=America/Toronto:20250928T233000
DTSTAMP:20260422T174316
CREATED:20250909T022646Z
LAST-MODIFIED:20250917T131853Z
UID:1389-1759098600-1759102200@yesandmtl.com
SUMMARY:LGYA End-of-Festival Jam Session
DESCRIPTION:La Comedie: 1113 Boul. de Maisonneuve E\norganized by Le Grand Yes And \nJoin us for one last jam before Le Grand Yes And heads into hibernation until next year! \nWant to make sure you play? We have 15 spots that you can sign up for to guarantee you’re on stage during this event! \nBut don’t worry – we’ll have walk in spots available as well! \nHosted by Improv 4 Breakfast
URL:https://yesandmtl.com/event/lgya-end-of-festival-jam-session/
LOCATION:Théâtre La Comédie de Montréal\, 1113 Boul. de Maisonneuve E\,\, Montreal\, Quebec\, H2L 1Z8\, Canada
CATEGORIES:Jams
END:VEVENT
BEGIN:VEVENT
DTSTART;TZID=America/Toronto:20250927T223000
DTEND;TZID=America/Toronto:20250927T233000
DTSTAMP:20260422T174316
CREATED:20250909T022243Z
LAST-MODIFIED:20250917T131559Z
UID:1386-1759012200-1759015800@yesandmtl.com
SUMMARY:LGYA Jam Session
DESCRIPTION:La Comedie: 1113 Boul. de Maisonneuve E\norganized by Le Grand Yes And \nNo secrets about this event! Join us for an open jam session! \nWant to make sure you play? We have 15 spots that you can sign up for to guarantee you’re on stage during this event! \nBut don’t worry – we’ll have walk in spots available as well! \nHosted by Improv 4 Breakfast
URL:https://yesandmtl.com/event/lgya-jam-session/
LOCATION:Théâtre La Comédie de Montréal\, 1113 Boul. de Maisonneuve E\,\, Montreal\, Quebec\, H2L 1Z8\, Canada
CATEGORIES:Jams
END:VEVENT
BEGIN:VEVENT
DTSTART;TZID=America/Toronto:20250809T150000
DTEND;TZID=America/Toronto:20250809T170000
DTSTAMP:20260422T174316
CREATED:20250805T202311Z
LAST-MODIFIED:20250805T202311Z
UID:1288-1754751600-1754758800@yesandmtl.com
SUMMARY:Improv at the Park
DESCRIPTION:La Fontaine Park: https://maps.app.goo.gl/g273UL1pkcEotJd28 \norganized by Improv at the Park \nA community facilitated improv jam held at La Fontaine Park
URL:https://yesandmtl.com/event/improv-at-the-park/
LOCATION:Other Venue
CATEGORIES:Jams
END:VEVENT
BEGIN:VEVENT
DTSTART;TZID=America/Toronto:20250626T190000
DTEND;TZID=America/Toronto:20250626T200000
DTSTAMP:20260422T174316
CREATED:20250602T145448Z
LAST-MODIFIED:20250602T150045Z
UID:879-1750964400-1750968000@yesandmtl.com
SUMMARY:Show Up and Go Up
DESCRIPTION:We are trying some open jam sessions in June with the option of you coming with your troupe as well! Hope to see you there! \norganized by Montreal Improv Community Shows \nMontreal Improv-3716 Notre-Dame St W\, Montreal\, Quebec H4C 1P7
URL:https://yesandmtl.com/event/show-up-and-go-up-2/
LOCATION:Quebec
CATEGORIES:Jams
END:VEVENT
BEGIN:VEVENT
DTSTART;TZID=America/Toronto:20250605T190000
DTEND;TZID=America/Toronto:20250605T200000
DTSTAMP:20260422T174316
CREATED:20250602T123424Z
LAST-MODIFIED:20250602T123424Z
UID:820-1749150000-1749153600@yesandmtl.com
SUMMARY:Show Up and Go Up
DESCRIPTION:Montreal Improv: 3716 Notre-Dame St W\, Montreal\, Quebec H4C 1P7 \norganized by Montreal Improv \nWe are trying some open jam sessions in June with the option of you coming with your troupe as well! Hope to see you there!
URL:https://yesandmtl.com/event/show-up-and-go-up/
LOCATION:Quebec
CATEGORIES:Jams
END:VEVENT
BEGIN:VEVENT
DTSTART;TZID=America/Toronto:20241003T190000
DTEND;TZID=America/Toronto:20241003T200000
DTSTAMP:20260422T174316
CREATED:20240822T162010Z
LAST-MODIFIED:20240822T162010Z
UID:324-1727982000-1727985600@yesandmtl.com
SUMMARY:Rewrite Jam
DESCRIPTION:Montreal Improv: 3716 Notre-Dame St W\, Montreal\, Quebec H4C 1P7 \norganized by Yes And Mtl \nGet ready to unleash your creativity at the Rewrite Jam\, where the stage is yours to rewrite the rules of TV and film—on the spot! In this one-of-a-kind improv experience\, you’ll jump into the action as directors\, writers\, and actors team up to create brand-new movies and TV shows! \nThe jam kicks off with a set of directors/writers pitching their wildest ideas (based on the audience’s suggestion)\, and the actors bring them to life. But here’s the twist—at any moment\, the directors can ring a bell and flip the script\, taking the scene in an entirely new direction. And when the scene wraps\, the actors don’t just take a bow—they become the writers\, ready to dream up the next blockbuster hit. \nThis concept was originally created by Kim Alu at NYC’s People’s Improv Theater (PIT) who generously granted permission to bring it to Montreal. Now\, it’s your turn to step into the spotlight and see where your imagination can take you!
URL:https://yesandmtl.com/event/rewrite-jam/
LOCATION:Quebec
CATEGORIES:Jams
END:VEVENT
END:VCALENDAR