BEGIN:VCALENDAR
VERSION:2.0
PRODID:-//Yes And MTL - ECPv6.15.17.1//NONSGML v1.0//EN
CALSCALE:GREGORIAN
METHOD:PUBLISH
X-ORIGINAL-URL:https://yesandmtl.com
X-WR-CALDESC:Events for Yes And MTL
REFRESH-INTERVAL;VALUE=DURATION:PT1H
X-Robots-Tag:noindex
X-PUBLISHED-TTL:PT1H
BEGIN:VTIMEZONE
TZID:America/Toronto
BEGIN:DAYLIGHT
TZOFFSETFROM:-0500
TZOFFSETTO:-0400
TZNAME:EDT
DTSTART:20240310T070000
END:DAYLIGHT
BEGIN:STANDARD
TZOFFSETFROM:-0400
TZOFFSETTO:-0500
TZNAME:EST
DTSTART:20241103T060000
END:STANDARD
BEGIN:DAYLIGHT
TZOFFSETFROM:-0500
TZOFFSETTO:-0400
TZNAME:EDT
DTSTART:20250309T070000
END:DAYLIGHT
BEGIN:STANDARD
TZOFFSETFROM:-0400
TZOFFSETTO:-0500
TZNAME:EST
DTSTART:20251102T060000
END:STANDARD
BEGIN:DAYLIGHT
TZOFFSETFROM:-0500
TZOFFSETTO:-0400
TZNAME:EDT
DTSTART:20260308T070000
END:DAYLIGHT
BEGIN:STANDARD
TZOFFSETFROM:-0400
TZOFFSETTO:-0500
TZNAME:EST
DTSTART:20261101T060000
END:STANDARD
END:VTIMEZONE
BEGIN:VEVENT
DTSTART;TZID=America/Toronto:20250103T200000
DTEND;TZID=America/Toronto:20250103T210000
DTSTAMP:20260422T213748
CREATED:20241227T141231Z
LAST-MODIFIED:20241227T141231Z
UID:564-1735934400-1735938000@yesandmtl.com
SUMMARY:Flip Flop
DESCRIPTION:Montreal Improv: 3716 Notre Dame \norganized by yes and mtl \nJoin us for an electrifying night where improvisers of all levels come together for hijinks in a zany competition! Watch as teams of three\, led by our charismatic captains\, go head-to-head in hilarious challenges. The best part? You\, the audience\, get to vote and decide who scores the points! Plus\, don’t miss the wild card round for some extra fun and bonus points. Will it be a flip or a flop? 🤔🔥
URL:https://yesandmtl.com/event/flip-flop-3/
LOCATION:Quebec
CATEGORIES:Shows
END:VEVENT
END:VCALENDAR