BEGIN:VCALENDAR
VERSION:2.0
PRODID:-//Yes And MTL - ECPv6.15.17.1//NONSGML v1.0//EN
CALSCALE:GREGORIAN
METHOD:PUBLISH
X-WR-CALNAME:Yes And MTL
X-ORIGINAL-URL:https://yesandmtl.com
X-WR-CALDESC:Events for Yes And MTL
REFRESH-INTERVAL;VALUE=DURATION:PT1H
X-Robots-Tag:noindex
X-PUBLISHED-TTL:PT1H
BEGIN:VTIMEZONE
TZID:America/Toronto
BEGIN:DAYLIGHT
TZOFFSETFROM:-0500
TZOFFSETTO:-0400
TZNAME:EDT
DTSTART:20240310T070000
END:DAYLIGHT
BEGIN:STANDARD
TZOFFSETFROM:-0400
TZOFFSETTO:-0500
TZNAME:EST
DTSTART:20241103T060000
END:STANDARD
BEGIN:DAYLIGHT
TZOFFSETFROM:-0500
TZOFFSETTO:-0400
TZNAME:EDT
DTSTART:20250309T070000
END:DAYLIGHT
BEGIN:STANDARD
TZOFFSETFROM:-0400
TZOFFSETTO:-0500
TZNAME:EST
DTSTART:20251102T060000
END:STANDARD
BEGIN:DAYLIGHT
TZOFFSETFROM:-0500
TZOFFSETTO:-0400
TZNAME:EDT
DTSTART:20260308T070000
END:DAYLIGHT
BEGIN:STANDARD
TZOFFSETFROM:-0400
TZOFFSETTO:-0500
TZNAME:EST
DTSTART:20261101T060000
END:STANDARD
END:VTIMEZONE
BEGIN:VEVENT
DTSTART;TZID=America/Toronto:20250111T200000
DTEND;TZID=America/Toronto:20250111T210000
DTSTAMP:20260422T213521
CREATED:20250103T180843Z
LAST-MODIFIED:20250103T180843Z
UID:578-1736625600-1736629200@yesandmtl.com
SUMMARY:What the F#@k is that Sound?
DESCRIPTION:Impro Montréal / Montreal Improv: 3716 Rue Notre-Dame Ouest Montréal\, QC H4C 1P7 \norganized by Questionable Productions \nGet ready for a night of laughs and surprises at What the F#@k is that Sound? \nThis one-of-a-kind show brings you the best improv duos in the city—but here’s the twist: every sound effect\, from a creaking door to an alien spaceship\, will be made live by the chaotic geniuses of Questionable Decisions. \nWhether it’s the pitter-patter of rain\, the roar of a dinosaur\, or the unmistakable “thwack” of a perfectly-timed slap\, our sound makers are ready to take you on an unpredictable auditory journey.
URL:https://yesandmtl.com/event/what-the-fk-is-that-sound/
LOCATION:Quebec
CATEGORIES:Shows
END:VEVENT
END:VCALENDAR