BEGIN:VCALENDAR
VERSION:2.0
PRODID:-//Yes And MTL - ECPv6.15.17.1//NONSGML v1.0//EN
CALSCALE:GREGORIAN
METHOD:PUBLISH
X-WR-CALNAME:Yes And MTL
X-ORIGINAL-URL:https://yesandmtl.com
X-WR-CALDESC:Events for Yes And MTL
REFRESH-INTERVAL;VALUE=DURATION:PT1H
X-Robots-Tag:noindex
X-PUBLISHED-TTL:PT1H
BEGIN:VTIMEZONE
TZID:America/Toronto
BEGIN:DAYLIGHT
TZOFFSETFROM:-0500
TZOFFSETTO:-0400
TZNAME:EDT
DTSTART:20240310T070000
END:DAYLIGHT
BEGIN:STANDARD
TZOFFSETFROM:-0400
TZOFFSETTO:-0500
TZNAME:EST
DTSTART:20241103T060000
END:STANDARD
BEGIN:DAYLIGHT
TZOFFSETFROM:-0500
TZOFFSETTO:-0400
TZNAME:EDT
DTSTART:20250309T070000
END:DAYLIGHT
BEGIN:STANDARD
TZOFFSETFROM:-0400
TZOFFSETTO:-0500
TZNAME:EST
DTSTART:20251102T060000
END:STANDARD
BEGIN:DAYLIGHT
TZOFFSETFROM:-0500
TZOFFSETTO:-0400
TZNAME:EDT
DTSTART:20260308T070000
END:DAYLIGHT
BEGIN:STANDARD
TZOFFSETFROM:-0400
TZOFFSETTO:-0500
TZNAME:EST
DTSTART:20261101T060000
END:STANDARD
END:VTIMEZONE
BEGIN:VEVENT
DTSTART;TZID=America/Toronto:20250117T200000
DTEND;TZID=America/Toronto:20250117T210000
DTSTAMP:20260422T213332
CREATED:20250103T143020Z
LAST-MODIFIED:20250103T143020Z
UID:577-1737144000-1737147600@yesandmtl.com
SUMMARY:Gravitas: A Narrative Improv Show
DESCRIPTION:Montreal Improv: 3716 rue Notre-Dame Ouest \norganized by Dead Man Productions \nIn Gravitas: A Narrative Improv Show\, performers will improvise an Oscar-bait movie on stage\, with all the overwrought emotion and melodramatic acting you’d expect. Will it be a bombastic historical drama? A musical biopic? A too-cool-for-school arthouse darling? You’ll help our performers decide\, and they’ll make up some hilarious improv comedy on the spot for your viewing pleasure.
URL:https://yesandmtl.com/event/gravitas-a-narrative-improv-show/
LOCATION:Quebec
CATEGORIES:Shows
END:VEVENT
END:VCALENDAR