BEGIN:VCALENDAR
VERSION:2.0
PRODID:-//Yes And MTL - ECPv6.15.17.1//NONSGML v1.0//EN
CALSCALE:GREGORIAN
METHOD:PUBLISH
X-WR-CALNAME:Yes And MTL
X-ORIGINAL-URL:https://yesandmtl.com
X-WR-CALDESC:Events for Yes And MTL
REFRESH-INTERVAL;VALUE=DURATION:PT1H
X-Robots-Tag:noindex
X-PUBLISHED-TTL:PT1H
BEGIN:VTIMEZONE
TZID:America/Toronto
BEGIN:DAYLIGHT
TZOFFSETFROM:-0500
TZOFFSETTO:-0400
TZNAME:EDT
DTSTART:20240310T070000
END:DAYLIGHT
BEGIN:STANDARD
TZOFFSETFROM:-0400
TZOFFSETTO:-0500
TZNAME:EST
DTSTART:20241103T060000
END:STANDARD
BEGIN:DAYLIGHT
TZOFFSETFROM:-0500
TZOFFSETTO:-0400
TZNAME:EDT
DTSTART:20250309T070000
END:DAYLIGHT
BEGIN:STANDARD
TZOFFSETFROM:-0400
TZOFFSETTO:-0500
TZNAME:EST
DTSTART:20251102T060000
END:STANDARD
BEGIN:DAYLIGHT
TZOFFSETFROM:-0500
TZOFFSETTO:-0400
TZNAME:EDT
DTSTART:20260308T070000
END:DAYLIGHT
BEGIN:STANDARD
TZOFFSETFROM:-0400
TZOFFSETTO:-0500
TZNAME:EST
DTSTART:20261101T060000
END:STANDARD
END:VTIMEZONE
BEGIN:VEVENT
DTSTART;TZID=America/Toronto:20250124T200000
DTEND;TZID=America/Toronto:20250124T210000
DTSTAMP:20260422T213450
CREATED:20250120T144347Z
LAST-MODIFIED:20250120T144347Z
UID:609-1737748800-1737752400@yesandmtl.com
SUMMARY:Improv Match
DESCRIPTION:Montreal Improv: 3716 rue Notre-Dame Ouest \norganized by Fraud Department \nTwo teams of improvisers face off in a series of unpredictable challenges\, from quick-fire scenes to absurd games! \nPLAYERS \nDan Fonda\, Alex Brault\, Selene Bance\, Sarah Kuiper & Christine Kor \nvs \nCosta Tsimiklis\, Lucie Gee\, Stevie Laskaris\, Sam Dignan\, Christina Caro \nWith Alex Dussault as Referee
URL:https://yesandmtl.com/event/improv-match/
LOCATION:Quebec
CATEGORIES:Shows
END:VEVENT
BEGIN:VEVENT
DTSTART;TZID=America/Toronto:20250124T203000
DTEND;TZID=America/Toronto:20250124T213000
DTSTAMP:20260422T213450
CREATED:20241228T214747Z
LAST-MODIFIED:20241228T214747Z
UID:566-1737750600-1737754200@yesandmtl.com
SUMMARY:Treats at Mile End Improv
DESCRIPTION:Mile End Improv: 5337 boul. Saint Laurent \norganized by Mojo Comedy Co. \nFour tasty acts\, one sweet show! TREATS is no-frills\, all-bangers improv from Mojo Comedy Co. and friends. Indulge with some of the funniest performers and groups in the city! \nTreat yourself. \nDATE/TIME \nFriday\, January 24th at 8:30 PM \nPRICE \n$8 in advance \n$12 at the door \nFree for Mile End Improv students \nLOCATION \n5337 boul. Saint Laurent \nAGES \n18+ – grown-up humor which may contain mature themes \nACCESSIBILITY \nThis venue is only accessible via a flight of stairs with a handrail on the side. The two bathrooms on site are not wheelchair-accessible.
URL:https://yesandmtl.com/event/treats-at-mile-end-improv/
LOCATION:Quebec
CATEGORIES:Shows
END:VEVENT
END:VCALENDAR