BEGIN:VCALENDAR
VERSION:2.0
PRODID:-//Yes And MTL - ECPv6.15.17.1//NONSGML v1.0//EN
CALSCALE:GREGORIAN
METHOD:PUBLISH
X-ORIGINAL-URL:https://yesandmtl.com
X-WR-CALDESC:Events for Yes And MTL
REFRESH-INTERVAL;VALUE=DURATION:PT1H
X-Robots-Tag:noindex
X-PUBLISHED-TTL:PT1H
BEGIN:VTIMEZONE
TZID:America/Toronto
BEGIN:DAYLIGHT
TZOFFSETFROM:-0500
TZOFFSETTO:-0400
TZNAME:EDT
DTSTART:20240310T070000
END:DAYLIGHT
BEGIN:STANDARD
TZOFFSETFROM:-0400
TZOFFSETTO:-0500
TZNAME:EST
DTSTART:20241103T060000
END:STANDARD
BEGIN:DAYLIGHT
TZOFFSETFROM:-0500
TZOFFSETTO:-0400
TZNAME:EDT
DTSTART:20250309T070000
END:DAYLIGHT
BEGIN:STANDARD
TZOFFSETFROM:-0400
TZOFFSETTO:-0500
TZNAME:EST
DTSTART:20251102T060000
END:STANDARD
BEGIN:DAYLIGHT
TZOFFSETFROM:-0500
TZOFFSETTO:-0400
TZNAME:EDT
DTSTART:20260308T070000
END:DAYLIGHT
BEGIN:STANDARD
TZOFFSETFROM:-0400
TZOFFSETTO:-0500
TZNAME:EST
DTSTART:20261101T060000
END:STANDARD
END:VTIMEZONE
BEGIN:VEVENT
DTSTART;TZID=America/Toronto:20250214T213000
DTEND;TZID=America/Toronto:20250214T223000
DTSTAMP:20260422T201258
CREATED:20250117T230346Z
LAST-MODIFIED:20250117T230346Z
UID:606-1739568600-1739572200@yesandmtl.com
SUMMARY:At The Movies: Romantic Comedy Edition
DESCRIPTION:Montreal Improv: 3716 rue Notre Dame Ouest \norganized by Mojo Comedy Co. \nIn AT THE MOVIES a team of improvisers watch the first five minutes of an obscure 80s B-movie that none of them have seen before and then improvise the rest of the story live on stage. \nThis month will feature a cheesy (forgotten) romantic comedy! \nABOUT THE SHOW\nNo one seems to remember who exactly created At The Movies – that’s improv\, baby – but it debuted as a regular Montreal-based series in 2017\, inspired by the Little Mountain Improv’s version of the show that preceded it. It has been performed in the years since by Impro Melbourne in Australia\, Bad Dog Theatre in Toronto and Instant Theatre in Vancouver\, BC\, among others. \nPRODUCED BY\nMojo Comedy Co. (@mojocomedyco) \nTICKETS\nGeneral Admission: $8 in advance\, $12 at the door \nLANGUAGE\nThis show will take place in English
URL:https://yesandmtl.com/event/at-the-movies-romantic-comedy-edition/
LOCATION:Quebec
CATEGORIES:Shows
END:VEVENT
END:VCALENDAR