BEGIN:VCALENDAR
VERSION:2.0
PRODID:-//Yes And MTL - ECPv6.15.17.1//NONSGML v1.0//EN
CALSCALE:GREGORIAN
METHOD:PUBLISH
X-ORIGINAL-URL:https://yesandmtl.com
X-WR-CALDESC:Events for Yes And MTL
REFRESH-INTERVAL;VALUE=DURATION:PT1H
X-Robots-Tag:noindex
X-PUBLISHED-TTL:PT1H
BEGIN:VTIMEZONE
TZID:America/Toronto
BEGIN:DAYLIGHT
TZOFFSETFROM:-0500
TZOFFSETTO:-0400
TZNAME:EDT
DTSTART:20240310T070000
END:DAYLIGHT
BEGIN:STANDARD
TZOFFSETFROM:-0400
TZOFFSETTO:-0500
TZNAME:EST
DTSTART:20241103T060000
END:STANDARD
BEGIN:DAYLIGHT
TZOFFSETFROM:-0500
TZOFFSETTO:-0400
TZNAME:EDT
DTSTART:20250309T070000
END:DAYLIGHT
BEGIN:STANDARD
TZOFFSETFROM:-0400
TZOFFSETTO:-0500
TZNAME:EST
DTSTART:20251102T060000
END:STANDARD
BEGIN:DAYLIGHT
TZOFFSETFROM:-0500
TZOFFSETTO:-0400
TZNAME:EDT
DTSTART:20260308T070000
END:DAYLIGHT
BEGIN:STANDARD
TZOFFSETFROM:-0400
TZOFFSETTO:-0500
TZNAME:EST
DTSTART:20261101T060000
END:STANDARD
END:VTIMEZONE
BEGIN:VEVENT
DTSTART;TZID=America/Toronto:20250221T200000
DTEND;TZID=America/Toronto:20250221T210000
DTSTAMP:20260422T201237
CREATED:20250217T172348Z
LAST-MODIFIED:20250217T172348Z
UID:653-1740168000-1740171600@yesandmtl.com
SUMMARY:That's Deep!
DESCRIPTION:Montreal Improv: 37126 rue Notre-Dame Ouest \norganized by Dead Man Productions \nImprov comedy for the elevated mind. \nFree will. The housing crisis. Are we in the Matrix? In THAT’S DEEP\, some the city’s best improvisers will discuss the most profound topics\, inspiring hilarious comedy that is equal parts “ha” and “hmm.”
URL:https://yesandmtl.com/event/thats-deep-2/
LOCATION:Quebec
CATEGORIES:Shows
END:VEVENT
END:VCALENDAR