BEGIN:VCALENDAR
VERSION:2.0
PRODID:-//Yes And MTL - ECPv6.15.17.1//NONSGML v1.0//EN
CALSCALE:GREGORIAN
METHOD:PUBLISH
X-ORIGINAL-URL:https://yesandmtl.com
X-WR-CALDESC:Events for Yes And MTL
REFRESH-INTERVAL;VALUE=DURATION:PT1H
X-Robots-Tag:noindex
X-PUBLISHED-TTL:PT1H
BEGIN:VTIMEZONE
TZID:America/Toronto
BEGIN:DAYLIGHT
TZOFFSETFROM:-0500
TZOFFSETTO:-0400
TZNAME:EDT
DTSTART:20240310T070000
END:DAYLIGHT
BEGIN:STANDARD
TZOFFSETFROM:-0400
TZOFFSETTO:-0500
TZNAME:EST
DTSTART:20241103T060000
END:STANDARD
BEGIN:DAYLIGHT
TZOFFSETFROM:-0500
TZOFFSETTO:-0400
TZNAME:EDT
DTSTART:20250309T070000
END:DAYLIGHT
BEGIN:STANDARD
TZOFFSETFROM:-0400
TZOFFSETTO:-0500
TZNAME:EST
DTSTART:20251102T060000
END:STANDARD
BEGIN:DAYLIGHT
TZOFFSETFROM:-0500
TZOFFSETTO:-0400
TZNAME:EDT
DTSTART:20260308T070000
END:DAYLIGHT
BEGIN:STANDARD
TZOFFSETFROM:-0400
TZOFFSETTO:-0500
TZNAME:EST
DTSTART:20261101T060000
END:STANDARD
END:VTIMEZONE
BEGIN:VEVENT
DTSTART;TZID=America/Toronto:20250228T200000
DTEND;TZID=America/Toronto:20250228T210000
DTSTAMP:20260422T184020
CREATED:20250217T170831Z
LAST-MODIFIED:20250217T170831Z
UID:652-1740772800-1740776400@yesandmtl.com
SUMMARY:Murder! at Le Basement
DESCRIPTION:Montreal Improv: 3716 Notre-Dame St W\, downstairs \norganized by Improv 4 Breakfast \nStep into an evening of suspense with An Improvised Murder Mystery! \nGet ready for a night filled with mystery\, suspense\, and perhaps a few surprises as the secrets unfold and the plot thickens! \nJoin this interactive experience where YOU decide the details of the case! Lead by Montreal’s top detectives\, help them unfold the story behind Mistress Gee’s death.
URL:https://yesandmtl.com/event/murder-at-le-basement-3/
LOCATION:Quebec
CATEGORIES:Shows
END:VEVENT
BEGIN:VEVENT
DTSTART;TZID=America/Toronto:20250228T203000
DTEND;TZID=America/Toronto:20250228T213000
DTSTAMP:20260422T184020
CREATED:20250220T174607Z
LAST-MODIFIED:20250304T202043Z
UID:660-1740774600-1740778200@yesandmtl.com
SUMMARY:Treats at Mile End Improv
DESCRIPTION:Mile End Improv : 5337 boul Saint Laurent\norganized by Mojo Comedy Co. \nFour tasty acts\, one sweet show! TREATS is no-frills\, all-bangers improv from Mojo Comedy Co. and friends. Indulge with some of the funniest performers and groups in the city! \nTreat yourself. \nthis month:\nICE LOLLIES (MP Breton\, Cathy Fagan\, Hannah Cartmel and Marilyn DT)\nALLO? HULLO! (Jason Grimmer and Dimitri Kyres)\nQUESTIONABLE DECISIONS (Katie O\, Christian and Max Leblanc)\nand THE SUPER-SWEET ALL-STARS (Xander Manshel\, Annabelle Agnew\, Anthony Assaf\, Stefan Spec\, Danielle Davidson\, Xavier Tolentino and Dale Bernier)
URL:https://yesandmtl.com/event/treats-at-mile-end-improv-2/
LOCATION:Quebec
CATEGORIES:Shows
END:VEVENT
END:VCALENDAR