BEGIN:VCALENDAR
VERSION:2.0
PRODID:-//Yes And MTL - ECPv6.15.17.1//NONSGML v1.0//EN
CALSCALE:GREGORIAN
METHOD:PUBLISH
X-ORIGINAL-URL:https://yesandmtl.com
X-WR-CALDESC:Events for Yes And MTL
REFRESH-INTERVAL;VALUE=DURATION:PT1H
X-Robots-Tag:noindex
X-PUBLISHED-TTL:PT1H
BEGIN:VTIMEZONE
TZID:America/Toronto
BEGIN:DAYLIGHT
TZOFFSETFROM:-0500
TZOFFSETTO:-0400
TZNAME:EDT
DTSTART:20240310T070000
END:DAYLIGHT
BEGIN:STANDARD
TZOFFSETFROM:-0400
TZOFFSETTO:-0500
TZNAME:EST
DTSTART:20241103T060000
END:STANDARD
BEGIN:DAYLIGHT
TZOFFSETFROM:-0500
TZOFFSETTO:-0400
TZNAME:EDT
DTSTART:20250309T070000
END:DAYLIGHT
BEGIN:STANDARD
TZOFFSETFROM:-0400
TZOFFSETTO:-0500
TZNAME:EST
DTSTART:20251102T060000
END:STANDARD
BEGIN:DAYLIGHT
TZOFFSETFROM:-0500
TZOFFSETTO:-0400
TZNAME:EDT
DTSTART:20260308T070000
END:DAYLIGHT
BEGIN:STANDARD
TZOFFSETFROM:-0400
TZOFFSETTO:-0500
TZNAME:EST
DTSTART:20261101T060000
END:STANDARD
END:VTIMEZONE
BEGIN:VEVENT
DTSTART;TZID=America/Toronto:20250307T200000
DTEND;TZID=America/Toronto:20250307T210000
DTSTAMP:20260422T184040
CREATED:20250213T161812Z
LAST-MODIFIED:20250213T161812Z
UID:648-1741377600-1741381200@yesandmtl.com
SUMMARY:Flip Flop
DESCRIPTION:Montreal Improv: 3716 Notre-Dame St W\, downstairs \norganized by Yes and MTL \nJoin us for an electrifying night where improvisers of all levels come together for hijinks in a zany competition! Watch as teams of three\, led by our charismatic captains\, go head-to-head in hilarious challenges. The best part? You\, the audience\, get to vote and decide who scores the points! Plus\, don’t miss the wild card round for some extra fun and bonus points. Will it be a flip or a flop? 🤔🔥 \nP﻿RODUCED BY:\nYes And MTL (Shanthony Exum) \nC﻿AST: \nAriel\nXander\nJoe\nJD\nSelene\nLeqi\nNoush\nZynor\nKate C.
URL:https://yesandmtl.com/event/flip-flop-5/
LOCATION:Quebec
CATEGORIES:Shows
END:VEVENT
BEGIN:VEVENT
DTSTART;TZID=America/Toronto:20250307T213000
DTEND;TZID=America/Toronto:20250307T223000
DTSTAMP:20260422T184040
CREATED:20250226T163025Z
LAST-MODIFIED:20250226T163025Z
UID:666-1741383000-1741386600@yesandmtl.com
SUMMARY:Deuces Wild! - Improv Duo Show
DESCRIPTION:Montreal Improv Theatre : 3716 Rue Notre-Dame Ouest Montréal\, QC H4C 1P7 \norganized by db \nThis is going to be a killer duo show!!! Don’t miss it. \nFriday March 7th –  Check out this line up:  \nPolite Mutiny (Lucie and Leqi)  2024 Threepio Champions \nGoblin Guys (Alex B and Costa) \nDry-fi beats to relax and study to (Victoria and Jack) \nThieves of the Valley (Sarah K and MC) \nwith a closing set by \nWas That Me !?!?! (Dale\, Xander\, Stefan) \nBuckle up and enjoy the wild ride!
URL:https://yesandmtl.com/event/deuces-wild-improv-duo-show/
LOCATION:Quebec
CATEGORIES:Shows
END:VEVENT
END:VCALENDAR