BEGIN:VCALENDAR
VERSION:2.0
PRODID:-//Yes And MTL - ECPv6.15.17.1//NONSGML v1.0//EN
CALSCALE:GREGORIAN
METHOD:PUBLISH
X-ORIGINAL-URL:https://yesandmtl.com
X-WR-CALDESC:Events for Yes And MTL
REFRESH-INTERVAL;VALUE=DURATION:PT1H
X-Robots-Tag:noindex
X-PUBLISHED-TTL:PT1H
BEGIN:VTIMEZONE
TZID:America/Toronto
BEGIN:DAYLIGHT
TZOFFSETFROM:-0500
TZOFFSETTO:-0400
TZNAME:EDT
DTSTART:20240310T070000
END:DAYLIGHT
BEGIN:STANDARD
TZOFFSETFROM:-0400
TZOFFSETTO:-0500
TZNAME:EST
DTSTART:20241103T060000
END:STANDARD
BEGIN:DAYLIGHT
TZOFFSETFROM:-0500
TZOFFSETTO:-0400
TZNAME:EDT
DTSTART:20250309T070000
END:DAYLIGHT
BEGIN:STANDARD
TZOFFSETFROM:-0400
TZOFFSETTO:-0500
TZNAME:EST
DTSTART:20251102T060000
END:STANDARD
BEGIN:DAYLIGHT
TZOFFSETFROM:-0500
TZOFFSETTO:-0400
TZNAME:EDT
DTSTART:20260308T070000
END:DAYLIGHT
BEGIN:STANDARD
TZOFFSETFROM:-0400
TZOFFSETTO:-0500
TZNAME:EST
DTSTART:20261101T060000
END:STANDARD
END:VTIMEZONE
BEGIN:VEVENT
DTSTART;TZID=America/Toronto:20250314T213000
DTEND;TZID=America/Toronto:20250314T223000
DTSTAMP:20260422T184038
CREATED:20250301T230631Z
LAST-MODIFIED:20250301T230631Z
UID:673-1741987800-1741991400@yesandmtl.com
SUMMARY:Dr Who\, Improvised
DESCRIPTION:Montreal Improv: 3716 Rue Notre-Dame Ouest Montréal\, QC H4C 1P7 \norganized by Priddy Playful Productions \nJoin us for a night of completely unscripted Doctor Who adventures! Our team of improvisers will take your suggestions and craft an entirely new episode on the spot. \nWill the Doctor save the day? Will time itself unravel? There’s only one way to find out! \nNever seen Doctor Who? No problem! Whether you’re a lifelong Whovian or have never set foot in the TARDIS\, you’ll have a blast as we create a brand-new\, hilarious sci-fi adventure from scratch. \nNo two shows are ever the same\, so grab your sonic screwdriver and come travel through time and space with us. Geronimo!\n—-\n“Doctor Who\, Improvised” is brought to you by Priddy Playful Productions. Based in Montreal\, we put on fully improvised plays\, including shows such as Improvised Bridgerton\, Improvised Potter\, Improvised Game of Thrones\, and Improvised Fairytales.
URL:https://yesandmtl.com/event/dr-who-improvised/
LOCATION:Quebec
CATEGORIES:Shows
END:VEVENT
END:VCALENDAR