BEGIN:VCALENDAR
VERSION:2.0
PRODID:-//Yes And MTL - ECPv6.15.17.1//NONSGML v1.0//EN
CALSCALE:GREGORIAN
METHOD:PUBLISH
X-ORIGINAL-URL:https://yesandmtl.com
X-WR-CALDESC:Events for Yes And MTL
REFRESH-INTERVAL;VALUE=DURATION:PT1H
X-Robots-Tag:noindex
X-PUBLISHED-TTL:PT1H
BEGIN:VTIMEZONE
TZID:America/Toronto
BEGIN:DAYLIGHT
TZOFFSETFROM:-0500
TZOFFSETTO:-0400
TZNAME:EDT
DTSTART:20240310T070000
END:DAYLIGHT
BEGIN:STANDARD
TZOFFSETFROM:-0400
TZOFFSETTO:-0500
TZNAME:EST
DTSTART:20241103T060000
END:STANDARD
BEGIN:DAYLIGHT
TZOFFSETFROM:-0500
TZOFFSETTO:-0400
TZNAME:EDT
DTSTART:20250309T070000
END:DAYLIGHT
BEGIN:STANDARD
TZOFFSETFROM:-0400
TZOFFSETTO:-0500
TZNAME:EST
DTSTART:20251102T060000
END:STANDARD
BEGIN:DAYLIGHT
TZOFFSETFROM:-0500
TZOFFSETTO:-0400
TZNAME:EDT
DTSTART:20260308T070000
END:DAYLIGHT
BEGIN:STANDARD
TZOFFSETFROM:-0400
TZOFFSETTO:-0500
TZNAME:EST
DTSTART:20261101T060000
END:STANDARD
END:VTIMEZONE
BEGIN:VEVENT
DTSTART;TZID=America/Toronto:20250321T200000
DTEND;TZID=America/Toronto:20250321T210000
DTSTAMP:20260422T184016
CREATED:20250317T155458Z
LAST-MODIFIED:20250317T155458Z
UID:700-1742587200-1742590800@yesandmtl.com
SUMMARY:Room for One More?
DESCRIPTION:Montreal Improv: 3716 rue Notre-Dame Ouest \norganized by Dead Man Productions \nImprov duos work hard to foster trust\, chemistry\, and synergy. So what happens when we add some chaos to the mix? \nIn ROOM FOR ONE MORE\, five of the city’s best duos will have their sets infiltrated by the Wildcards\, performers who are as mischievous as they are hilarious.
URL:https://yesandmtl.com/event/room-for-one-more-5/
LOCATION:Quebec
CATEGORIES:Shows
END:VEVENT
BEGIN:VEVENT
DTSTART;TZID=America/Toronto:20250321T203000
DTEND;TZID=America/Toronto:20250321T213000
DTSTAMP:20260422T184016
CREATED:20250226T211231Z
LAST-MODIFIED:20250226T211231Z
UID:667-1742589000-1742592600@yesandmtl.com
SUMMARY:Treats at Mile End Improv
DESCRIPTION:Mile End Improv / Theatre VME: 5337 boul. SaintLaurent \norganized by Mojo Comedy Co. \nFour tasty acts\, one sweet show! TREATS is no-frills\, all-bangers improv from Mojo Comedy Co. and friends. Indulge with some of the funniest performers and groups in the city! \nTreat yourself. \nDATE/TIME \nFriday\, March 21st at 8:30 PM \nPRICE \n$8 in advance \n$12 at the door \nFree for Mile End Improv students \nLOCATION \n5337 boul. Saint Laurent \nAGES \n18+ – grown-up humor which may contain mature themes \nACCESSIBILITY \nThis venue is only accessible via a flight of stairs with a handrail on the side. The two bathrooms on site are not wheelchair-accessible.
URL:https://yesandmtl.com/event/treats-at-mile-end-improv-3/
LOCATION:Quebec
CATEGORIES:Shows
END:VEVENT
BEGIN:VEVENT
DTSTART;TZID=America/Toronto:20250321T213000
DTEND;TZID=America/Toronto:20250321T223000
DTSTAMP:20260422T184016
CREATED:20250318T202657Z
LAST-MODIFIED:20250318T202657Z
UID:702-1742592600-1742596200@yesandmtl.com
SUMMARY:Improv Bingo
DESCRIPTION:Montreal Improv: 3716 Notre-Dame St W\, downstairs \norganized by Improv 4 Breakfast \nImprov 4 Breakfast invites you to a night of bingo where your cards are filled with hilarious moments from the stage! \nExample bingo card entries:\n    Someone dies\n    Someone plays a therapist\n    Chairs are used on stage\n    A sibling relationship is established\n    Someone pours or drinks a beverage \nJoin us for a fun-filled evening of bingo and silly prizes!
URL:https://yesandmtl.com/event/improv-bingo/
LOCATION:Quebec
CATEGORIES:Shows
END:VEVENT
END:VCALENDAR