BEGIN:VCALENDAR
VERSION:2.0
PRODID:-//Yes And MTL - ECPv6.15.17.1//NONSGML v1.0//EN
CALSCALE:GREGORIAN
METHOD:PUBLISH
X-ORIGINAL-URL:https://yesandmtl.com
X-WR-CALDESC:Events for Yes And MTL
REFRESH-INTERVAL;VALUE=DURATION:PT1H
X-Robots-Tag:noindex
X-PUBLISHED-TTL:PT1H
BEGIN:VTIMEZONE
TZID:America/Toronto
BEGIN:DAYLIGHT
TZOFFSETFROM:-0500
TZOFFSETTO:-0400
TZNAME:EDT
DTSTART:20240310T070000
END:DAYLIGHT
BEGIN:STANDARD
TZOFFSETFROM:-0400
TZOFFSETTO:-0500
TZNAME:EST
DTSTART:20241103T060000
END:STANDARD
BEGIN:DAYLIGHT
TZOFFSETFROM:-0500
TZOFFSETTO:-0400
TZNAME:EDT
DTSTART:20250309T070000
END:DAYLIGHT
BEGIN:STANDARD
TZOFFSETFROM:-0400
TZOFFSETTO:-0500
TZNAME:EST
DTSTART:20251102T060000
END:STANDARD
BEGIN:DAYLIGHT
TZOFFSETFROM:-0500
TZOFFSETTO:-0400
TZNAME:EDT
DTSTART:20260308T070000
END:DAYLIGHT
BEGIN:STANDARD
TZOFFSETFROM:-0400
TZOFFSETTO:-0500
TZNAME:EST
DTSTART:20261101T060000
END:STANDARD
END:VTIMEZONE
BEGIN:VEVENT
DTSTART;TZID=America/Toronto:20250328T213000
DTEND;TZID=America/Toronto:20250328T223000
DTSTAMP:20260422T184038
CREATED:20250316T201048Z
LAST-MODIFIED:20250316T201048Z
UID:699-1743197400-1743201000@yesandmtl.com
SUMMARY:At The Movies
DESCRIPTION:Montreal Improv: 3716 rue Notre Dame Ouest \norganized by Mojo Comedy Co. \nA team of A+ improvisers watch the first 5 minutes of a B-rank movie and improvise the rest! \nIn At The Movies a team of improvisers watch the first five minutes of an obscure 80s B-movie that none of them have seen before and then improvise the rest of the story live on stage. \nThis month will feature a cheesy (forgotten) action flick! \nstarring\nLaura Buchanan\, Joe Conto\, Sarah Ellis\, Vance Gillis\, Dan Jeannotte and Sehar Manji \nplus special guests\nGoblin Guys
URL:https://yesandmtl.com/event/at-the-movies/
LOCATION:Quebec
CATEGORIES:Shows
END:VEVENT
END:VCALENDAR