BEGIN:VCALENDAR
VERSION:2.0
PRODID:-//Yes And MTL - ECPv6.15.17.1//NONSGML v1.0//EN
CALSCALE:GREGORIAN
METHOD:PUBLISH
X-WR-CALNAME:Yes And MTL
X-ORIGINAL-URL:https://yesandmtl.com
X-WR-CALDESC:Events for Yes And MTL
REFRESH-INTERVAL;VALUE=DURATION:PT1H
X-Robots-Tag:noindex
X-PUBLISHED-TTL:PT1H
BEGIN:VTIMEZONE
TZID:America/Toronto
BEGIN:DAYLIGHT
TZOFFSETFROM:-0500
TZOFFSETTO:-0400
TZNAME:EDT
DTSTART:20240310T070000
END:DAYLIGHT
BEGIN:STANDARD
TZOFFSETFROM:-0400
TZOFFSETTO:-0500
TZNAME:EST
DTSTART:20241103T060000
END:STANDARD
BEGIN:DAYLIGHT
TZOFFSETFROM:-0500
TZOFFSETTO:-0400
TZNAME:EDT
DTSTART:20250309T070000
END:DAYLIGHT
BEGIN:STANDARD
TZOFFSETFROM:-0400
TZOFFSETTO:-0500
TZNAME:EST
DTSTART:20251102T060000
END:STANDARD
BEGIN:DAYLIGHT
TZOFFSETFROM:-0500
TZOFFSETTO:-0400
TZNAME:EDT
DTSTART:20260308T070000
END:DAYLIGHT
BEGIN:STANDARD
TZOFFSETFROM:-0400
TZOFFSETTO:-0500
TZNAME:EST
DTSTART:20261101T060000
END:STANDARD
END:VTIMEZONE
BEGIN:VEVENT
DTSTART;TZID=America/Toronto:20250404T200000
DTEND;TZID=America/Toronto:20250404T210000
DTSTAMP:20260422T163729
CREATED:20250318T175809Z
LAST-MODIFIED:20250318T175809Z
UID:701-1743796800-1743800400@yesandmtl.com
SUMMARY:Flip Flop
DESCRIPTION:Montreal Improv: 3716 Rue Notre-Dame Ouest Montréal\, QC H4C 1P7 \norganized by YesAnd MTL \nJoin us for an electrifying night where improvisers of all levels come together for hijinks in a zany competition! \nWatch as teams of three\, led by our charismatic captains\, go head-to-head in hilarious challenges. \nThe best part? You\, the audience\, get to vote and decide who scores the points! Plus\, don’t miss the wild card round for some extra fun and bonus points. Will it be a flip or a flop? \nPRODUCED BY \nYes And MTL (Shanthony Exum) \nCAST \nKyla \nAnnabelle \nChris L \nCharles P \nDaniela \nJulien \nDan F \nAshley R \nLiv B
URL:https://yesandmtl.com/event/flip-flop-6/
LOCATION:Quebec
CATEGORIES:Shows
END:VEVENT
BEGIN:VEVENT
DTSTART;TZID=America/Toronto:20250404T213000
DTEND;TZID=America/Toronto:20250404T223000
DTSTAMP:20260422T163729
CREATED:20250318T203727Z
LAST-MODIFIED:20250318T203727Z
UID:703-1743802200-1743805800@yesandmtl.com
SUMMARY:Polite Mutiny and Friendly Crews
DESCRIPTION:Montreal Improv: 3716 Notre-Dame St W\, downstairs \norganized by Improv 4 Breakfast \nGet  ready for a wild ride of improv as three friendly troupes come together  to create a fully fleshed-out narrative right before your eyes! \nBut there’s a catch: none of the teams know what’s happening! \nEach  troupe will take the stage\, starting fresh with an audience suggestion  and continuing with only one key piece of information—a summary of what  just happened\, straight from YOU\, the audience! \nPlot twists and  turns as the teams build on each other’s ideas\, crafting the beginning\,  middle\, and end in real-time. Expect the unexpected\, because every  moment is a surprise for both the performers and the audience! \nThe  grand finale? Polite Mutiny—the 2024 Montreal Improv Threepio  winners—will take the stage to wrap up this improv extravaganza with  their signature flair. \nThis is improv like you’ve never seen before\, and you won’t want to miss it! \nCAST\nOne Long Love Song (Costa\, Jen\, Victor\, Thomas)\nImploding (Shanthony\, Ramin\, Kate\, Stefan)\nPolite Mutiny (Lucie Gee\, Leqi Y)
URL:https://yesandmtl.com/event/polite-mutiny-and-friendly-crews/
LOCATION:Quebec
CATEGORIES:Shows
END:VEVENT
END:VCALENDAR