BEGIN:VCALENDAR
VERSION:2.0
PRODID:-//Yes And MTL - ECPv6.15.17.1//NONSGML v1.0//EN
CALSCALE:GREGORIAN
METHOD:PUBLISH
X-WR-CALNAME:Yes And MTL
X-ORIGINAL-URL:https://yesandmtl.com
X-WR-CALDESC:Events for Yes And MTL
REFRESH-INTERVAL;VALUE=DURATION:PT1H
X-Robots-Tag:noindex
X-PUBLISHED-TTL:PT1H
BEGIN:VTIMEZONE
TZID:America/Toronto
BEGIN:DAYLIGHT
TZOFFSETFROM:-0500
TZOFFSETTO:-0400
TZNAME:EDT
DTSTART:20240310T070000
END:DAYLIGHT
BEGIN:STANDARD
TZOFFSETFROM:-0400
TZOFFSETTO:-0500
TZNAME:EST
DTSTART:20241103T060000
END:STANDARD
BEGIN:DAYLIGHT
TZOFFSETFROM:-0500
TZOFFSETTO:-0400
TZNAME:EDT
DTSTART:20250309T070000
END:DAYLIGHT
BEGIN:STANDARD
TZOFFSETFROM:-0400
TZOFFSETTO:-0500
TZNAME:EST
DTSTART:20251102T060000
END:STANDARD
BEGIN:DAYLIGHT
TZOFFSETFROM:-0500
TZOFFSETTO:-0400
TZNAME:EDT
DTSTART:20260308T070000
END:DAYLIGHT
BEGIN:STANDARD
TZOFFSETFROM:-0400
TZOFFSETTO:-0500
TZNAME:EST
DTSTART:20261101T060000
END:STANDARD
END:VTIMEZONE
BEGIN:VEVENT
DTSTART;TZID=America/Toronto:20250418T200000
DTEND;TZID=America/Toronto:20250418T210000
DTSTAMP:20260422T165326
CREATED:20250414T132857Z
LAST-MODIFIED:20250414T132857Z
UID:740-1745006400-1745010000@yesandmtl.com
SUMMARY:Room for One More?
DESCRIPTION:Montreal Improv: 3716 rue Notre-Dame Ouest \norganized by Dead Man Productions \nImprov duos work hard to foster trust\, chemistry\, and synergy. So what happens when we add some chaos to the mix? \nIn ROOM FOR ONE MORE\, five of the city’s best duos will have their sets infiltrated by the Wildcards\, performers who are as mischievous as they are hilarious.
URL:https://yesandmtl.com/event/room-for-one-more-6/
LOCATION:Quebec
CATEGORIES:Shows
END:VEVENT
END:VCALENDAR