BEGIN:VCALENDAR
VERSION:2.0
PRODID:-//Yes And MTL - ECPv6.15.17.1//NONSGML v1.0//EN
CALSCALE:GREGORIAN
METHOD:PUBLISH
X-ORIGINAL-URL:https://yesandmtl.com
X-WR-CALDESC:Events for Yes And MTL
REFRESH-INTERVAL;VALUE=DURATION:PT1H
X-Robots-Tag:noindex
X-PUBLISHED-TTL:PT1H
BEGIN:VTIMEZONE
TZID:America/Toronto
BEGIN:DAYLIGHT
TZOFFSETFROM:-0500
TZOFFSETTO:-0400
TZNAME:EDT
DTSTART:20240310T070000
END:DAYLIGHT
BEGIN:STANDARD
TZOFFSETFROM:-0400
TZOFFSETTO:-0500
TZNAME:EST
DTSTART:20241103T060000
END:STANDARD
BEGIN:DAYLIGHT
TZOFFSETFROM:-0500
TZOFFSETTO:-0400
TZNAME:EDT
DTSTART:20250309T070000
END:DAYLIGHT
BEGIN:STANDARD
TZOFFSETFROM:-0400
TZOFFSETTO:-0500
TZNAME:EST
DTSTART:20251102T060000
END:STANDARD
BEGIN:DAYLIGHT
TZOFFSETFROM:-0500
TZOFFSETTO:-0400
TZNAME:EDT
DTSTART:20260308T070000
END:DAYLIGHT
BEGIN:STANDARD
TZOFFSETFROM:-0400
TZOFFSETTO:-0500
TZNAME:EST
DTSTART:20261101T060000
END:STANDARD
END:VTIMEZONE
BEGIN:VEVENT
DTSTART;TZID=America/Toronto:20250420T190000
DTEND;TZID=America/Toronto:20250420T210000
DTSTAMP:20260422T165419
CREATED:20250330T040026Z
LAST-MODIFIED:20250330T040026Z
UID:718-1745175600-1745182800@yesandmtl.com
SUMMARY:Sunday Night Improv
DESCRIPTION:Theatre St Catherine: 64 St Catherine St E \n\nOur show is a natural extension of the workshop. A regular rotation of some of Montreal’s most talented improvisers always perform\, including Sandi Armstrong\, Alain Mercieca\, Heidi Lynne Weeks\, Maité Sinave\, Mariana Vial\, Adalia Pemberton\, Solly Krygier-Paine\, Kristina Guevarra\, Mason Persaud\, Shanthony Exum\, Nicky Fournier and Jeremy Lewis . On top of having seasoned improvisers\, we also have the new birds that walk in for the first time and steal the show. You could just literally show up and get thrown in the fire of a live show with no script! It has led to many amazing walk-in\, home run hitters and creates an awesome “anything can happen” spirit\, which is the backbone to improv. \nAlways entertaining\, Sunday Night Improv promises a good time for audiences who are welcome to contribute to the show through their suggestions and voting.
URL:https://yesandmtl.com/event/sunday-night-improv-46/
LOCATION:Quebec
CATEGORIES:Shows
END:VEVENT
BEGIN:VEVENT
DTSTART;TZID=America/Toronto:20250420T193000
DTEND;TZID=America/Toronto:20250420T203000
DTSTAMP:20260422T165419
CREATED:20250407T223637Z
LAST-MODIFIED:20250407T223637Z
UID:730-1745177400-1745181000@yesandmtl.com
SUMMARY:High Status
DESCRIPTION:Montreal Improv Theatre: 3716 Rue Notre-Dame Ouest Montréal\, QC H4C 1P7 \norganized by Montreal Improv \nIt’s 4/20! \nIf you celebrate the date\, come on down and watch some amazing improvisers turn your funny 420 stories into live comedy! From hilarious mishaps to unforgettable moments\, we’ll take your silly tales and spin them into something special. \n*Please note\, this show does not encourage smoking cannabis at the venue and/or in general. Viewer discretion is advised.*
URL:https://yesandmtl.com/event/high-status/
LOCATION:Quebec
CATEGORIES:Shows
END:VEVENT
END:VCALENDAR