BEGIN:VCALENDAR
VERSION:2.0
PRODID:-//Yes And MTL - ECPv6.15.17.1//NONSGML v1.0//EN
CALSCALE:GREGORIAN
METHOD:PUBLISH
X-WR-CALNAME:Yes And MTL
X-ORIGINAL-URL:https://yesandmtl.com
X-WR-CALDESC:Events for Yes And MTL
REFRESH-INTERVAL;VALUE=DURATION:PT1H
X-Robots-Tag:noindex
X-PUBLISHED-TTL:PT1H
BEGIN:VTIMEZONE
TZID:America/Toronto
BEGIN:DAYLIGHT
TZOFFSETFROM:-0500
TZOFFSETTO:-0400
TZNAME:EDT
DTSTART:20240310T070000
END:DAYLIGHT
BEGIN:STANDARD
TZOFFSETFROM:-0400
TZOFFSETTO:-0500
TZNAME:EST
DTSTART:20241103T060000
END:STANDARD
BEGIN:DAYLIGHT
TZOFFSETFROM:-0500
TZOFFSETTO:-0400
TZNAME:EDT
DTSTART:20250309T070000
END:DAYLIGHT
BEGIN:STANDARD
TZOFFSETFROM:-0400
TZOFFSETTO:-0500
TZNAME:EST
DTSTART:20251102T060000
END:STANDARD
BEGIN:DAYLIGHT
TZOFFSETFROM:-0500
TZOFFSETTO:-0400
TZNAME:EDT
DTSTART:20260308T070000
END:DAYLIGHT
BEGIN:STANDARD
TZOFFSETFROM:-0400
TZOFFSETTO:-0500
TZNAME:EST
DTSTART:20261101T060000
END:STANDARD
END:VTIMEZONE
BEGIN:VEVENT
DTSTART;TZID=America/Toronto:20250425T203000
DTEND;TZID=America/Toronto:20250426T214500
DTSTAMP:20260422T165246
CREATED:20250326T133036Z
LAST-MODIFIED:20250326T133036Z
UID:713-1745613000-1745703900@yesandmtl.com
SUMMARY:FEVER DREAM A Non-Linear Journey Through Time
DESCRIPTION:THEATRE VME / MILE END IMPROV: 5337 St Laurent Blvd\, Montreal\, Quebec H2T 1S5 \norganized by Co-Production \nTime bends\, reality shifts\, and nothing is quite what it seems… \nJoin us for Fever Dream: A Non-Linear Journey Through Time—an improvised\, reality-warping odyssey where past\, present\, and future collide in the most unexpected of ways. A grand kaleidoscope of movement\, texture\, sound and storytelling—this is improv like you’ve never seen before. \nStep into an immersive improvised dreamscape for a truly surreal theatrical event!
URL:https://yesandmtl.com/event/fever-dream-a-non-linear-journey-through-time/
LOCATION:Quebec
CATEGORIES:Shows
END:VEVENT
END:VCALENDAR