BEGIN:VCALENDAR
VERSION:2.0
PRODID:-//Yes And MTL - ECPv6.15.17.1//NONSGML v1.0//EN
CALSCALE:GREGORIAN
METHOD:PUBLISH
X-ORIGINAL-URL:https://yesandmtl.com
X-WR-CALDESC:Events for Yes And MTL
REFRESH-INTERVAL;VALUE=DURATION:PT1H
X-Robots-Tag:noindex
X-PUBLISHED-TTL:PT1H
BEGIN:VTIMEZONE
TZID:America/Toronto
BEGIN:DAYLIGHT
TZOFFSETFROM:-0500
TZOFFSETTO:-0400
TZNAME:EDT
DTSTART:20240310T070000
END:DAYLIGHT
BEGIN:STANDARD
TZOFFSETFROM:-0400
TZOFFSETTO:-0500
TZNAME:EST
DTSTART:20241103T060000
END:STANDARD
BEGIN:DAYLIGHT
TZOFFSETFROM:-0500
TZOFFSETTO:-0400
TZNAME:EDT
DTSTART:20250309T070000
END:DAYLIGHT
BEGIN:STANDARD
TZOFFSETFROM:-0400
TZOFFSETTO:-0500
TZNAME:EST
DTSTART:20251102T060000
END:STANDARD
BEGIN:DAYLIGHT
TZOFFSETFROM:-0500
TZOFFSETTO:-0400
TZNAME:EDT
DTSTART:20260308T070000
END:DAYLIGHT
BEGIN:STANDARD
TZOFFSETFROM:-0400
TZOFFSETTO:-0500
TZNAME:EST
DTSTART:20261101T060000
END:STANDARD
END:VTIMEZONE
BEGIN:VEVENT
DTSTART;TZID=America/Toronto:20250511T190000
DTEND;TZID=America/Toronto:20250511T210000
DTSTAMP:20260422T151101
CREATED:20250420T040045Z
LAST-MODIFIED:20250420T040045Z
UID:754-1746990000-1746997200@yesandmtl.com
SUMMARY:Sunday Night Improv
DESCRIPTION:Theatre St Catherine: 64 St Catherine St E \n\nOur show is a natural extension of the workshop. A regular rotation of some of Montreal’s most talented improvisers always perform\, including Sandi Armstrong\, Alain Mercieca\, Heidi Lynne Weeks\, Maité Sinave\, Mariana Vial\, Adalia Pemberton\, Solly Krygier-Paine\, Kristina Guevarra\, Mason Persaud\, Shanthony Exum\, Nicky Fournier and Jeremy Lewis . On top of having seasoned improvisers\, we also have the new birds that walk in for the first time and steal the show. You could just literally show up and get thrown in the fire of a live show with no script! It has led to many amazing walk-in\, home run hitters and creates an awesome “anything can happen” spirit\, which is the backbone to improv. \nAlways entertaining\, Sunday Night Improv promises a good time for audiences who are welcome to contribute to the show through their suggestions and voting.
URL:https://yesandmtl.com/event/sunday-night-improv-49/
LOCATION:Quebec
CATEGORIES:Shows
END:VEVENT
BEGIN:VEVENT
DTSTART;TZID=America/Toronto:20250511T193000
DTEND;TZID=America/Toronto:20250511T203000
DTSTAMP:20260422T151101
CREATED:20250507T114736Z
LAST-MODIFIED:20250507T114736Z
UID:776-1746991800-1746995400@yesandmtl.com
SUMMARY:THE KINGDOM KIDS from Vermont Comedy Club
DESCRIPTION:Montreal Improv: 3716 Notre-Dame St W\, downstairs \norganized by Kingdom Kids \nTHE KINGDOM KIDS are a trio of experienced improvisers who perform and teach in Burlington\, VT\, and at theaters and festivals from San Diego to New York\, Montréal to Miami. \nThe three grew up in rural Vermont\, where they hung out in places like gravel pits\, drugstore parking lots\, and decrepit movie theaters. \nIn this high-energy show\, the team asks audience members where they hung out as teenagers (and what kind of trouble they got up to there). \nThen\, the Kingdom Kids use these stories as inspiration for an entirely improvised\, freewheeling and wildly entertaining comedy show. \nWith a shared sense of humor that is smart\, sarcastic and silly\, The Kingdom Kids put on an unpredictable show that is enjoyable for any audience. Don’t miss it! \nFEATURING \nShanthony & The Raminets (Shanthony E\, Ramin E) \n$DOPE CITY$ (Cathy F\, Annabelle A\, Sarah K\, Dale B\, Julia S)
URL:https://yesandmtl.com/event/the-kingdom-kids-from-vermont-comedy-club/
LOCATION:Quebec
CATEGORIES:Shows
END:VEVENT
END:VCALENDAR