BEGIN:VCALENDAR
VERSION:2.0
PRODID:-//Yes And MTL - ECPv6.15.17.1//NONSGML v1.0//EN
CALSCALE:GREGORIAN
METHOD:PUBLISH
X-WR-CALNAME:Yes And MTL
X-ORIGINAL-URL:https://yesandmtl.com
X-WR-CALDESC:Events for Yes And MTL
REFRESH-INTERVAL;VALUE=DURATION:PT1H
X-Robots-Tag:noindex
X-PUBLISHED-TTL:PT1H
BEGIN:VTIMEZONE
TZID:America/Toronto
BEGIN:DAYLIGHT
TZOFFSETFROM:-0500
TZOFFSETTO:-0400
TZNAME:EDT
DTSTART:20240310T070000
END:DAYLIGHT
BEGIN:STANDARD
TZOFFSETFROM:-0400
TZOFFSETTO:-0500
TZNAME:EST
DTSTART:20241103T060000
END:STANDARD
BEGIN:DAYLIGHT
TZOFFSETFROM:-0500
TZOFFSETTO:-0400
TZNAME:EDT
DTSTART:20250309T070000
END:DAYLIGHT
BEGIN:STANDARD
TZOFFSETFROM:-0400
TZOFFSETTO:-0500
TZNAME:EST
DTSTART:20251102T060000
END:STANDARD
BEGIN:DAYLIGHT
TZOFFSETFROM:-0500
TZOFFSETTO:-0400
TZNAME:EDT
DTSTART:20260308T070000
END:DAYLIGHT
BEGIN:STANDARD
TZOFFSETFROM:-0400
TZOFFSETTO:-0500
TZNAME:EST
DTSTART:20261101T060000
END:STANDARD
END:VTIMEZONE
BEGIN:VEVENT
DTSTART;TZID=America/Toronto:20250524T213000
DTEND;TZID=America/Toronto:20250524T223000
DTSTAMP:20260422T150807
CREATED:20250524T135718Z
LAST-MODIFIED:20250524T135718Z
UID:806-1748122200-1748125800@yesandmtl.com
SUMMARY:Improv match
DESCRIPTION:Montréal improv theatee: 3716 Notre-Dame St W\, Montreal\, Quebec H4C 1P7\, Canada \norganized by Fraud Department  \nThe improv match is a format created by Robert Gravel and Yvon Leduc in 1977 and is the main format played in Quebec\, performed in schools\, bars\, huge stages and even on TV! Come watch as two teams of hilarious improvisers face off in a series of fun unpredictable challenges\, from quick-fire scenes and great stories to absurd games and witty wordplay\, the audience votes to crown the winning team in each scene!
URL:https://yesandmtl.com/event/improv-match-2/
LOCATION:Quebec
CATEGORIES:Shows
END:VEVENT
END:VCALENDAR