BEGIN:VCALENDAR
VERSION:2.0
PRODID:-//Yes And MTL - ECPv6.15.17.1//NONSGML v1.0//EN
CALSCALE:GREGORIAN
METHOD:PUBLISH
X-ORIGINAL-URL:https://yesandmtl.com
X-WR-CALDESC:Events for Yes And MTL
REFRESH-INTERVAL;VALUE=DURATION:PT1H
X-Robots-Tag:noindex
X-PUBLISHED-TTL:PT1H
BEGIN:VTIMEZONE
TZID:America/Toronto
BEGIN:DAYLIGHT
TZOFFSETFROM:-0500
TZOFFSETTO:-0400
TZNAME:EDT
DTSTART:20240310T070000
END:DAYLIGHT
BEGIN:STANDARD
TZOFFSETFROM:-0400
TZOFFSETTO:-0500
TZNAME:EST
DTSTART:20241103T060000
END:STANDARD
BEGIN:DAYLIGHT
TZOFFSETFROM:-0500
TZOFFSETTO:-0400
TZNAME:EDT
DTSTART:20250309T070000
END:DAYLIGHT
BEGIN:STANDARD
TZOFFSETFROM:-0400
TZOFFSETTO:-0500
TZNAME:EST
DTSTART:20251102T060000
END:STANDARD
BEGIN:DAYLIGHT
TZOFFSETFROM:-0500
TZOFFSETTO:-0400
TZNAME:EDT
DTSTART:20260308T070000
END:DAYLIGHT
BEGIN:STANDARD
TZOFFSETFROM:-0400
TZOFFSETTO:-0500
TZNAME:EST
DTSTART:20261101T060000
END:STANDARD
END:VTIMEZONE
BEGIN:VEVENT
DTSTART;TZID=America/Toronto:20250527T200000
DTEND;TZID=America/Toronto:20250527T220000
DTSTAMP:20260422T134536
CREATED:20250515T194758Z
LAST-MODIFIED:20250515T194758Z
UID:795-1748376000-1748383200@yesandmtl.com
SUMMARY:The Jazz Ands in the Frange
DESCRIPTION:Petit Campus: 57 Prince Arthur est\, Montréal\, QC\, Canada \norganized by Musical Improv Montreal \nThe Jazz Ands go Fringe! Get ready for a completely improvised musical comedy\, born from YOUR suggestions and infused with the wild and creative spirit of the Montreal Fringe. Get ready for some meta musical madness! \nHarmonic Heroines: \nSandi Armstrong \nCoco Belliveau (in singing spirit) \nLisa Drupsteen \nAdina Katz \nStephanie McKenna \nMariana Vial \nWith Marie Fatima Rudolf (a.k.a “Dusty Rose”) on the keys \nOpening act: Got a Fringe show? “No Notes” wants YOU! This opening act takes YOUR show (if you’re a Fringe artist in the audience) and delivers ridiculous\, on-the-spot musical commercials to promote it. You’re welcome 😉 \nBrought to you by: \nTara Boyce \nCharlie Gedeon Christian Henegan-Comeau \nBrad Kane \nJacqueline Levitan \nFrank Messier \nHoward Mitnick \nJulie Santini \nWith John Gilbert on the keys
URL:https://yesandmtl.com/event/the-jazz-ands-in-the-frange/
LOCATION:Quebec
CATEGORIES:Shows
END:VEVENT
END:VCALENDAR