BEGIN:VCALENDAR
VERSION:2.0
PRODID:-//Yes And MTL - ECPv6.15.17.1//NONSGML v1.0//EN
CALSCALE:GREGORIAN
METHOD:PUBLISH
X-ORIGINAL-URL:https://yesandmtl.com
X-WR-CALDESC:Events for Yes And MTL
REFRESH-INTERVAL;VALUE=DURATION:PT1H
X-Robots-Tag:noindex
X-PUBLISHED-TTL:PT1H
BEGIN:VTIMEZONE
TZID:America/Toronto
BEGIN:DAYLIGHT
TZOFFSETFROM:-0500
TZOFFSETTO:-0400
TZNAME:EDT
DTSTART:20240310T070000
END:DAYLIGHT
BEGIN:STANDARD
TZOFFSETFROM:-0400
TZOFFSETTO:-0500
TZNAME:EST
DTSTART:20241103T060000
END:STANDARD
BEGIN:DAYLIGHT
TZOFFSETFROM:-0500
TZOFFSETTO:-0400
TZNAME:EDT
DTSTART:20250309T070000
END:DAYLIGHT
BEGIN:STANDARD
TZOFFSETFROM:-0400
TZOFFSETTO:-0500
TZNAME:EST
DTSTART:20251102T060000
END:STANDARD
BEGIN:DAYLIGHT
TZOFFSETFROM:-0500
TZOFFSETTO:-0400
TZNAME:EDT
DTSTART:20260308T070000
END:DAYLIGHT
BEGIN:STANDARD
TZOFFSETFROM:-0400
TZOFFSETTO:-0500
TZNAME:EST
DTSTART:20261101T060000
END:STANDARD
END:VTIMEZONE
BEGIN:VEVENT
DTSTART;TZID=America/Toronto:20250606T183000
DTEND;TZID=America/Toronto:20250606T193000
DTSTAMP:20260422T134336
CREATED:20250603T025938Z
LAST-MODIFIED:20250603T025938Z
UID:927-1749234600-1749238200@yesandmtl.com
SUMMARY:Hot Shots
DESCRIPTION:An Improv Showdown\n\norganized by Montreal Improv
URL:https://yesandmtl.com/event/hot-shots/
LOCATION:Quebec
CATEGORIES:Shows
END:VEVENT
BEGIN:VEVENT
DTSTART;TZID=America/Toronto:20250606T184500
DTEND;TZID=America/Toronto:20250615T210000
DTSTAMP:20260422T134336
CREATED:20250603T131558Z
LAST-MODIFIED:20250604T031017Z
UID:954-1749235500-1750021200@yesandmtl.com
SUMMARY:Colonial Circus : History\, Clown-style
DESCRIPTION:Café Campus: 57 Rue Prince-Arthur E\, Montreal\, Qc H2X 1B4\norganized by Two to Mango \nAfter winning Critic’s Choice (Best Comedy Show\, Orlando Fringe FestN4 2025) and Artists’ Pick (Toronto Fringe 2024)\, Colonial Circus comes to the Montreal Fringe. This duo clown show blends humour\, history\, and Alejandro Jodorowsky-inspired mysticism in one fun ride. Join the show before they head out to the Edmonton Fringe. \nDates: June\n06 – 06:45 pm / 07 – 10:15 pm / 08 – 02:30 pm / 11 – 7:45 pm / 14 – 12:15 pm / 15 – 09:00 pm \nPlaywright.s: Sachin Sharma & Shreya Parashar\nDirector.s: Isaac Kessler
URL:https://yesandmtl.com/event/organized-by-testers-onlyddddddffffffggg-2/
LOCATION:Quebec
CATEGORIES:Shows
END:VEVENT
BEGIN:VEVENT
DTSTART;TZID=America/Toronto:20250606T200000
DTEND;TZID=America/Toronto:20250606T210000
DTSTAMP:20260422T134336
CREATED:20250509T202730Z
LAST-MODIFIED:20250509T202730Z
UID:784-1749240000-1749243600@yesandmtl.com
SUMMARY:Flip Flop
DESCRIPTION:Montreal Improv: 3716 Notre-Dame St W\, Montreal\, Quebec H4C 1P7 \norganized by Yes And MTL \nJoin us for an electrifying night where improvisers of all levels come together for hijinks in a zany competition! \nWatch as teams of three\, led by our charismatic captains\, go head-to-head in hilarious challenges. \nThe  best part? You\, the audience\, get to vote and decide who scores the  points! Plus\, don’t miss the wild card round for some extra fun and  bonus points. Will it be a flip or a flop? \nPRODUCED BY \nYes And MTL (Shanthony Exum) \nCAST \nDale \nRamin \nSarah E \nAlice \nStevie \nGael \nMichel \nVictoria \nSophie  \nTICKETS \n$7 advance $10 door \nCLICK HERE FOR TICKETS \nLOCATION \n3716 Notre-Dame St W\, downstairs \nLANGUAGE \nThis show will take place in English \nAGES \n18+
URL:https://yesandmtl.com/event/flip-flop-8/
LOCATION:Quebec
CATEGORIES:Shows
END:VEVENT
BEGIN:VEVENT
DTSTART;TZID=America/Toronto:20250606T203000
DTEND;TZID=America/Toronto:20250606T213000
DTSTAMP:20260422T134336
CREATED:20250603T031928Z
LAST-MODIFIED:20250603T031928Z
UID:935-1749241800-1749245400@yesandmtl.com
SUMMARY:Friday Night's Main Event
DESCRIPTION:FEST OF THE FEST presents Friday Night’s Main Event at the 2025 St-Ambroise Montreal Fringe Festival! What happens when eight teams take to the stage\, not to prop each other\, but to smash one another into a fine pulp? The rules and laws of improv are being thrown out the window when Friday Night’s Main Event brings you The Fringe For All Brawl! Watch as these mega-powers take to the stage in a one night\, single elimination tournament to determine who will raise the championship in the air!\n\norganized by Variations Mile end
URL:https://yesandmtl.com/event/friday-nights-main-event/
LOCATION:Quebec
CATEGORIES:Shows
END:VEVENT
BEGIN:VEVENT
DTSTART;TZID=America/Toronto:20250606T213000
DTEND;TZID=America/Toronto:20250606T223000
DTSTAMP:20260422T134336
CREATED:20250602T123637Z
LAST-MODIFIED:20250602T123637Z
UID:821-1749245400-1749249000@yesandmtl.com
SUMMARY:Polite Mutiny and Friendly Crews
DESCRIPTION:Montreal Improv: 3716 Notre-Dame St W\, Montreal\, Quebec H4C 1P7 \norganized by Improv 4 Breakfast \nThree teams create a play from scratch\, using audience summaries to build the story. The finale? Threeplo winners Polite Mutiny!
URL:https://yesandmtl.com/event/polite-mutiny-and-friendly-crews-3/
LOCATION:Quebec
CATEGORIES:Shows
END:VEVENT
END:VCALENDAR