BEGIN:VCALENDAR
VERSION:2.0
PRODID:-//Yes And MTL - ECPv6.15.17.1//NONSGML v1.0//EN
CALSCALE:GREGORIAN
METHOD:PUBLISH
X-WR-CALNAME:Yes And MTL
X-ORIGINAL-URL:https://yesandmtl.com
X-WR-CALDESC:Events for Yes And MTL
REFRESH-INTERVAL;VALUE=DURATION:PT1H
X-Robots-Tag:noindex
X-PUBLISHED-TTL:PT1H
BEGIN:VTIMEZONE
TZID:America/Toronto
BEGIN:DAYLIGHT
TZOFFSETFROM:-0500
TZOFFSETTO:-0400
TZNAME:EDT
DTSTART:20240310T070000
END:DAYLIGHT
BEGIN:STANDARD
TZOFFSETFROM:-0400
TZOFFSETTO:-0500
TZNAME:EST
DTSTART:20241103T060000
END:STANDARD
BEGIN:DAYLIGHT
TZOFFSETFROM:-0500
TZOFFSETTO:-0400
TZNAME:EDT
DTSTART:20250309T070000
END:DAYLIGHT
BEGIN:STANDARD
TZOFFSETFROM:-0400
TZOFFSETTO:-0500
TZNAME:EST
DTSTART:20251102T060000
END:STANDARD
BEGIN:DAYLIGHT
TZOFFSETFROM:-0500
TZOFFSETTO:-0400
TZNAME:EDT
DTSTART:20260308T070000
END:DAYLIGHT
BEGIN:STANDARD
TZOFFSETFROM:-0400
TZOFFSETTO:-0500
TZNAME:EST
DTSTART:20261101T060000
END:STANDARD
END:VTIMEZONE
BEGIN:VEVENT
DTSTART;TZID=America/Toronto:20250606T184500
DTEND;TZID=America/Toronto:20250615T210000
DTSTAMP:20260422T134049
CREATED:20250603T131558Z
LAST-MODIFIED:20250604T031017Z
UID:954-1749235500-1750021200@yesandmtl.com
SUMMARY:Colonial Circus : History\, Clown-style
DESCRIPTION:Café Campus: 57 Rue Prince-Arthur E\, Montreal\, Qc H2X 1B4\norganized by Two to Mango \nAfter winning Critic’s Choice (Best Comedy Show\, Orlando Fringe FestN4 2025) and Artists’ Pick (Toronto Fringe 2024)\, Colonial Circus comes to the Montreal Fringe. This duo clown show blends humour\, history\, and Alejandro Jodorowsky-inspired mysticism in one fun ride. Join the show before they head out to the Edmonton Fringe. \nDates: June\n06 – 06:45 pm / 07 – 10:15 pm / 08 – 02:30 pm / 11 – 7:45 pm / 14 – 12:15 pm / 15 – 09:00 pm \nPlaywright.s: Sachin Sharma & Shreya Parashar\nDirector.s: Isaac Kessler
URL:https://yesandmtl.com/event/organized-by-testers-onlyddddddffffffggg-2/
LOCATION:Quebec
CATEGORIES:Shows
END:VEVENT
BEGIN:VEVENT
DTSTART;TZID=America/Toronto:20250607T183000
DTEND;TZID=America/Toronto:20250607T193000
DTSTAMP:20260422T134049
CREATED:20250603T035641Z
LAST-MODIFIED:20250603T035641Z
UID:953-1749321000-1749324600@yesandmtl.com
SUMMARY:Until We Meet Again
DESCRIPTION:Join the House Team before they take their summer break. Chesterfield and Third Date are having their last show before September\n\norganized by Montreal Improv
URL:https://yesandmtl.com/event/until-we-meet-again/
LOCATION:Quebec
CATEGORIES:Shows
END:VEVENT
BEGIN:VEVENT
DTSTART;TZID=America/Toronto:20250607T200000
DTEND;TZID=America/Toronto:20250607T210000
DTSTAMP:20260422T134049
CREATED:20250602T123758Z
LAST-MODIFIED:20250602T123758Z
UID:822-1749326400-1749330000@yesandmtl.com
SUMMARY:Cue the Asteroid
DESCRIPTION:Montreal Improv: 3716 Notre-Dame St W\, Montreal\, Quebec H4C 1P7 \norganized by Alex D and Fraud Department \nGlobal threats. Very limited survival skills. In a world on the brink\, join our team of “heroes” as they do their best to survive!
URL:https://yesandmtl.com/event/cue-the-asteroid/
LOCATION:Quebec
CATEGORIES:Shows
END:VEVENT
BEGIN:VEVENT
DTSTART;TZID=America/Toronto:20250607T203000
DTEND;TZID=America/Toronto:20250607T213000
DTSTAMP:20260422T134049
CREATED:20250603T031929Z
LAST-MODIFIED:20250603T033301Z
UID:936-1749328200-1749331800@yesandmtl.com
SUMMARY:Video Vortex
DESCRIPTION:FEST OF THE FEST presents Video Vortex at the 2025 St-Ambroise Montreal Fringe Festival! From the people who brought you FILMS IN FOCUS\, a brand new cinematic journey\, reaching deep inside the video cassette vault for the titles you ignored\, disregarded or were just too scared to rent! VIDEO VORTEX brings a series of lesser known B\, C and D films to life! \norganized by Variations Mile end
URL:https://yesandmtl.com/event/video-vortex/
LOCATION:Quebec
CATEGORIES:Shows
END:VEVENT
BEGIN:VEVENT
DTSTART;TZID=America/Toronto:20250607T213000
DTEND;TZID=America/Toronto:20250607T223000
DTSTAMP:20260422T134049
CREATED:20250602T123942Z
LAST-MODIFIED:20250602T123942Z
UID:823-1749331800-1749335400@yesandmtl.com
SUMMARY:Bad Imitations
DESCRIPTION:Montreal Improv: 3716 Notre-Dame St W\, Montreal\, Quebec H4C 1P7 \norganized by Naive Adventures \nWhere Improvised versions of existing characters collide!
URL:https://yesandmtl.com/event/bad-imitations/
LOCATION:Quebec
CATEGORIES:Shows
END:VEVENT
END:VCALENDAR