BEGIN:VCALENDAR
VERSION:2.0
PRODID:-//Yes And MTL - ECPv6.15.17.1//NONSGML v1.0//EN
CALSCALE:GREGORIAN
METHOD:PUBLISH
X-ORIGINAL-URL:https://yesandmtl.com
X-WR-CALDESC:Events for Yes And MTL
REFRESH-INTERVAL;VALUE=DURATION:PT1H
X-Robots-Tag:noindex
X-PUBLISHED-TTL:PT1H
BEGIN:VTIMEZONE
TZID:America/Toronto
BEGIN:DAYLIGHT
TZOFFSETFROM:-0500
TZOFFSETTO:-0400
TZNAME:EDT
DTSTART:20240310T070000
END:DAYLIGHT
BEGIN:STANDARD
TZOFFSETFROM:-0400
TZOFFSETTO:-0500
TZNAME:EST
DTSTART:20241103T060000
END:STANDARD
BEGIN:DAYLIGHT
TZOFFSETFROM:-0500
TZOFFSETTO:-0400
TZNAME:EDT
DTSTART:20250309T070000
END:DAYLIGHT
BEGIN:STANDARD
TZOFFSETFROM:-0400
TZOFFSETTO:-0500
TZNAME:EST
DTSTART:20251102T060000
END:STANDARD
BEGIN:DAYLIGHT
TZOFFSETFROM:-0500
TZOFFSETTO:-0400
TZNAME:EDT
DTSTART:20260308T070000
END:DAYLIGHT
BEGIN:STANDARD
TZOFFSETFROM:-0400
TZOFFSETTO:-0500
TZNAME:EST
DTSTART:20261101T060000
END:STANDARD
END:VTIMEZONE
BEGIN:VEVENT
DTSTART;TZID=America/Toronto:20250606T184500
DTEND;TZID=America/Toronto:20250615T210000
DTSTAMP:20260422T134337
CREATED:20250603T131558Z
LAST-MODIFIED:20250604T031017Z
UID:954-1749235500-1750021200@yesandmtl.com
SUMMARY:Colonial Circus : History\, Clown-style
DESCRIPTION:Café Campus: 57 Rue Prince-Arthur E\, Montreal\, Qc H2X 1B4\norganized by Two to Mango \nAfter winning Critic’s Choice (Best Comedy Show\, Orlando Fringe FestN4 2025) and Artists’ Pick (Toronto Fringe 2024)\, Colonial Circus comes to the Montreal Fringe. This duo clown show blends humour\, history\, and Alejandro Jodorowsky-inspired mysticism in one fun ride. Join the show before they head out to the Edmonton Fringe. \nDates: June\n06 – 06:45 pm / 07 – 10:15 pm / 08 – 02:30 pm / 11 – 7:45 pm / 14 – 12:15 pm / 15 – 09:00 pm \nPlaywright.s: Sachin Sharma & Shreya Parashar\nDirector.s: Isaac Kessler
URL:https://yesandmtl.com/event/organized-by-testers-onlyddddddffffffggg-2/
LOCATION:Quebec
CATEGORIES:Shows
END:VEVENT
BEGIN:VEVENT
DTSTART;TZID=America/Toronto:20250608T170000
DTEND;TZID=America/Toronto:20250608T200000
DTSTAMP:20260422T134337
CREATED:20250531T222757Z
LAST-MODIFIED:20250531T222757Z
UID:816-1749402000-1749412800@yesandmtl.com
SUMMARY:NOT ANOTHER MUSICAL: The Musical
DESCRIPTION:Mile end improv: 5337 Boul. Saint-Laurent #250\, Montréal\, QC H2T 1S5 \norganized by @Christian.no.relation \nNOT ANOTHER MUSICAL: The Musical\nPresented as part of the Montreal Fringe Festival 2025\nDate: Sunday June 8th 5:00 PM & 7:00 PM\nLocation: Variations Mile End – 5337 Boul. Saint-Laurent #250\, Montréal\, QC H2T 1S5 \nWhat happens when a live band and a cast of fearless improvisers walk onstage with nothing prepared?\nYou get an entirely original musical — created from scratch\, just for you. \nNOT ANOTHER MUSICAL: The Musical is one hour of musical mayhem\, surprising plot twists\, spontaneous songs\, and deeply chaotic charm. Every lyric\, every character\, and every tear-stained ballad is made up on the spot. No script. No safety net. Just pure\, unpredictable theatre. \nFeaturing special guest: HANORAH \nCome for the comedy\, stay for the feels\, leave humming something that didn’t exist an hour ago. \nDoors open 30 minutes before each show.\nGet there early — it’s Fringe\, it’s intimate\, and it will fill up.
URL:https://yesandmtl.com/event/not-another-musical-the-musical/
LOCATION:Quebec
CATEGORIES:Shows
END:VEVENT
BEGIN:VEVENT
DTSTART;TZID=America/Toronto:20250608T183000
DTEND;TZID=America/Toronto:20250608T193000
DTSTAMP:20260422T134337
CREATED:20250602T124115Z
LAST-MODIFIED:20250603T161830Z
UID:824-1749407400-1749411000@yesandmtl.com
SUMMARY:Pretty Flower Grad Show with Dale
DESCRIPTION:Montreal Improv: 3716 Notre-Dame St W\, Montreal\, Quebec H4C 1P7\norganized by Montreal Improv \nGrad Show
URL:https://yesandmtl.com/event/pretty-flower-with-dale/
LOCATION:Quebec
CATEGORIES:Shows
END:VEVENT
BEGIN:VEVENT
DTSTART;TZID=America/Toronto:20250608T190000
DTEND;TZID=America/Toronto:20250608T210000
DTSTAMP:20260422T134337
CREATED:20250518T040025Z
LAST-MODIFIED:20250518T040025Z
UID:798-1749409200-1749416400@yesandmtl.com
SUMMARY:Sunday Night Improv
DESCRIPTION:Theatre St Catherine: 64 St Catherine St E \n\nOur show is a natural extension of the workshop. A regular rotation of some of Montreal’s most talented improvisers always perform\, including Sandi Armstrong\, Alain Mercieca\, Heidi Lynne Weeks\, Maité Sinave\, Mariana Vial\, Adalia Pemberton\, Solly Krygier-Paine\, Kristina Guevarra\, Mason Persaud\, Shanthony Exum\, Nicky Fournier and Jeremy Lewis . On top of having seasoned improvisers\, we also have the new birds that walk in for the first time and steal the show. You could just literally show up and get thrown in the fire of a live show with no script! It has led to many amazing walk-in\, home run hitters and creates an awesome “anything can happen” spirit\, which is the backbone to improv. \nAlways entertaining\, Sunday Night Improv promises a good time for audiences who are welcome to contribute to the show through their suggestions and voting.
URL:https://yesandmtl.com/event/sunday-night-improv-53/
LOCATION:Quebec
CATEGORIES:Shows
END:VEVENT
BEGIN:VEVENT
DTSTART;TZID=America/Toronto:20250608T193000
DTEND;TZID=America/Toronto:20250608T203000
DTSTAMP:20260422T134337
CREATED:20250602T124250Z
LAST-MODIFIED:20250602T124250Z
UID:825-1749411000-1749414600@yesandmtl.com
SUMMARY:THEME-TU?
DESCRIPTION:Montreal Improv: 3716 Notre-Dame St W\, Montreal\, Quebec H4C 1P7 \norganized by Arthur F \nChaque soirée les particiantes découvrent leur équipe et le thème sur place et doivent alors s’unir afin de conquérir vos cœurs!
URL:https://yesandmtl.com/event/theme-tu/
LOCATION:Quebec
CATEGORIES:Shows
END:VEVENT
END:VCALENDAR