BEGIN:VCALENDAR
VERSION:2.0
PRODID:-//Yes And MTL - ECPv6.15.17.1//NONSGML v1.0//EN
CALSCALE:GREGORIAN
METHOD:PUBLISH
X-ORIGINAL-URL:https://yesandmtl.com
X-WR-CALDESC:Events for Yes And MTL
REFRESH-INTERVAL;VALUE=DURATION:PT1H
X-Robots-Tag:noindex
X-PUBLISHED-TTL:PT1H
BEGIN:VTIMEZONE
TZID:America/Toronto
BEGIN:DAYLIGHT
TZOFFSETFROM:-0500
TZOFFSETTO:-0400
TZNAME:EDT
DTSTART:20240310T070000
END:DAYLIGHT
BEGIN:STANDARD
TZOFFSETFROM:-0400
TZOFFSETTO:-0500
TZNAME:EST
DTSTART:20241103T060000
END:STANDARD
BEGIN:DAYLIGHT
TZOFFSETFROM:-0500
TZOFFSETTO:-0400
TZNAME:EDT
DTSTART:20250309T070000
END:DAYLIGHT
BEGIN:STANDARD
TZOFFSETFROM:-0400
TZOFFSETTO:-0500
TZNAME:EST
DTSTART:20251102T060000
END:STANDARD
BEGIN:DAYLIGHT
TZOFFSETFROM:-0500
TZOFFSETTO:-0400
TZNAME:EDT
DTSTART:20260308T070000
END:DAYLIGHT
BEGIN:STANDARD
TZOFFSETFROM:-0400
TZOFFSETTO:-0500
TZNAME:EST
DTSTART:20261101T060000
END:STANDARD
END:VTIMEZONE
BEGIN:VEVENT
DTSTART;TZID=America/Toronto:20250606T184500
DTEND;TZID=America/Toronto:20250615T210000
DTSTAMP:20260422T134414
CREATED:20250603T131558Z
LAST-MODIFIED:20250604T031017Z
UID:954-1749235500-1750021200@yesandmtl.com
SUMMARY:Colonial Circus : History\, Clown-style
DESCRIPTION:Café Campus: 57 Rue Prince-Arthur E\, Montreal\, Qc H2X 1B4\norganized by Two to Mango \nAfter winning Critic’s Choice (Best Comedy Show\, Orlando Fringe FestN4 2025) and Artists’ Pick (Toronto Fringe 2024)\, Colonial Circus comes to the Montreal Fringe. This duo clown show blends humour\, history\, and Alejandro Jodorowsky-inspired mysticism in one fun ride. Join the show before they head out to the Edmonton Fringe. \nDates: June\n06 – 06:45 pm / 07 – 10:15 pm / 08 – 02:30 pm / 11 – 7:45 pm / 14 – 12:15 pm / 15 – 09:00 pm \nPlaywright.s: Sachin Sharma & Shreya Parashar\nDirector.s: Isaac Kessler
URL:https://yesandmtl.com/event/organized-by-testers-onlyddddddffffffggg-2/
LOCATION:Quebec
CATEGORIES:Shows
END:VEVENT
BEGIN:VEVENT
DTSTART;TZID=America/Toronto:20250612T183000
DTEND;TZID=America/Toronto:20250612T193000
DTSTAMP:20260422T134414
CREATED:20250602T124407Z
LAST-MODIFIED:20250603T161902Z
UID:826-1749753000-1749756600@yesandmtl.com
SUMMARY:Longform 1 Grad Show with Laura and Meng
DESCRIPTION:Montreal Improv: 3716 Notre-Dame St W\, Montreal\, Quebec H4C 1P7\norganized by Montreal Improv \nGrad Show
URL:https://yesandmtl.com/event/longform-1-with-laura-and-meng/
LOCATION:Quebec
CATEGORIES:Shows
END:VEVENT
BEGIN:VEVENT
DTSTART;TZID=America/Toronto:20250612T183000
DTEND;TZID=America/Toronto:20250612T200000
DTSTAMP:20260422T134414
CREATED:20250605T040000Z
LAST-MODIFIED:20250605T040000Z
UID:812-1749753000-1749758400@yesandmtl.com
SUMMARY:The Weekly
DESCRIPTION:THURSDAYS / 6:30PM / 90 MINS + FREE ENTRY TO THE EVERY THURSDAY IMPROV SHOW \nSwing by for an hour and a half drop-in improv workshop for adults! These exciting drop-in classes are open to improvisers of all levels\, whether you’re just starting out or you want to hone your skills. Practice makes perfect and this weekly workshop will get your head back in the game\, introduce new concepts and give you the workout you need to keep moving forward in improv! \nALL LEVELS WELCOME / BEGINNERS TO EXPERIENCED / AGE 18+\nWorkshops will be taught by experienced improvisers/teachers\, and will be held in Studio B. These drop-ins are instructed in English and tend to fill up fast. Registration is highly recommended to reserve your spot\, and it’s best to do so on Monday or Tuesday. \n$15 IN ADVANCE VIA E-TRANSFER / OR / $20 IN PERSON BEFORE CLASS IF SPACE REMAINS.
URL:https://yesandmtl.com/event/the-weekly-43/
LOCATION:Quebec
CATEGORIES:Shows
END:VEVENT
BEGIN:VEVENT
DTSTART;TZID=America/Toronto:20250612T200000
DTEND;TZID=America/Toronto:20250612T210000
DTSTAMP:20260422T134414
CREATED:20250602T124526Z
LAST-MODIFIED:20250603T203015Z
UID:827-1749758400-1749762000@yesandmtl.com
SUMMARY:Narrative 1 Grad Show with Vance
DESCRIPTION:Montreal Improv: 3716 Notre-Dame St W\, Montreal\, Quebec H4C 1P7\norganized by Montreal Improv \nGrad Show
URL:https://yesandmtl.com/event/narrative-1-with-vance/
LOCATION:Quebec
CATEGORIES:Shows
END:VEVENT
BEGIN:VEVENT
DTSTART;TZID=America/Toronto:20250612T203000
DTEND;TZID=America/Toronto:20250612T213000
DTSTAMP:20260422T134414
CREATED:20250603T032807Z
LAST-MODIFIED:20250603T032904Z
UID:947-1749760200-1749763800@yesandmtl.com
SUMMARY:The Dirty Thirty
DESCRIPTION:FEST OF THE FEST presents The Dirty Thirty at the 2025 St-Ambroise Montreal Fringe Festival! Our cast will embark on an exciting sprint to achieve one of improv’s most elusive accolades – completing THE DIRTY THIRTY! They will have 60 minutes to perform 30 scenes before the clock runs out\, with each scene ranging from weird to wild. Will they rise to the challenge? One thing is for sure… Things are going to get dirty. \norganized by Variations Mile end
URL:https://yesandmtl.com/event/the-dirty-thirty/
LOCATION:Quebec
CATEGORIES:Shows
END:VEVENT
END:VCALENDAR