BEGIN:VCALENDAR
VERSION:2.0
PRODID:-//Yes And MTL - ECPv6.15.17.1//NONSGML v1.0//EN
CALSCALE:GREGORIAN
METHOD:PUBLISH
X-WR-CALNAME:Yes And MTL
X-ORIGINAL-URL:https://yesandmtl.com
X-WR-CALDESC:Events for Yes And MTL
REFRESH-INTERVAL;VALUE=DURATION:PT1H
X-Robots-Tag:noindex
X-PUBLISHED-TTL:PT1H
BEGIN:VTIMEZONE
TZID:America/Toronto
BEGIN:DAYLIGHT
TZOFFSETFROM:-0500
TZOFFSETTO:-0400
TZNAME:EDT
DTSTART:20240310T070000
END:DAYLIGHT
BEGIN:STANDARD
TZOFFSETFROM:-0400
TZOFFSETTO:-0500
TZNAME:EST
DTSTART:20241103T060000
END:STANDARD
BEGIN:DAYLIGHT
TZOFFSETFROM:-0500
TZOFFSETTO:-0400
TZNAME:EDT
DTSTART:20250309T070000
END:DAYLIGHT
BEGIN:STANDARD
TZOFFSETFROM:-0400
TZOFFSETTO:-0500
TZNAME:EST
DTSTART:20251102T060000
END:STANDARD
BEGIN:DAYLIGHT
TZOFFSETFROM:-0500
TZOFFSETTO:-0400
TZNAME:EDT
DTSTART:20260308T070000
END:DAYLIGHT
BEGIN:STANDARD
TZOFFSETFROM:-0400
TZOFFSETTO:-0500
TZNAME:EST
DTSTART:20261101T060000
END:STANDARD
END:VTIMEZONE
BEGIN:VEVENT
DTSTART;TZID=America/Toronto:20250617T183000
DTEND;TZID=America/Toronto:20250617T193000
DTSTAMP:20260422T134044
CREATED:20250602T142606Z
LAST-MODIFIED:20250603T162102Z
UID:835-1750185000-1750188600@yesandmtl.com
SUMMARY:Level 3 Grad Show with Kyla and Lucie
DESCRIPTION:Grad Show \norganized by Kyla and Lucie \nMontreal Improv-3716 Notre-Dame St W\, Montreal\, Quebec H4C 1P7
URL:https://yesandmtl.com/event/level-3-with-kyla-and-lucie/
LOCATION:Quebec
CATEGORIES:Shows
END:VEVENT
BEGIN:VEVENT
DTSTART;TZID=America/Toronto:20250617T200000
DTEND;TZID=America/Toronto:20250617T210000
DTSTAMP:20260422T134044
CREATED:20250602T142606Z
LAST-MODIFIED:20260320T211002Z
UID:839-1750190400-1750194000@yesandmtl.com
SUMMARY:Level 4 Grad Show with Shanthony
DESCRIPTION:Grad Show\n\norganized by Shanthony \nMontreal Improv-3716 Notre-Dame St W\, Montreal\, Quebec H4C 1P7
URL:https://yesandmtl.com/event/level-4-with-shanthony/
LOCATION:Quebec
CATEGORIES:Shows
END:VEVENT
END:VCALENDAR