BEGIN:VCALENDAR
VERSION:2.0
PRODID:-//Yes And MTL - ECPv6.15.17.1//NONSGML v1.0//EN
CALSCALE:GREGORIAN
METHOD:PUBLISH
X-WR-CALNAME:Yes And MTL
X-ORIGINAL-URL:https://yesandmtl.com
X-WR-CALDESC:Events for Yes And MTL
REFRESH-INTERVAL;VALUE=DURATION:PT1H
X-Robots-Tag:noindex
X-PUBLISHED-TTL:PT1H
BEGIN:VTIMEZONE
TZID:America/Toronto
BEGIN:DAYLIGHT
TZOFFSETFROM:-0500
TZOFFSETTO:-0400
TZNAME:EDT
DTSTART:20240310T070000
END:DAYLIGHT
BEGIN:STANDARD
TZOFFSETFROM:-0400
TZOFFSETTO:-0500
TZNAME:EST
DTSTART:20241103T060000
END:STANDARD
BEGIN:DAYLIGHT
TZOFFSETFROM:-0500
TZOFFSETTO:-0400
TZNAME:EDT
DTSTART:20250309T070000
END:DAYLIGHT
BEGIN:STANDARD
TZOFFSETFROM:-0400
TZOFFSETTO:-0500
TZNAME:EST
DTSTART:20251102T060000
END:STANDARD
BEGIN:DAYLIGHT
TZOFFSETFROM:-0500
TZOFFSETTO:-0400
TZNAME:EDT
DTSTART:20260308T070000
END:DAYLIGHT
BEGIN:STANDARD
TZOFFSETFROM:-0400
TZOFFSETTO:-0500
TZNAME:EST
DTSTART:20261101T060000
END:STANDARD
END:VTIMEZONE
BEGIN:VEVENT
DTSTART;TZID=America/Toronto:20250621T183000
DTEND;TZID=America/Toronto:20250621T193000
DTSTAMP:20260422T133647
CREATED:20250604T165253Z
LAST-MODIFIED:20250604T165253Z
UID:982-1750530600-1750534200@yesandmtl.com
SUMMARY:Five Star
DESCRIPTION:student show\n\norganized by Montreal Improv
URL:https://yesandmtl.com/event/five-star/
LOCATION:Quebec
CATEGORIES:Shows
END:VEVENT
BEGIN:VEVENT
DTSTART;TZID=America/Toronto:20250621T210000
DTEND;TZID=America/Toronto:20250621T210000
DTSTAMP:20260422T133647
CREATED:20250602T151221Z
LAST-MODIFIED:20250602T151354Z
UID:893-1750539600-1750539600@yesandmtl.com
SUMMARY:Passion Projects
DESCRIPTION:Improv based on powerpoint presetnations. A conference like you’ve never experienced! \norganized by Jaquelin L \nMontreal Improv-3717 Notre-Dame St W\, Montreal\, Quebec H4C 1P7
URL:https://yesandmtl.com/event/passion-projects/
LOCATION:Quebec
CATEGORIES:Shows
END:VEVENT
BEGIN:VEVENT
DTSTART;TZID=America/Toronto:20250621T213000
DTEND;TZID=America/Toronto:20250621T223000
DTSTAMP:20260422T133647
CREATED:20250602T145447Z
LAST-MODIFIED:20250616T185644Z
UID:874-1750541400-1750545000@yesandmtl.com
SUMMARY:Take it Away - A Live Improvised Game Show
DESCRIPTION:Get ready for a comedy showdown where quick wit meets total chaos! Take It Away is an improv competition inspired by Dropout’s Make Some Noise and Whose Line Is It Anyway?\, where three contestants step up to take on a series of unpredictable\, laugh-out-loud challenges. \nWith no scripts and no time to prepare\, players will be handed randomized prompts and must create hilarious characters\, absurd scenes\, and over-the-top performances on the fly. Anything can happen! \nAt the end of the night\, one contestant will walk away with a shiny trophy\, but the real prize? Making the audience lose their minds with laughter. So sit back\, strap in\, and get ready to watch our performers take the stage and Take It Away! \nCAST\nLucie Gee | Alex Brault | Mariana Vial\nAnd your host: Costa Tsimiklis \norganized by Costa T in collaboration with Improv 4 Breakfast \nMontreal Improv-3716 Notre-Dame St W\, Montreal\, Quebec H4C 1P7
URL:https://yesandmtl.com/event/take-it-away-a-live-improvised-game-show/
LOCATION:Quebec
CATEGORIES:Shows
END:VEVENT
END:VCALENDAR