BEGIN:VCALENDAR
VERSION:2.0
PRODID:-//Yes And MTL - ECPv6.15.17.1//NONSGML v1.0//EN
CALSCALE:GREGORIAN
METHOD:PUBLISH
X-WR-CALNAME:Yes And MTL
X-ORIGINAL-URL:https://yesandmtl.com
X-WR-CALDESC:Events for Yes And MTL
REFRESH-INTERVAL;VALUE=DURATION:PT1H
X-Robots-Tag:noindex
X-PUBLISHED-TTL:PT1H
BEGIN:VTIMEZONE
TZID:America/Toronto
BEGIN:DAYLIGHT
TZOFFSETFROM:-0500
TZOFFSETTO:-0400
TZNAME:EDT
DTSTART:20240310T070000
END:DAYLIGHT
BEGIN:STANDARD
TZOFFSETFROM:-0400
TZOFFSETTO:-0500
TZNAME:EST
DTSTART:20241103T060000
END:STANDARD
BEGIN:DAYLIGHT
TZOFFSETFROM:-0500
TZOFFSETTO:-0400
TZNAME:EDT
DTSTART:20250309T070000
END:DAYLIGHT
BEGIN:STANDARD
TZOFFSETFROM:-0400
TZOFFSETTO:-0500
TZNAME:EST
DTSTART:20251102T060000
END:STANDARD
BEGIN:DAYLIGHT
TZOFFSETFROM:-0500
TZOFFSETTO:-0400
TZNAME:EDT
DTSTART:20260308T070000
END:DAYLIGHT
BEGIN:STANDARD
TZOFFSETFROM:-0400
TZOFFSETTO:-0500
TZNAME:EST
DTSTART:20261101T060000
END:STANDARD
END:VTIMEZONE
BEGIN:VEVENT
DTSTART;TZID=America/Toronto:20250712T200000
DTEND;TZID=America/Toronto:20250712T210000
DTSTAMP:20260422T115945
CREATED:20250417T145235Z
LAST-MODIFIED:20250703T020313Z
UID:749-1752350400-1752354000@yesandmtl.com
SUMMARY:Montreopolis 2087: Episode 3
DESCRIPTION:Impro Montréal / Montreal Improv: 3716 Rue Notre-Dame Ouest Montréal\, QC H4C 1P7\norganized by Questionable Productions \nDanger\, intrigue\, the soulless glow of neon lights – this and more will rise to the surface in Questionable Decisions’ most daring show yet. Join them as they uncover the secrets hidden in this futuristic hyper-capitalist hellscape. Will wounded souls find redemption? Will no-name nobodies find their place in this heartless world? Will love bloom in the coldest concrete jungle? The adventure begins here\, so buy your tickets and find out! \nThis show combines inspiration from the CBR+PNK tabletop roleplaying game with the high-value narrative improv for which Questionable Decisions is known. No prior knowledge of the game is required to enjoy this show! \nThis adventure takes place in four action-packed episodes: April 12\, May 10\, June 14\, July 12. \nDoors open at 7:30\, show starts at 8:00.
URL:https://yesandmtl.com/event/montreopolis-2087-episode-3/
LOCATION:Montreal Improv\, 3716 rue Notre Dame Ouest\, Montreal\, Quebec\, H4C 1P7\, Canada
CATEGORIES:Shows
END:VEVENT
END:VCALENDAR