BEGIN:VCALENDAR
VERSION:2.0
PRODID:-//Yes And MTL - ECPv6.15.17.1//NONSGML v1.0//EN
CALSCALE:GREGORIAN
METHOD:PUBLISH
X-ORIGINAL-URL:https://yesandmtl.com
X-WR-CALDESC:Events for Yes And MTL
REFRESH-INTERVAL;VALUE=DURATION:PT1H
X-Robots-Tag:noindex
X-PUBLISHED-TTL:PT1H
BEGIN:VTIMEZONE
TZID:America/Toronto
BEGIN:DAYLIGHT
TZOFFSETFROM:-0500
TZOFFSETTO:-0400
TZNAME:EDT
DTSTART:20240310T070000
END:DAYLIGHT
BEGIN:STANDARD
TZOFFSETFROM:-0400
TZOFFSETTO:-0500
TZNAME:EST
DTSTART:20241103T060000
END:STANDARD
BEGIN:DAYLIGHT
TZOFFSETFROM:-0500
TZOFFSETTO:-0400
TZNAME:EDT
DTSTART:20250309T070000
END:DAYLIGHT
BEGIN:STANDARD
TZOFFSETFROM:-0400
TZOFFSETTO:-0500
TZNAME:EST
DTSTART:20251102T060000
END:STANDARD
BEGIN:DAYLIGHT
TZOFFSETFROM:-0500
TZOFFSETTO:-0400
TZNAME:EDT
DTSTART:20260308T070000
END:DAYLIGHT
BEGIN:STANDARD
TZOFFSETFROM:-0400
TZOFFSETTO:-0500
TZNAME:EST
DTSTART:20261101T060000
END:STANDARD
END:VTIMEZONE
BEGIN:VEVENT
DTSTART;TZID=America/Toronto:20250905T200000
DTEND;TZID=America/Toronto:20250905T210000
DTSTAMP:20260422T081623
CREATED:20250825T010453Z
LAST-MODIFIED:20250825T010453Z
UID:1326-1757102400-1757106000@yesandmtl.com
SUMMARY:What Comes Next? An Improvised YA Fantasy
DESCRIPTION:Montreal Improv: 3716 Rue Notre-Dame Ouest Montréal\, QC H4C 1P7 \norganized by Priddy Playful Productions \nWhat Comes Next? An Improvised YA Fantasy\nChapter One: I discover I have the magical ability to [insert audience suggestion]\n–\nCome and build a never seen before Young Adult Fantasy… one chapter at a time.\nIf you love tales of destiny\, dark forces\, and magical worlds\, this is your chance to see one come to life on stage.\nYour suggestions will shape the heroes\, the quests\, and the world\, as our cast brings a brand-new adventure to life.\n–\n“What Comes Next?” is brought to you by Priddy Playful Productions. Based in Montreal\, we put on fully improvised plays\, including shows such as Improvised Bridgerton\, Improvised Dr Who\, Improvised Potter\, Improvised Game of Thrones\, and Improvised Fairytales.
URL:https://yesandmtl.com/event/what-comes-next-an-improvised-ya-fantasy/
LOCATION:Montreal Improv\, 3716 rue Notre Dame Ouest\, Montreal\, Quebec\, H4C 1P7\, Canada
CATEGORIES:Shows
END:VEVENT
BEGIN:VEVENT
DTSTART;TZID=America/Toronto:20250905T213000
DTEND;TZID=America/Toronto:20250905T223000
DTSTAMP:20260422T081623
CREATED:20250903T134459Z
LAST-MODIFIED:20250903T134459Z
UID:1338-1757107800-1757111400@yesandmtl.com
SUMMARY:Michael and Christian Go to THE BIG LEAGUES
DESCRIPTION:Montreal Improv: 3716 Rue Notre-Dame Ouest  Montréal\, QC H4C 1P7 \norganized by Michael and Christian \nThey’ve gone to the beach. \nThey’ve gone to Vegas. \nThey’ve  gone to Ikea\, daycare\, Ben & Jerry’s\, therapy\, the internet\, the  Prairie\, each other’s bed\, A mountain\, JAIL\, Thanksgiving dinner\, A  petting zoo\, all the way up to SPACE then to HELL and BACK! \nNow Michael and Christian are going to  \nTHE BIG LEAGUES! \nFor  the first time ever\, this duo is leveling up. One full hour. One epic  story. Two perspectives hurtling toward the same chaotic conclusion. \nThis  show will take you deeper than ever into their strange\, chaotic worlds —  flipping between storylines\, tones\, timelines\, and realities until it  all comes crashing together in a way that’s hilarious\, ridiculous\, and  weirdly emotional. \nIf you’ve followed them through  freezers\, sand dunes\, casinos\, mazes\, and cosmic voids\, don’t miss the  show where everything collides. \nMichael and Christian \nGo to THE BIG LEAGUES! \nOne hour. One story. No brakes.
URL:https://yesandmtl.com/event/michael-and-christian-go-to-the-big-leagues/
LOCATION:Montreal Improv\, 3716 rue Notre Dame Ouest\, Montreal\, Quebec\, H4C 1P7\, Canada
CATEGORIES:Shows
END:VEVENT
END:VCALENDAR