BEGIN:VCALENDAR
VERSION:2.0
PRODID:-//Yes And MTL - ECPv6.15.17.1//NONSGML v1.0//EN
CALSCALE:GREGORIAN
METHOD:PUBLISH
X-ORIGINAL-URL:https://yesandmtl.com
X-WR-CALDESC:Events for Yes And MTL
REFRESH-INTERVAL;VALUE=DURATION:PT1H
X-Robots-Tag:noindex
X-PUBLISHED-TTL:PT1H
BEGIN:VTIMEZONE
TZID:America/Toronto
BEGIN:DAYLIGHT
TZOFFSETFROM:-0500
TZOFFSETTO:-0400
TZNAME:EDT
DTSTART:20240310T070000
END:DAYLIGHT
BEGIN:STANDARD
TZOFFSETFROM:-0400
TZOFFSETTO:-0500
TZNAME:EST
DTSTART:20241103T060000
END:STANDARD
BEGIN:DAYLIGHT
TZOFFSETFROM:-0500
TZOFFSETTO:-0400
TZNAME:EDT
DTSTART:20250309T070000
END:DAYLIGHT
BEGIN:STANDARD
TZOFFSETFROM:-0400
TZOFFSETTO:-0500
TZNAME:EST
DTSTART:20251102T060000
END:STANDARD
BEGIN:DAYLIGHT
TZOFFSETFROM:-0500
TZOFFSETTO:-0400
TZNAME:EDT
DTSTART:20260308T070000
END:DAYLIGHT
BEGIN:STANDARD
TZOFFSETFROM:-0400
TZOFFSETTO:-0500
TZNAME:EST
DTSTART:20261101T060000
END:STANDARD
END:VTIMEZONE
BEGIN:VEVENT
DTSTART;TZID=America/Toronto:20250920T213900
DTEND;TZID=America/Toronto:20250920T223000
DTSTAMP:20260422T081625
CREATED:20250908T163829Z
LAST-MODIFIED:20250908T163829Z
UID:1374-1758404340-1758407400@yesandmtl.com
SUMMARY:Deuces Wild (An Improvised Duo Show)
DESCRIPTION:Montreal Improv: 3716 Rue Notre-Dame Ouest Montréal\, QC H4C 1P7 \norganized by Dale Bernier \nStep into the unpredictable world of Deuces Wild! Where the magic of improv comes alive with dynamic duos taking center stage! \nIn this uproarious comedy show\, pairs of talented improvisers will weave together spontaneous and outrageous scenes based on audience suggestions and wild challenges. \nEach duo brings their own unique flair to the stage\, creating a night of fast-paced fun and unexpected hilarity. With quick thinking\, sharp wit\, and a splash of chaos\, Deuces Wild promises an evening of laughter and surprises that you won’t want to miss. \nBuckle up and enjoy the wild ride!
URL:https://yesandmtl.com/event/deuces-wild-an-improvised-duo-show-5/
LOCATION:Montreal Improv\, 3716 rue Notre Dame Ouest\, Montreal\, Quebec\, H4C 1P7\, Canada
CATEGORIES:Shows
END:VEVENT
END:VCALENDAR