BEGIN:VCALENDAR
VERSION:2.0
PRODID:-//Yes And MTL - ECPv6.15.17.1//NONSGML v1.0//EN
CALSCALE:GREGORIAN
METHOD:PUBLISH
X-WR-CALNAME:Yes And MTL
X-ORIGINAL-URL:https://yesandmtl.com
X-WR-CALDESC:Events for Yes And MTL
REFRESH-INTERVAL;VALUE=DURATION:PT1H
X-Robots-Tag:noindex
X-PUBLISHED-TTL:PT1H
BEGIN:VTIMEZONE
TZID:America/Toronto
BEGIN:DAYLIGHT
TZOFFSETFROM:-0500
TZOFFSETTO:-0400
TZNAME:EDT
DTSTART:20240310T070000
END:DAYLIGHT
BEGIN:STANDARD
TZOFFSETFROM:-0400
TZOFFSETTO:-0500
TZNAME:EST
DTSTART:20241103T060000
END:STANDARD
BEGIN:DAYLIGHT
TZOFFSETFROM:-0500
TZOFFSETTO:-0400
TZNAME:EDT
DTSTART:20250309T070000
END:DAYLIGHT
BEGIN:STANDARD
TZOFFSETFROM:-0400
TZOFFSETTO:-0500
TZNAME:EST
DTSTART:20251102T060000
END:STANDARD
BEGIN:DAYLIGHT
TZOFFSETFROM:-0500
TZOFFSETTO:-0400
TZNAME:EDT
DTSTART:20260308T070000
END:DAYLIGHT
BEGIN:STANDARD
TZOFFSETFROM:-0400
TZOFFSETTO:-0500
TZNAME:EST
DTSTART:20261101T060000
END:STANDARD
END:VTIMEZONE
BEGIN:VEVENT
DTSTART;TZID=America/Toronto:20250925T183000
DTEND;TZID=America/Toronto:20250925T200000
DTSTAMP:20260422T081516
CREATED:20250918T040000Z
LAST-MODIFIED:20250918T040000Z
UID:1414-1758825000-1758830400@yesandmtl.com
SUMMARY:The Weekly
DESCRIPTION:THURSDAYS / 6:30PM / 90 MINS + FREE ENTRY TO THE EVERY THURSDAY IMPROV SHOW \nSwing by for an hour and a half drop-in improv workshop for adults! These exciting drop-in classes are open to improvisers of all levels\, whether you’re just starting out or you want to hone your skills. Practice makes perfect and this weekly workshop will get your head back in the game\, introduce new concepts and give you the workout you need to keep moving forward in improv! \nALL LEVELS WELCOME / BEGINNERS TO EXPERIENCED / AGE 18+\nWorkshops will be taught by experienced improvisers/teachers\, and will be held in Studio B. These drop-ins are instructed in English and tend to fill up fast. Registration is highly recommended to reserve your spot\, and it’s best to do so on Monday or Tuesday. \n$15 IN ADVANCE VIA E-TRANSFER / OR / $20 IN PERSON BEFORE CLASS IF SPACE REMAINS.
URL:https://yesandmtl.com/event/the-weekly-58/
LOCATION:Mile End Improv\, 5337 boul. Saint Laurent\, Montreal\, Quebec\, H2T 1S5\, Canada
CATEGORIES:Shows
END:VEVENT
BEGIN:VEVENT
DTSTART;TZID=America/Toronto:20250925T190000
DTEND;TZID=America/Toronto:20250925T200000
DTSTAMP:20260422T081516
CREATED:20250909T020908Z
LAST-MODIFIED:20250917T131310Z
UID:1378-1758826800-1758830400@yesandmtl.com
SUMMARY:Triple Threat
DESCRIPTION:La Comedie: 1113 Boul. de Maisonneuve E\norganized by Le Grand Yes And \nExperience this electrifying show as three powerhouse ensembles each take the stage with their own bold and unique format.\nEvery set offers you something completely different – yet equally unforgetable \nTROUPES\nPitch Slap\nS’Longshot\nPower of the Mind
URL:https://yesandmtl.com/event/triple-threat/
LOCATION:Théâtre La Comédie de Montréal\, 1113 Boul. de Maisonneuve E\,\, Montreal\, Quebec\, H2L 1Z8\, Canada
CATEGORIES:Shows
END:VEVENT
BEGIN:VEVENT
DTSTART;TZID=America/Toronto:20250925T203000
DTEND;TZID=America/Toronto:20250925T213000
DTSTAMP:20260422T081516
CREATED:20250918T040000Z
LAST-MODIFIED:20250918T040000Z
UID:1415-1758832200-1758835800@yesandmtl.com
SUMMARY:The Every Thursday Improv Show
DESCRIPTION:Mile End Improv / Theatre VME: 5337 Boul. Saint-Laurent #250\, Montréal\, QC H2T 1S5\norganized by Mile End Improv \n\nThere are three guarantees in life. \n1. Death\n2. Taxes\n3. An improv show every Thursday at Theatre VME \nWhether rain\, snow\, holiday or orgy\, you can bet your rear that The Every Thursday Improv show will be live and in living color!\nWatch as we invite some of our brightest and burgeoning players on stage for sixty minutes of improvised comedy.\nThe only thing that ain’t for sure? What we plan on doing! Each week\, the formats\, concepts and plans change. \nOh hell yeah.
URL:https://yesandmtl.com/event/the-every-thursday-improv-show-64/
LOCATION:Mile End Improv\, 5337 boul. Saint Laurent\, Montreal\, Quebec\, H2T 1S5\, Canada
CATEGORIES:Shows
END:VEVENT
BEGIN:VEVENT
DTSTART;TZID=America/Toronto:20250925T203000
DTEND;TZID=America/Toronto:20250925T220000
DTSTAMP:20260422T081516
CREATED:20250909T021025Z
LAST-MODIFIED:20250917T131328Z
UID:1379-1758832200-1758837600@yesandmtl.com
SUMMARY:Troupe-a-Palooza
DESCRIPTION:La Comedie: 1113 Boul. de Maisonneuve E\norganized by Le Grand Yes And \nA massive showcase of improv madness! These teams are going to keep you laughing all night long with their outrageous characters and comedic twists.\nLike a music festival for improv\, but without the flower crowns (and the music). \nTROUPES\nDuel\nBBL Babies\nWe are Bradshaw\nPotty Time\nChesterfield\nGwyneth
URL:https://yesandmtl.com/event/troupe-a-palooza/
LOCATION:Théâtre La Comédie de Montréal\, 1113 Boul. de Maisonneuve E\,\, Montreal\, Quebec\, H2L 1Z8\, Canada
CATEGORIES:Shows
END:VEVENT
BEGIN:VEVENT
DTSTART;TZID=America/Toronto:20250925T223000
DTEND;TZID=America/Toronto:20250925T233000
DTSTAMP:20260422T081516
CREATED:20250909T021131Z
LAST-MODIFIED:20250917T131353Z
UID:1380-1758839400-1758843000@yesandmtl.com
SUMMARY:A Very Special Episode: The Improvised Sitcom
DESCRIPTION:La Comedie: 1113 Boul. de Maisonneuve E\norganized by Le Grand Yes And \nEvery week the Ryerson family and their friends end up in all kinds of wacky situations; but this week is a Very Special Episode. Join us for an entirely improvised sitcom\, with a whole host of laughs and heart. And at the end\, we’re all sure to learn a Very Valuable Lesson.\n​\nPRODUCED BY\nSolomon Krygier-Paine (Solly)
URL:https://yesandmtl.com/event/a-very-special-episode-the-improvised-sitcom/
LOCATION:Théâtre La Comédie de Montréal\, 1113 Boul. de Maisonneuve E\,\, Montreal\, Quebec\, H2L 1Z8\, Canada
CATEGORIES:Shows
END:VEVENT
END:VCALENDAR