BEGIN:VCALENDAR
VERSION:2.0
PRODID:-//Yes And MTL - ECPv6.15.17.1//NONSGML v1.0//EN
CALSCALE:GREGORIAN
METHOD:PUBLISH
X-WR-CALNAME:Yes And MTL
X-ORIGINAL-URL:https://yesandmtl.com
X-WR-CALDESC:Events for Yes And MTL
REFRESH-INTERVAL;VALUE=DURATION:PT1H
X-Robots-Tag:noindex
X-PUBLISHED-TTL:PT1H
BEGIN:VTIMEZONE
TZID:America/Toronto
BEGIN:DAYLIGHT
TZOFFSETFROM:-0500
TZOFFSETTO:-0400
TZNAME:EDT
DTSTART:20240310T070000
END:DAYLIGHT
BEGIN:STANDARD
TZOFFSETFROM:-0400
TZOFFSETTO:-0500
TZNAME:EST
DTSTART:20241103T060000
END:STANDARD
BEGIN:DAYLIGHT
TZOFFSETFROM:-0500
TZOFFSETTO:-0400
TZNAME:EDT
DTSTART:20250309T070000
END:DAYLIGHT
BEGIN:STANDARD
TZOFFSETFROM:-0400
TZOFFSETTO:-0500
TZNAME:EST
DTSTART:20251102T060000
END:STANDARD
BEGIN:DAYLIGHT
TZOFFSETFROM:-0500
TZOFFSETTO:-0400
TZNAME:EDT
DTSTART:20260308T070000
END:DAYLIGHT
BEGIN:STANDARD
TZOFFSETFROM:-0400
TZOFFSETTO:-0500
TZNAME:EST
DTSTART:20261101T060000
END:STANDARD
END:VTIMEZONE
BEGIN:VEVENT
DTSTART;TZID=America/Toronto:20250926T183000
DTEND;TZID=America/Toronto:20250926T200000
DTSTAMP:20260422T081530
CREATED:20250909T021347Z
LAST-MODIFIED:20250917T131649Z
UID:1381-1758911400-1758916800@yesandmtl.com
SUMMARY:All Killer\, No Filler
DESCRIPTION:Le Comedie: 1113 Boul. de Maisonneuve E\norganized by Le Grand Yes And \nEach troupe is sure to have you exclaiming “I’m dead!” as these heavy hitters of improv prove that when the talent is this good\, every set is a headliner. \nTROUPES\nThird Date\nKingdom Kids\nShort Stack\nStaccayto Staccato
URL:https://yesandmtl.com/event/all-killer-no-filler/
LOCATION:Théâtre La Comédie de Montréal\, 1113 Boul. de Maisonneuve E\,\, Montreal\, Quebec\, H2L 1Z8\, Canada
CATEGORIES:Shows
END:VEVENT
BEGIN:VEVENT
DTSTART;TZID=America/Toronto:20250926T203000
DTEND;TZID=America/Toronto:20250926T220000
DTSTAMP:20260422T081530
CREATED:20250909T021553Z
LAST-MODIFIED:20250909T021553Z
UID:1382-1758918600-1758924000@yesandmtl.com
SUMMARY:Tales on Tap: A Narrative Journey
DESCRIPTION:La Comedie: 1113 Boul. de Maisonneuve E \norganized by Le Grand Yes And \nImagine one tiny suggestion creates an entire world and story. That’s what you’ll get in Tales on Tap.\nHilarious\, completely unscripted narratives in a variety of genres – watch these stories unfold in real time. \nTROUPES\nSpace Cowboy: An Improvised Space Western (by Wayward Improvised Theatre)\nCutie\nMacbeth (the Scottish Improv Team)\nMake it a Musical
URL:https://yesandmtl.com/event/tales-on-tap-a-narrative-journey/
LOCATION:Other Venue
CATEGORIES:Shows
END:VEVENT
BEGIN:VEVENT
DTSTART;TZID=America/Toronto:20250926T223000
DTEND;TZID=America/Toronto:20250926T233000
DTSTAMP:20260422T081530
CREATED:20250909T021752Z
LAST-MODIFIED:20250917T131431Z
UID:1383-1758925800-1758929400@yesandmtl.com
SUMMARY:Max's Musical Improv Party
DESCRIPTION:La Comedie: 1113 Boul. de Maisonneuve E\norganized by Le Grand Yes And \nMax’s Musical Improv Party is a game show type party which invites the entire audience to participate. The show even accommodates those who cannot sing. This is off the hook fun for everybody. It includes gag prizes\, props\, costumes\, musical instruments\, and everything to encourage people to play and sing\, regardless of ability. \nIt has been running about 2 years at the Miami Improv Festival\, the New Orleans Improv Festival\, the Baton Rouge Improv festival\, the Hollywood Fringe festival\, and in Edinburgh and Manchester. \nMax is a master teacher and performer with 45 years of improv experience working with the best Improv people in the world\, including Viola Spolin and Paul Sills. \nPRODUCED BY\nMax Schafer
URL:https://yesandmtl.com/event/maxs-musical-improv-party/
LOCATION:Théâtre La Comédie de Montréal\, 1113 Boul. de Maisonneuve E\,\, Montreal\, Quebec\, H2L 1Z8\, Canada
CATEGORIES:Shows
END:VEVENT
END:VCALENDAR