BEGIN:VCALENDAR
VERSION:2.0
PRODID:-//Yes And MTL - ECPv6.15.17.1//NONSGML v1.0//EN
CALSCALE:GREGORIAN
METHOD:PUBLISH
X-WR-CALNAME:Yes And MTL
X-ORIGINAL-URL:https://yesandmtl.com
X-WR-CALDESC:Events for Yes And MTL
REFRESH-INTERVAL;VALUE=DURATION:PT1H
X-Robots-Tag:noindex
X-PUBLISHED-TTL:PT1H
BEGIN:VTIMEZONE
TZID:America/Toronto
BEGIN:DAYLIGHT
TZOFFSETFROM:-0500
TZOFFSETTO:-0400
TZNAME:EDT
DTSTART:20240310T070000
END:DAYLIGHT
BEGIN:STANDARD
TZOFFSETFROM:-0400
TZOFFSETTO:-0500
TZNAME:EST
DTSTART:20241103T060000
END:STANDARD
BEGIN:DAYLIGHT
TZOFFSETFROM:-0500
TZOFFSETTO:-0400
TZNAME:EDT
DTSTART:20250309T070000
END:DAYLIGHT
BEGIN:STANDARD
TZOFFSETFROM:-0400
TZOFFSETTO:-0500
TZNAME:EST
DTSTART:20251102T060000
END:STANDARD
BEGIN:DAYLIGHT
TZOFFSETFROM:-0500
TZOFFSETTO:-0400
TZNAME:EDT
DTSTART:20260308T070000
END:DAYLIGHT
BEGIN:STANDARD
TZOFFSETFROM:-0400
TZOFFSETTO:-0500
TZNAME:EST
DTSTART:20261101T060000
END:STANDARD
END:VTIMEZONE
BEGIN:VEVENT
DTSTART;TZID=America/Toronto:20250927T183000
DTEND;TZID=America/Toronto:20250927T200000
DTSTAMP:20260422T081529
CREATED:20250909T022006Z
LAST-MODIFIED:20250917T131515Z
UID:1384-1758997800-1759003200@yesandmtl.com
SUMMARY:The Lineup
DESCRIPTION:La Comedie: 1113 Boul. de Maisonneuve E\norganized by Le Grand Yes And \nLine ’em up… these improvisers are guilty of making you laugh. Comedians create laugh-out-loud scenes from nothing but your suggestions in a variety of different styles and formats!\nA fast paced and high energy show enjoyable by all! \nTROUPES\nMom Boy Dad\nAM 2 PM\nJuice Box\nOrson Whales\nGambiarra Engineering Company Ltd.
URL:https://yesandmtl.com/event/the-lineup/
LOCATION:Théâtre La Comédie de Montréal\, 1113 Boul. de Maisonneuve E\,\, Montreal\, Quebec\, H2L 1Z8\, Canada
CATEGORIES:Shows
END:VEVENT
BEGIN:VEVENT
DTSTART;TZID=America/Toronto:20250927T203000
DTEND;TZID=America/Toronto:20250927T220000
DTSTAMP:20260422T081529
CREATED:20250909T022121Z
LAST-MODIFIED:20250917T131535Z
UID:1385-1759005000-1759010400@yesandmtl.com
SUMMARY:North American Tour
DESCRIPTION:La Comedie: 1113 Boul. de Maisonneuve E\norganized by Le Grand Yes And \nPack your bags and prepare for a tour around North America as these 5 teams from 4 different cities around the continent deliver non-stop laughs from their neck of the woods. No passport required. \nTROUPES\nRat Race\nMaria’s Basement\n$Dope City$\nTectonic Improv\nClub Soda\nWassup?
URL:https://yesandmtl.com/event/north-american-tour/
LOCATION:Théâtre La Comédie de Montréal\, 1113 Boul. de Maisonneuve E\,\, Montreal\, Quebec\, H2L 1Z8\, Canada
CATEGORIES:Shows
END:VEVENT
END:VCALENDAR