BEGIN:VCALENDAR
VERSION:2.0
PRODID:-//Yes And MTL - ECPv6.15.17.1//NONSGML v1.0//EN
CALSCALE:GREGORIAN
METHOD:PUBLISH
X-WR-CALNAME:Yes And MTL
X-ORIGINAL-URL:https://yesandmtl.com
X-WR-CALDESC:Events for Yes And MTL
REFRESH-INTERVAL;VALUE=DURATION:PT1H
X-Robots-Tag:noindex
X-PUBLISHED-TTL:PT1H
BEGIN:VTIMEZONE
TZID:America/Toronto
BEGIN:DAYLIGHT
TZOFFSETFROM:-0500
TZOFFSETTO:-0400
TZNAME:EDT
DTSTART:20240310T070000
END:DAYLIGHT
BEGIN:STANDARD
TZOFFSETFROM:-0400
TZOFFSETTO:-0500
TZNAME:EST
DTSTART:20241103T060000
END:STANDARD
BEGIN:DAYLIGHT
TZOFFSETFROM:-0500
TZOFFSETTO:-0400
TZNAME:EDT
DTSTART:20250309T070000
END:DAYLIGHT
BEGIN:STANDARD
TZOFFSETFROM:-0400
TZOFFSETTO:-0500
TZNAME:EST
DTSTART:20251102T060000
END:STANDARD
BEGIN:DAYLIGHT
TZOFFSETFROM:-0500
TZOFFSETTO:-0400
TZNAME:EDT
DTSTART:20260308T070000
END:DAYLIGHT
BEGIN:STANDARD
TZOFFSETFROM:-0400
TZOFFSETTO:-0500
TZNAME:EST
DTSTART:20261101T060000
END:STANDARD
END:VTIMEZONE
BEGIN:VEVENT
DTSTART;TZID=America/Toronto:20250928T183000
DTEND;TZID=America/Toronto:20250928T200000
DTSTAMP:20260422T081519
CREATED:20250909T022415Z
LAST-MODIFIED:20250917T131757Z
UID:1387-1759084200-1759089600@yesandmtl.com
SUMMARY:Le Mélange Québécois
DESCRIPTION:La Comedie: 1113 Boul. de Maisonneuve E\norganized by Le Grand Yes And \nThis show is in FRENCH \nAn improv night made in Québec\, with Montreal favourites performing in French and showcasing what they do best! \nTROUPES\nImpro Sierra\nMa tante Jeannine et sa gang\nLa Minorité Risible\nLes Improbables
URL:https://yesandmtl.com/event/le-melange-quebecois/
LOCATION:Théâtre La Comédie de Montréal\, 1113 Boul. de Maisonneuve E\,\, Montreal\, Quebec\, H2L 1Z8\, Canada
CATEGORIES:Shows
END:VEVENT
BEGIN:VEVENT
DTSTART;TZID=America/Toronto:20250928T190000
DTEND;TZID=America/Toronto:20250928T210000
DTSTAMP:20260422T081519
CREATED:20250907T040011Z
LAST-MODIFIED:20250907T040011Z
UID:1344-1759086000-1759093200@yesandmtl.com
SUMMARY:Sunday Night Improv
DESCRIPTION:Theatre St Catherine: 64 St Catherine St E \n\nOur show is a natural extension of the workshop. A regular rotation of some of Montreal’s most talented improvisers always perform\, including Sandi Armstrong\, Alain Mercieca\, Heidi Lynne Weeks\, Maité Sinave\, Mariana Vial\, Adalia Pemberton\, Solly Krygier-Paine\, Kristina Guevarra\, Mason Persaud\, Shanthony Exum\, Nicky Fournier and Jeremy Lewis . On top of having seasoned improvisers\, we also have the new birds that walk in for the first time and steal the show. You could just literally show up and get thrown in the fire of a live show with no script! It has led to many amazing walk-in\, home run hitters and creates an awesome “anything can happen” spirit\, which is the backbone to improv. \nAlways entertaining\, Sunday Night Improv promises a good time for audiences who are welcome to contribute to the show through their suggestions and voting.
URL:https://yesandmtl.com/event/sunday-night-improv-67/
LOCATION:Theatre Saint Catherine\, 264 St Catherine St E\, Montreal\, Quebec\, H2X 1L4\, Canada
CATEGORIES:Shows
END:VEVENT
BEGIN:VEVENT
DTSTART;TZID=America/Toronto:20250928T203000
DTEND;TZID=America/Toronto:20250928T220000
DTSTAMP:20260422T081519
CREATED:20250909T022533Z
LAST-MODIFIED:20250917T131821Z
UID:1388-1759091400-1759096800@yesandmtl.com
SUMMARY:Way The Hell Off-Broadway
DESCRIPTION:La Comedie: 1113 Boul. de Maisonneuve E\norganized by Le Grand Yes And \nMontreal’s longest running English musical improv troupe! \nShort scenes and mini musicals you can only find…\nWay The Hell Off-Broadway \nFor this special show\, we present: YOUR LIFE: THE MUSICAL\, where we will turn one lucky audience member’s life into a brand new musical. \nTo end off the evening with a crescendo\, get up and try some musical improv yourself with the cast! \nIt’s a night of laughter\, music\, and spontaneous storytelling. Don’t miss this one. \nStarring\nDan Jeannotte\nAdina Katz\nKirsten Rasmussen (in singing spirit)\nBryan Walsh\nWith special guests: Stephanie McKenna and Mariana Vial \nOn the keys: Mr. John Gilbert \nFOLLOWED BY \nA Way The Hell Off-Broadway\, and Musical Mixer! \nFollow the troupe on instagram\n@way_the_hell_off_broadway
URL:https://yesandmtl.com/event/way-the-hell-off-broadway/
LOCATION:Théâtre La Comédie de Montréal\, 1113 Boul. de Maisonneuve E\,\, Montreal\, Quebec\, H2L 1Z8\, Canada
CATEGORIES:Shows
END:VEVENT
END:VCALENDAR