BEGIN:VCALENDAR
VERSION:2.0
PRODID:-//Yes And MTL - ECPv6.15.17.1//NONSGML v1.0//EN
CALSCALE:GREGORIAN
METHOD:PUBLISH
X-ORIGINAL-URL:https://yesandmtl.com
X-WR-CALDESC:Events for Yes And MTL
REFRESH-INTERVAL;VALUE=DURATION:PT1H
X-Robots-Tag:noindex
X-PUBLISHED-TTL:PT1H
BEGIN:VTIMEZONE
TZID:America/Toronto
BEGIN:DAYLIGHT
TZOFFSETFROM:-0500
TZOFFSETTO:-0400
TZNAME:EDT
DTSTART:20240310T070000
END:DAYLIGHT
BEGIN:STANDARD
TZOFFSETFROM:-0400
TZOFFSETTO:-0500
TZNAME:EST
DTSTART:20241103T060000
END:STANDARD
BEGIN:DAYLIGHT
TZOFFSETFROM:-0500
TZOFFSETTO:-0400
TZNAME:EDT
DTSTART:20250309T070000
END:DAYLIGHT
BEGIN:STANDARD
TZOFFSETFROM:-0400
TZOFFSETTO:-0500
TZNAME:EST
DTSTART:20251102T060000
END:STANDARD
BEGIN:DAYLIGHT
TZOFFSETFROM:-0500
TZOFFSETTO:-0400
TZNAME:EDT
DTSTART:20260308T070000
END:DAYLIGHT
BEGIN:STANDARD
TZOFFSETFROM:-0400
TZOFFSETTO:-0500
TZNAME:EST
DTSTART:20261101T060000
END:STANDARD
END:VTIMEZONE
BEGIN:VEVENT
DTSTART;TZID=America/Toronto:20251108T200000
DTEND;TZID=America/Toronto:20251108T210000
DTSTAMP:20260420T091406
CREATED:20251024T182915Z
LAST-MODIFIED:20251024T182915Z
UID:1486-1762632000-1762635600@yesandmtl.com
SUMMARY:What the F#@K is that SOUND
DESCRIPTION:Montreal Improv: 3716 Rue Notre-Dame Ouest Montréal\, QC H4C 1P7 \norganized by Questionable Productions \nGet ready for a night of laughs and surprises at What the F#@k is that Sound? \nThis  one-of-a-kind show brings you the best improv duos in the city—but  here’s the twist: every sound effect\, from a creaking door to an alien  spaceship\, will be made live by the chaotic geniuses of Questionable Decisions. \nWhether  it’s the pitter-patter of rain\, the roar of a dinosaur\, or the  unmistakable “thwack” of a perfectly-timed slap\, our sound makers are  ready to take you on an unpredictable auditory journey.
URL:https://yesandmtl.com/event/what-the-fk-is-that-sound-2/
LOCATION:Montreal Improv\, 3716 rue Notre Dame Ouest\, Montreal\, Quebec\, H4C 1P7\, Canada
CATEGORIES:Shows
END:VEVENT
BEGIN:VEVENT
DTSTART;TZID=America/Toronto:20251108T213000
DTEND;TZID=America/Toronto:20251108T223000
DTSTAMP:20260420T091406
CREATED:20251105T131129Z
LAST-MODIFIED:20251105T131129Z
UID:1499-1762637400-1762641000@yesandmtl.com
SUMMARY:Connect Four - Improv Comedy
DESCRIPTION:Montreal Improv: 3716 Rue Notre Dame Ouest Montreal QC\, H4C 1P7 \norganized by Improv 4 Breakfast \nImprov 4 Breakfast invites you to a night of CONNECT FOUR!  \nTeams  compete to drop disks on the board. Each disk has a surprise suggestion  and it’s up to audience approval to see if they get to play it in the  mega connect four board! \nWhich team will win? Which team will connect four? \nPRODUCED BY\nProduced by Hanine El Mir and Lucie Gee in association with Improv 4 Breakfast \nTICKETS\n$5 for everyone during the STM strike month!
URL:https://yesandmtl.com/event/connect-four-improv-comedy/
LOCATION:Montreal Improv\, 3716 rue Notre Dame Ouest\, Montreal\, Quebec\, H4C 1P7\, Canada
CATEGORIES:Shows
END:VEVENT
END:VCALENDAR