BEGIN:VCALENDAR
VERSION:2.0
PRODID:-//Yes And MTL - ECPv6.15.17.1//NONSGML v1.0//EN
CALSCALE:GREGORIAN
METHOD:PUBLISH
X-ORIGINAL-URL:https://yesandmtl.com
X-WR-CALDESC:Events for Yes And MTL
REFRESH-INTERVAL;VALUE=DURATION:PT1H
X-Robots-Tag:noindex
X-PUBLISHED-TTL:PT1H
BEGIN:VTIMEZONE
TZID:America/Toronto
BEGIN:DAYLIGHT
TZOFFSETFROM:-0500
TZOFFSETTO:-0400
TZNAME:EDT
DTSTART:20240310T070000
END:DAYLIGHT
BEGIN:STANDARD
TZOFFSETFROM:-0400
TZOFFSETTO:-0500
TZNAME:EST
DTSTART:20241103T060000
END:STANDARD
BEGIN:DAYLIGHT
TZOFFSETFROM:-0500
TZOFFSETTO:-0400
TZNAME:EDT
DTSTART:20250309T070000
END:DAYLIGHT
BEGIN:STANDARD
TZOFFSETFROM:-0400
TZOFFSETTO:-0500
TZNAME:EST
DTSTART:20251102T060000
END:STANDARD
BEGIN:DAYLIGHT
TZOFFSETFROM:-0500
TZOFFSETTO:-0400
TZNAME:EDT
DTSTART:20260308T070000
END:DAYLIGHT
BEGIN:STANDARD
TZOFFSETFROM:-0400
TZOFFSETTO:-0500
TZNAME:EST
DTSTART:20261101T060000
END:STANDARD
END:VTIMEZONE
BEGIN:VEVENT
DTSTART;TZID=America/Toronto:20251207T190000
DTEND;TZID=America/Toronto:20251207T203000
DTSTAMP:20260419T224832
CREATED:20251128T183630Z
LAST-MODIFIED:20251128T183630Z
UID:1529-1765134000-1765139400@yesandmtl.com
SUMMARY:The Humour Games
DESCRIPTION:Montreal Improv: 3716 R. Notre Dame O\, Montréal\, QC H4C 1P7 \norganized by zendat games \nJoin and support one of four districts as they battle through fast-paced improv games\, wild art challenges\, and mind-bending puzzles. With a variety of tasks on offer\, there’s a way for everyone to play. \nEach district will fight to earn credits and invest them in the vital resources that could shape their fate. The district with the most credits at the end will emerge as the champions. \nFrom the creator of the award-winning Super Alex\, Operation: Sentinel\, and part of the team behind Neil Patrick Harris’ Murder Mystery at Canyon Ranch. \nThe Humour Games is creative comedy at its most chaotic.
URL:https://yesandmtl.com/event/the-humour-games-2/
LOCATION:Montreal Improv\, 3716 rue Notre Dame Ouest\, Montreal\, Quebec\, H4C 1P7\, Canada
CATEGORIES:Shows
END:VEVENT
BEGIN:VEVENT
DTSTART;TZID=America/Toronto:20251207T190000
DTEND;TZID=America/Toronto:20251207T210000
DTSTAMP:20260419T224832
CREATED:20251116T050014Z
LAST-MODIFIED:20251116T050014Z
UID:1513-1765134000-1765141200@yesandmtl.com
SUMMARY:Sunday Night Improv
DESCRIPTION:Theatre St Catherine: 64 St Catherine St E \n\nOur show is a natural extension of the workshop. A regular rotation of some of Montreal’s most talented improvisers always perform\, including Sandi Armstrong\, Alain Mercieca\, Heidi Lynne Weeks\, Maité Sinave\, Mariana Vial\, Adalia Pemberton\, Solly Krygier-Paine\, Kristina Guevarra\, Mason Persaud\, Shanthony Exum\, Nicky Fournier and Jeremy Lewis . On top of having seasoned improvisers\, we also have the new birds that walk in for the first time and steal the show. You could just literally show up and get thrown in the fire of a live show with no script! It has led to many amazing walk-in\, home run hitters and creates an awesome “anything can happen” spirit\, which is the backbone to improv. \nAlways entertaining\, Sunday Night Improv promises a good time for audiences who are welcome to contribute to the show through their suggestions and voting.
URL:https://yesandmtl.com/event/sunday-night-improv-77/
LOCATION:Theatre Saint Catherine\, 264 St Catherine St E\, Montreal\, Quebec\, H2X 1L4\, Canada
CATEGORIES:Shows
END:VEVENT
END:VCALENDAR