BEGIN:VCALENDAR
VERSION:2.0
PRODID:-//Yes And MTL - ECPv6.15.17.1//NONSGML v1.0//EN
CALSCALE:GREGORIAN
METHOD:PUBLISH
X-ORIGINAL-URL:https://yesandmtl.com
X-WR-CALDESC:Events for Yes And MTL
REFRESH-INTERVAL;VALUE=DURATION:PT1H
X-Robots-Tag:noindex
X-PUBLISHED-TTL:PT1H
BEGIN:VTIMEZONE
TZID:America/Toronto
BEGIN:DAYLIGHT
TZOFFSETFROM:-0500
TZOFFSETTO:-0400
TZNAME:EDT
DTSTART:20240310T070000
END:DAYLIGHT
BEGIN:STANDARD
TZOFFSETFROM:-0400
TZOFFSETTO:-0500
TZNAME:EST
DTSTART:20241103T060000
END:STANDARD
BEGIN:DAYLIGHT
TZOFFSETFROM:-0500
TZOFFSETTO:-0400
TZNAME:EDT
DTSTART:20250309T070000
END:DAYLIGHT
BEGIN:STANDARD
TZOFFSETFROM:-0400
TZOFFSETTO:-0500
TZNAME:EST
DTSTART:20251102T060000
END:STANDARD
BEGIN:DAYLIGHT
TZOFFSETFROM:-0500
TZOFFSETTO:-0400
TZNAME:EDT
DTSTART:20260308T070000
END:DAYLIGHT
BEGIN:STANDARD
TZOFFSETFROM:-0400
TZOFFSETTO:-0500
TZNAME:EST
DTSTART:20261101T060000
END:STANDARD
END:VTIMEZONE
BEGIN:VEVENT
DTSTART;TZID=America/Toronto:20251220T213000
DTEND;TZID=America/Toronto:20251220T223000
DTSTAMP:20260419T224833
CREATED:20251201T221332Z
LAST-MODIFIED:20251201T221332Z
UID:1533-1766266200-1766269800@yesandmtl.com
SUMMARY:A Very Merry Spliffmas
DESCRIPTION:Montreal Improv: 3716 Rue Notre Dame Ouest Montreal QC\, H4C 1P7 \norganized by Seb H.\, Danny A. & Lucie G. \nJoin us in getting high and celebrating the holidays\, with our stoner cast who will take your 4/20 adventures and turn them into comedy! \nDo you enjoy a little festive greenery? \nThen join us for A Very Merry Spliffmas\, where your funniest 4/20 stories become holiday-infused improv magic! \nOur cast of cheerful\, slightly elevated improvisers will take your yuletide mishaps\, high-spirited adventures\, and wonderfully hazy memories\, and turn them into a night of hilarious\, heart-warming comedy. \nAnd yes—expect weed-themed carols\, joyful chaos\, and plenty of holiday cheer. \nPlease note\, this show does not encourage smoking cannabis at the venue / or in general. However\, some of our performers will be under the influence and it will be hilarious! (You are welcome to join their elevated status.) \nViewer discretion is advised.
URL:https://yesandmtl.com/event/a-very-merry-spliffmas/
LOCATION:Montreal Improv\, 3716 rue Notre Dame Ouest\, Montreal\, Quebec\, H4C 1P7\, Canada
CATEGORIES:Shows
END:VEVENT
END:VCALENDAR