BEGIN:VCALENDAR
VERSION:2.0
PRODID:-//Yes And MTL - ECPv6.15.17.1//NONSGML v1.0//EN
CALSCALE:GREGORIAN
METHOD:PUBLISH
X-ORIGINAL-URL:https://yesandmtl.com
X-WR-CALDESC:Events for Yes And MTL
REFRESH-INTERVAL;VALUE=DURATION:PT1H
X-Robots-Tag:noindex
X-PUBLISHED-TTL:PT1H
BEGIN:VTIMEZONE
TZID:America/Toronto
BEGIN:DAYLIGHT
TZOFFSETFROM:-0500
TZOFFSETTO:-0400
TZNAME:EDT
DTSTART:20240310T070000
END:DAYLIGHT
BEGIN:STANDARD
TZOFFSETFROM:-0400
TZOFFSETTO:-0500
TZNAME:EST
DTSTART:20241103T060000
END:STANDARD
BEGIN:DAYLIGHT
TZOFFSETFROM:-0500
TZOFFSETTO:-0400
TZNAME:EDT
DTSTART:20250309T070000
END:DAYLIGHT
BEGIN:STANDARD
TZOFFSETFROM:-0400
TZOFFSETTO:-0500
TZNAME:EST
DTSTART:20251102T060000
END:STANDARD
BEGIN:DAYLIGHT
TZOFFSETFROM:-0500
TZOFFSETTO:-0400
TZNAME:EDT
DTSTART:20260308T070000
END:DAYLIGHT
BEGIN:STANDARD
TZOFFSETFROM:-0400
TZOFFSETTO:-0500
TZNAME:EST
DTSTART:20261101T060000
END:STANDARD
END:VTIMEZONE
BEGIN:VEVENT
DTSTART;TZID=America/Toronto:20251226T200000
DTEND;TZID=America/Toronto:20251226T210000
DTSTAMP:20260419T225046
CREATED:20251222T225749Z
LAST-MODIFIED:20251222T225749Z
UID:1560-1766779200-1766782800@yesandmtl.com
SUMMARY:A Very Shakespeare Christmas
DESCRIPTION:Montreal Improv: 3716 Rue Notre Dame Ouest  \norganized by Improv 4 Breakfast \nMuch ado about Christmas. All the Bard\, all the bells\, all improvised \nHark!  Bardbarella doth present a yuletide tale most wondrous and strange.  From a single suggestion springs forth a fully improvised Shakespearean  comedy set amidst Christmas revelry. \nWatch as courtly intrigue  tangles with holiday tradition\, as lovers pine beneath the mistletoe\,  and as fools make merry in iambic pentameter. With all the wit of the  Bard and the warmth of the season\, this improvised performance brings  together tragic misunderstandings\, joyous reunions\, and enough  theatrical flair to fill the Globe Theatre twice over. \nTICKETS\n7$ in advance\, 9$ at the door
URL:https://yesandmtl.com/event/a-very-shakespeare-christmas/
LOCATION:Montreal Improv\, 3716 rue Notre Dame Ouest\, Montreal\, Quebec\, H4C 1P7\, Canada
CATEGORIES:Shows
END:VEVENT
END:VCALENDAR