BEGIN:VCALENDAR
VERSION:2.0
PRODID:-//Yes And MTL - ECPv6.15.17.1//NONSGML v1.0//EN
CALSCALE:GREGORIAN
METHOD:PUBLISH
X-WR-CALNAME:Yes And MTL
X-ORIGINAL-URL:https://yesandmtl.com
X-WR-CALDESC:Events for Yes And MTL
REFRESH-INTERVAL;VALUE=DURATION:PT1H
X-Robots-Tag:noindex
X-PUBLISHED-TTL:PT1H
BEGIN:VTIMEZONE
TZID:America/Toronto
BEGIN:DAYLIGHT
TZOFFSETFROM:-0500
TZOFFSETTO:-0400
TZNAME:EDT
DTSTART:20250309T070000
END:DAYLIGHT
BEGIN:STANDARD
TZOFFSETFROM:-0400
TZOFFSETTO:-0500
TZNAME:EST
DTSTART:20251102T060000
END:STANDARD
BEGIN:DAYLIGHT
TZOFFSETFROM:-0500
TZOFFSETTO:-0400
TZNAME:EDT
DTSTART:20260308T070000
END:DAYLIGHT
BEGIN:STANDARD
TZOFFSETFROM:-0400
TZOFFSETTO:-0500
TZNAME:EST
DTSTART:20261101T060000
END:STANDARD
BEGIN:DAYLIGHT
TZOFFSETFROM:-0500
TZOFFSETTO:-0400
TZNAME:EDT
DTSTART:20270314T070000
END:DAYLIGHT
BEGIN:STANDARD
TZOFFSETFROM:-0400
TZOFFSETTO:-0500
TZNAME:EST
DTSTART:20271107T060000
END:STANDARD
END:VTIMEZONE
BEGIN:VEVENT
DTSTART;TZID=America/Toronto:20260219T183000
DTEND;TZID=America/Toronto:20260219T200000
DTSTAMP:20260419T190424
CREATED:20260212T050000Z
LAST-MODIFIED:20260212T050000Z
UID:1612-1771525800-1771531200@yesandmtl.com
SUMMARY:The Weekly
DESCRIPTION:THURSDAYS / 6:30PM / 90 MINS + FREE ENTRY TO THE EVERY THURSDAY IMPROV SHOW \nSwing by for an hour and a half drop-in improv workshop for adults! These exciting drop-in classes are open to improvisers of all levels\, whether you’re just starting out or you want to hone your skills. Practice makes perfect and this weekly workshop will get your head back in the game\, introduce new concepts and give you the workout you need to keep moving forward in improv! \nALL LEVELS WELCOME / BEGINNERS TO EXPERIENCED / AGE 18+\nWorkshops will be taught by experienced improvisers/teachers\, and will be held in Studio B. These drop-ins are instructed in English and tend to fill up fast. Registration is highly recommended to reserve your spot\, and it’s best to do so on Monday or Tuesday. \n$15 IN ADVANCE VIA E-TRANSFER / OR / $20 IN PERSON BEFORE CLASS IF SPACE REMAINS.
URL:https://yesandmtl.com/event/the-weekly-79/
LOCATION:Mile End Improv\, 5337 boul. Saint Laurent\, Montreal\, Quebec\, H2T 1S5\, Canada
CATEGORIES:Shows
END:VEVENT
BEGIN:VEVENT
DTSTART;TZID=America/Toronto:20260219T203000
DTEND;TZID=America/Toronto:20260219T213000
DTSTAMP:20260419T190424
CREATED:20260212T050000Z
LAST-MODIFIED:20260212T050000Z
UID:1613-1771533000-1771536600@yesandmtl.com
SUMMARY:The Every Thursday Improv Show
DESCRIPTION:Mile End Improv / Theatre VME: 5337 Boul. Saint-Laurent #250\, Montréal\, QC H2T 1S5\norganized by Mile End Improv \n\nThere are three guarantees in life. \n1. Death\n2. Taxes\n3. An improv show every Thursday at Theatre VME \nWhether rain\, snow\, holiday or orgy\, you can bet your rear that The Every Thursday Improv show will be live and in living color!\nWatch as we invite some of our brightest and burgeoning players on stage for sixty minutes of improvised comedy.\nThe only thing that ain’t for sure? What we plan on doing! Each week\, the formats\, concepts and plans change. \nOh hell yeah.
URL:https://yesandmtl.com/event/the-every-thursday-improv-show-85/
LOCATION:Mile End Improv\, 5337 boul. Saint Laurent\, Montreal\, Quebec\, H2T 1S5\, Canada
CATEGORIES:Shows
END:VEVENT
END:VCALENDAR