BEGIN:VCALENDAR
VERSION:2.0
PRODID:-//Yes And MTL - ECPv6.15.17.1//NONSGML v1.0//EN
CALSCALE:GREGORIAN
METHOD:PUBLISH
X-WR-CALNAME:Yes And MTL
X-ORIGINAL-URL:https://yesandmtl.com
X-WR-CALDESC:Events for Yes And MTL
REFRESH-INTERVAL;VALUE=DURATION:PT1H
X-Robots-Tag:noindex
X-PUBLISHED-TTL:PT1H
BEGIN:VTIMEZONE
TZID:America/Toronto
BEGIN:DAYLIGHT
TZOFFSETFROM:-0500
TZOFFSETTO:-0400
TZNAME:EDT
DTSTART:20250309T070000
END:DAYLIGHT
BEGIN:STANDARD
TZOFFSETFROM:-0400
TZOFFSETTO:-0500
TZNAME:EST
DTSTART:20251102T060000
END:STANDARD
BEGIN:DAYLIGHT
TZOFFSETFROM:-0500
TZOFFSETTO:-0400
TZNAME:EDT
DTSTART:20260308T070000
END:DAYLIGHT
BEGIN:STANDARD
TZOFFSETFROM:-0400
TZOFFSETTO:-0500
TZNAME:EST
DTSTART:20261101T060000
END:STANDARD
BEGIN:DAYLIGHT
TZOFFSETFROM:-0500
TZOFFSETTO:-0400
TZNAME:EDT
DTSTART:20270314T070000
END:DAYLIGHT
BEGIN:STANDARD
TZOFFSETFROM:-0400
TZOFFSETTO:-0500
TZNAME:EST
DTSTART:20271107T060000
END:STANDARD
END:VTIMEZONE
BEGIN:VEVENT
DTSTART;TZID=America/Toronto:20260220T200000
DTEND;TZID=America/Toronto:20260220T210000
DTSTAMP:20260419T191309
CREATED:20260216T150807Z
LAST-MODIFIED:20260216T150807Z
UID:1635-1771617600-1771621200@yesandmtl.com
SUMMARY:Room For One More
DESCRIPTION:Montreal Improv: 3716 rue Notre-Dame Ouest \norganized by Dead Man Productions \nComedy duos work hard to foster trust\, chemistry\, and synergy. So what happens when we add some chaos to the mix? \nIn ROOM FOR ONE MORE\, four duos will have their sets infiltrated by the Wildcards\, performers who are as mischievous as they are hilarious. \nWill things stay on track\, or descend into improvised madness? Either way\, you’re in for a good time!
URL:https://yesandmtl.com/event/room-for-one-more-9/
LOCATION:Montreal Improv\, 3716 rue Notre Dame Ouest\, Montreal\, Quebec\, H4C 1P7\, Canada
CATEGORIES:Shows
END:VEVENT
END:VCALENDAR