BEGIN:VCALENDAR
VERSION:2.0
PRODID:-//Yes And MTL - ECPv6.15.17.1//NONSGML v1.0//EN
CALSCALE:GREGORIAN
METHOD:PUBLISH
X-ORIGINAL-URL:https://yesandmtl.com
X-WR-CALDESC:Events for Yes And MTL
REFRESH-INTERVAL;VALUE=DURATION:PT1H
X-Robots-Tag:noindex
X-PUBLISHED-TTL:PT1H
BEGIN:VTIMEZONE
TZID:America/Toronto
BEGIN:DAYLIGHT
TZOFFSETFROM:-0500
TZOFFSETTO:-0400
TZNAME:EDT
DTSTART:20250309T070000
END:DAYLIGHT
BEGIN:STANDARD
TZOFFSETFROM:-0400
TZOFFSETTO:-0500
TZNAME:EST
DTSTART:20251102T060000
END:STANDARD
BEGIN:DAYLIGHT
TZOFFSETFROM:-0500
TZOFFSETTO:-0400
TZNAME:EDT
DTSTART:20260308T070000
END:DAYLIGHT
BEGIN:STANDARD
TZOFFSETFROM:-0400
TZOFFSETTO:-0500
TZNAME:EST
DTSTART:20261101T060000
END:STANDARD
BEGIN:DAYLIGHT
TZOFFSETFROM:-0500
TZOFFSETTO:-0400
TZNAME:EDT
DTSTART:20270314T070000
END:DAYLIGHT
BEGIN:STANDARD
TZOFFSETFROM:-0400
TZOFFSETTO:-0500
TZNAME:EST
DTSTART:20271107T060000
END:STANDARD
END:VTIMEZONE
BEGIN:VEVENT
DTSTART;TZID=America/Toronto:20260223T200000
DTEND;TZID=America/Toronto:20260223T220000
DTSTAMP:20260419T172737
CREATED:20260211T171606Z
LAST-MODIFIED:20260211T171606Z
UID:1627-1771876800-1771884000@yesandmtl.com
SUMMARY:MOONLIGHT MUSICAL MIMPROV!
DESCRIPTION:The Wiggle Room: 3874 Saint-Laurent blvd.\, Montreal\, Quebec \norganized by Musical Improv Montreal \nMOONLIGHT MUSICAL MIMPROV!\nWhat do you get when you merge Musical Theatre and Improv Comedy? Musical Improv! Players will create mini musicals right before your eyes\, based on the audience’s suggestions. We’ll be wowed and serenaded by two ensemble casts who will heal your hearts and break their legs. \nMonday\, February 23\, 2026\, 8pm\nACT 1: CAFÉBAR\nA fully improvised mini musical. \nStarring: Khary Alexander\, Kayla Cabral\, Andrea Cochrane\, Paul Jackman\, Barry Kaufman\, Frank Messier\, Suzie McCarthy\, Marin Toni. \nDirected by: Brad Kane\n—\nACT 2: MUSICAL MIXER\nAnyone from the audience is invited to perform short form musical scenes and songs on stage! Will it be you??\n— \nJohn Gilbert on the keys\nHosted by Adina Katz \nShow: 8:00pm (ending apx. 10pm)\nDoors open: 7:00pm\nTwo acts with an intermission.\n$12(+tx) in advance\n$15(+tx) at the door\nShow location: The Wiggle Room\n3874 Saint-Laurent blvd.\, Montreal\, Quebec
URL:https://yesandmtl.com/event/moonlight-musical-mimprov-7/
LOCATION:The Wiggle Room\, 3874 St Laurent Blvd\, Montreal\, Quebec\, H2W 1Y2\, Canada
CATEGORIES:Shows
END:VEVENT
END:VCALENDAR