BEGIN:VCALENDAR
VERSION:2.0
PRODID:-//Yes And MTL - ECPv6.15.17.1//NONSGML v1.0//EN
CALSCALE:GREGORIAN
METHOD:PUBLISH
X-ORIGINAL-URL:https://yesandmtl.com
X-WR-CALDESC:Events for Yes And MTL
REFRESH-INTERVAL;VALUE=DURATION:PT1H
X-Robots-Tag:noindex
X-PUBLISHED-TTL:PT1H
BEGIN:VTIMEZONE
TZID:America/Toronto
BEGIN:DAYLIGHT
TZOFFSETFROM:-0500
TZOFFSETTO:-0400
TZNAME:EDT
DTSTART:20250309T070000
END:DAYLIGHT
BEGIN:STANDARD
TZOFFSETFROM:-0400
TZOFFSETTO:-0500
TZNAME:EST
DTSTART:20251102T060000
END:STANDARD
BEGIN:DAYLIGHT
TZOFFSETFROM:-0500
TZOFFSETTO:-0400
TZNAME:EDT
DTSTART:20260308T070000
END:DAYLIGHT
BEGIN:STANDARD
TZOFFSETFROM:-0400
TZOFFSETTO:-0500
TZNAME:EST
DTSTART:20261101T060000
END:STANDARD
BEGIN:DAYLIGHT
TZOFFSETFROM:-0500
TZOFFSETTO:-0400
TZNAME:EDT
DTSTART:20270314T070000
END:DAYLIGHT
BEGIN:STANDARD
TZOFFSETFROM:-0400
TZOFFSETTO:-0500
TZNAME:EST
DTSTART:20271107T060000
END:STANDARD
END:VTIMEZONE
BEGIN:VEVENT
DTSTART;TZID=America/Toronto:20260306T213000
DTEND;TZID=America/Toronto:20260306T223000
DTSTAMP:20260419T172903
CREATED:20260223T222450Z
LAST-MODIFIED:20260223T222450Z
UID:1644-1772832600-1772836200@yesandmtl.com
SUMMARY:Hidden in Plain Sight
DESCRIPTION:Montreal Improv: 3716 Rue Notre Dame Ouest Montreal QC\, H4C 1P7 \norganized by Improv 4 Breakfast \nA traitor is among us!  \nIn this improvised murder mystery\, players are secretly assigned the roles of victims and the murderer!\nCan they unmask the culprit among them – CAN THE AUDIENCE FIGURE IT OUT BEFORE THEM\nJoin us for a night filled with suspense and mystery where you decide the setting and characters! \nCAST\nJoanna  | Victor | Islay | Meng | Felix | Stevie \nYOUR HOST\nLucie Gee \nTICKETS\nGeneral Admission: $10 in advance\, $15 at the door\nMontreal Improv students: $5 in advance\, $10 at the door \nLOCATION\nMontreal Improv Theatre
URL:https://yesandmtl.com/event/hidden-in-plain-sight/
LOCATION:Montreal Improv\, 3716 rue Notre Dame Ouest\, Montreal\, Quebec\, H4C 1P7\, Canada
CATEGORIES:Shows
END:VEVENT
END:VCALENDAR