BEGIN:VCALENDAR
VERSION:2.0
PRODID:-//Yes And MTL - ECPv6.15.17.1//NONSGML v1.0//EN
CALSCALE:GREGORIAN
METHOD:PUBLISH
X-WR-CALNAME:Yes And MTL
X-ORIGINAL-URL:https://yesandmtl.com
X-WR-CALDESC:Events for Yes And MTL
REFRESH-INTERVAL;VALUE=DURATION:PT1H
X-Robots-Tag:noindex
X-PUBLISHED-TTL:PT1H
BEGIN:VTIMEZONE
TZID:America/Toronto
BEGIN:DAYLIGHT
TZOFFSETFROM:-0500
TZOFFSETTO:-0400
TZNAME:EDT
DTSTART:20250309T070000
END:DAYLIGHT
BEGIN:STANDARD
TZOFFSETFROM:-0400
TZOFFSETTO:-0500
TZNAME:EST
DTSTART:20251102T060000
END:STANDARD
BEGIN:DAYLIGHT
TZOFFSETFROM:-0500
TZOFFSETTO:-0400
TZNAME:EDT
DTSTART:20260308T070000
END:DAYLIGHT
BEGIN:STANDARD
TZOFFSETFROM:-0400
TZOFFSETTO:-0500
TZNAME:EST
DTSTART:20261101T060000
END:STANDARD
BEGIN:DAYLIGHT
TZOFFSETFROM:-0500
TZOFFSETTO:-0400
TZNAME:EDT
DTSTART:20270314T070000
END:DAYLIGHT
BEGIN:STANDARD
TZOFFSETFROM:-0400
TZOFFSETTO:-0500
TZNAME:EST
DTSTART:20271107T060000
END:STANDARD
END:VTIMEZONE
BEGIN:VEVENT
DTSTART;TZID=America/Toronto:20260327T183000
DTEND;TZID=America/Toronto:20260329T230000
DTSTAMP:20260419T172459
CREATED:20260209T194939Z
LAST-MODIFIED:20260209T194939Z
UID:1623-1774636200-1774825200@yesandmtl.com
SUMMARY:Le Mini Grand Yes And - Part 1
DESCRIPTION:The Montreal Comedy: 1113 Boul. de Maisonneuve E\, Montréal\, QC H2L 1Z8\norganized by Le Grand Yes And \nLe Grand Yes And! is Montreal’s festival of unscripted brilliance\, a joyful celebration of improv in all its forms. From fast-paced shortform to poetic longform\, musical madness to genre-hopping experiments\, we bring together performers and audiences for five days of spontaneous theatre\, comedy\, and connection. Whether you’re a lifelong improviser or totally new to the scene\, you’ll find something to laugh at\, cheer for\, and be inspired by.
URL:https://yesandmtl.com/event/le-mini-grand-yes-and-part-1/
LOCATION:Théâtre La Comédie de Montréal\, 1113 Boul. de Maisonneuve E\,\, Montreal\, Quebec\, H2L 1Z8\, Canada
CATEGORIES:Shows
END:VEVENT
END:VCALENDAR