BEGIN:VCALENDAR
VERSION:2.0
PRODID:-//Yes And MTL - ECPv6.15.17.1//NONSGML v1.0//EN
CALSCALE:GREGORIAN
METHOD:PUBLISH
X-WR-CALNAME:Yes And MTL
X-ORIGINAL-URL:https://yesandmtl.com
X-WR-CALDESC:Events for Yes And MTL
REFRESH-INTERVAL;VALUE=DURATION:PT1H
X-Robots-Tag:noindex
X-PUBLISHED-TTL:PT1H
BEGIN:VTIMEZONE
TZID:America/Toronto
BEGIN:DAYLIGHT
TZOFFSETFROM:-0500
TZOFFSETTO:-0400
TZNAME:EDT
DTSTART:20250309T070000
END:DAYLIGHT
BEGIN:STANDARD
TZOFFSETFROM:-0400
TZOFFSETTO:-0500
TZNAME:EST
DTSTART:20251102T060000
END:STANDARD
BEGIN:DAYLIGHT
TZOFFSETFROM:-0500
TZOFFSETTO:-0400
TZNAME:EDT
DTSTART:20260308T070000
END:DAYLIGHT
BEGIN:STANDARD
TZOFFSETFROM:-0400
TZOFFSETTO:-0500
TZNAME:EST
DTSTART:20261101T060000
END:STANDARD
BEGIN:DAYLIGHT
TZOFFSETFROM:-0500
TZOFFSETTO:-0400
TZNAME:EDT
DTSTART:20270314T070000
END:DAYLIGHT
BEGIN:STANDARD
TZOFFSETFROM:-0400
TZOFFSETTO:-0500
TZNAME:EST
DTSTART:20271107T060000
END:STANDARD
END:VTIMEZONE
BEGIN:VEVENT
DTSTART;TZID=America/Toronto:20260403T183000
DTEND;TZID=America/Toronto:20260403T193000
DTSTAMP:20260419T153305
CREATED:20260320T224224Z
LAST-MODIFIED:20260320T224358Z
UID:1702-1775241000-1775244600@yesandmtl.com
SUMMARY:No Clue
DESCRIPTION:The Montreal Comedy: 1113 Boulevard De Maisonneuve EST\, MONTREAL\, QC\, Canada\norganized by yesandmtl \nThe mission is in your hands. Ten audience members are recruited as SPIES to deliver missions to our cast of talented improvisers. If the improvisers succeed\, they win a clue to solve the riddle\, if they fail\, well TOO BAD SO SAD.Will they crack the code before their time runs out or will they have NO CLUE?
URL:https://yesandmtl.com/event/no-clue/
LOCATION:Théâtre La Comédie de Montréal\, 1113 Boul. de Maisonneuve E\,\, Montreal\, Quebec\, H2L 1Z8\, Canada
CATEGORIES:Shows
END:VEVENT
BEGIN:VEVENT
DTSTART;TZID=America/Toronto:20260403T183000
DTEND;TZID=America/Toronto:20260404T230000
DTSTAMP:20260419T153305
CREATED:20260209T192023Z
LAST-MODIFIED:20260209T194904Z
UID:1619-1775241000-1775343600@yesandmtl.com
SUMMARY:Le Mini Grand Yes And - Part 2
DESCRIPTION:The Montreal Comedy: 1113 Boul. de Maisonneuve E\, Montréal\, QC H2L 1Z8\norganized by Le Grand Yes And \nLe Grand Yes And! is Montreal’s festival of unscripted brilliance\, a joyful celebration of improv in all its forms. From fast-paced shortform to poetic longform\, musical madness to genre-hopping experiments\, we bring together performers and audiences for five days of spontaneous theatre\, comedy\, and connection. Whether you’re a lifelong improviser or totally new to the scene\, you’ll find something to laugh at\, cheer for\, and be inspired by.
URL:https://yesandmtl.com/event/le-mini-grand-yes-and-part-2/
LOCATION:Théâtre La Comédie de Montréal\, 1113 Boul. de Maisonneuve E\,\, Montreal\, Quebec\, H2L 1Z8\, Canada
CATEGORIES:Shows
END:VEVENT
END:VCALENDAR