BEGIN:VCALENDAR
VERSION:2.0
PRODID:-//Yes And MTL - ECPv6.15.17.1//NONSGML v1.0//EN
CALSCALE:GREGORIAN
METHOD:PUBLISH
X-ORIGINAL-URL:https://yesandmtl.com
X-WR-CALDESC:Events for Yes And MTL
REFRESH-INTERVAL;VALUE=DURATION:PT1H
X-Robots-Tag:noindex
X-PUBLISHED-TTL:PT1H
BEGIN:VTIMEZONE
TZID:America/Toronto
BEGIN:DAYLIGHT
TZOFFSETFROM:-0500
TZOFFSETTO:-0400
TZNAME:EDT
DTSTART:20250309T070000
END:DAYLIGHT
BEGIN:STANDARD
TZOFFSETFROM:-0400
TZOFFSETTO:-0500
TZNAME:EST
DTSTART:20251102T060000
END:STANDARD
BEGIN:DAYLIGHT
TZOFFSETFROM:-0500
TZOFFSETTO:-0400
TZNAME:EDT
DTSTART:20260308T070000
END:DAYLIGHT
BEGIN:STANDARD
TZOFFSETFROM:-0400
TZOFFSETTO:-0500
TZNAME:EST
DTSTART:20261101T060000
END:STANDARD
BEGIN:DAYLIGHT
TZOFFSETFROM:-0500
TZOFFSETTO:-0400
TZNAME:EDT
DTSTART:20270314T070000
END:DAYLIGHT
BEGIN:STANDARD
TZOFFSETFROM:-0400
TZOFFSETTO:-0500
TZNAME:EST
DTSTART:20271107T060000
END:STANDARD
END:VTIMEZONE
BEGIN:VEVENT
DTSTART;TZID=America/Toronto:20260614T221500
DTEND;TZID=America/Toronto:20260614T231500
DTSTAMP:20260419T230725
CREATED:20260403T150029Z
LAST-MODIFIED:20260403T151143Z
UID:1742-1781475300-1781478900@yesandmtl.com
SUMMARY:Flip Flop Fringe
DESCRIPTION:Petit Campus: 57 rue Prince-Arthur E.\, Montréal\, QC\norganized by Yes and MTL \nFlip Flop is an improvised game show where you decide who wins and who loses. Three teams go head-to-head\, battling for your love through a series of hilarious (and occasionally questionable) challenges. Is it a flip or a flop… it’s all up to you!
URL:https://yesandmtl.com/event/flip-flop-12-2/
LOCATION:Petit Campus\, 57-b Rue Prince-Arthur E\, Montreal\, Quebec\, H2X 1B4\, Canada
CATEGORIES:Shows
END:VEVENT
BEGIN:VEVENT
DTSTART;TZID=America/Toronto:20260617T190000
DTEND;TZID=America/Toronto:20260617T200000
DTSTAMP:20260419T230725
CREATED:20260403T151349Z
LAST-MODIFIED:20260403T151417Z
UID:1752-1781722800-1781726400@yesandmtl.com
SUMMARY:Flip Flop Fringe
DESCRIPTION:Petit Campus: 57 rue Prince-Arthur E.\, Montréal\, QC\norganized by Yes and MTL \nFlip Flop is an improvised game show where you decide who wins and who loses. Three teams go head-to-head\, battling for your love through a series of hilarious (and occasionally questionable) challenges. Is it a flip or a flop… it’s all up to you!
URL:https://yesandmtl.com/event/flip-flop-12-2-4/
LOCATION:Quebec
CATEGORIES:Shows
END:VEVENT
BEGIN:VEVENT
DTSTART;TZID=America/Toronto:20260618T171500
DTEND;TZID=America/Toronto:20260618T181500
DTSTAMP:20260419T230725
CREATED:20260403T151514Z
LAST-MODIFIED:20260403T151514Z
UID:1749-1781802900-1781806500@yesandmtl.com
SUMMARY:Flip Flop Fringe
DESCRIPTION:Petit Campus: 57 rue Prince-Arthur E.\, Montréal\, QC\norganized by Yes and MTL \nFlip Flop is an improvised game show where you decide who wins and who loses. Three teams go head-to-head\, battling for your love through a series of hilarious (and occasionally questionable) challenges. Is it a flip or a flop… it’s all up to you!
URL:https://yesandmtl.com/event/flip-flop-12-2-1/
LOCATION:Quebec
CATEGORIES:Shows
END:VEVENT
BEGIN:VEVENT
DTSTART;TZID=America/Toronto:20260620T203000
DTEND;TZID=America/Toronto:20260620T213000
DTSTAMP:20260419T230725
CREATED:20260403T151624Z
LAST-MODIFIED:20260403T151624Z
UID:1751-1781987400-1781991000@yesandmtl.com
SUMMARY:Flip Flop Fringe
DESCRIPTION:Petit Campus: 57 rue Prince-Arthur E.\, Montréal\, QC\norganized by Yes and MTL \nFlip Flop is an improvised game show where you decide who wins and who loses. Three teams go head-to-head\, battling for your love through a series of hilarious (and occasionally questionable) challenges. Is it a flip or a flop… it’s all up to you!
URL:https://yesandmtl.com/event/flip-flop-12-2-3/
LOCATION:Quebec
CATEGORIES:Shows
END:VEVENT
BEGIN:VEVENT
DTSTART;TZID=America/Toronto:20260621T123000
DTEND;TZID=America/Toronto:20260621T133000
DTSTAMP:20260419T230725
CREATED:20260403T151743Z
LAST-MODIFIED:20260403T151743Z
UID:1750-1782045000-1782048600@yesandmtl.com
SUMMARY:Flip Flop Fringe
DESCRIPTION:Petit Campus: 57 rue Prince-Arthur E.\, Montréal\, QC\norganized by Yes and MTL \nFlip Flop is an improvised game show where you decide who wins and who loses. Three teams go head-to-head\, battling for your love through a series of hilarious (and occasionally questionable) challenges. Is it a flip or a flop… it’s all up to you!
URL:https://yesandmtl.com/event/flip-flop-12-2-2/
LOCATION:Quebec
CATEGORIES:Shows
END:VEVENT
END:VCALENDAR