BEGIN:VCALENDAR
VERSION:2.0
PRODID:-//Yes And MTL - ECPv6.15.17.1//NONSGML v1.0//EN
CALSCALE:GREGORIAN
METHOD:PUBLISH
X-ORIGINAL-URL:https://yesandmtl.com
X-WR-CALDESC:Events for Yes And MTL
REFRESH-INTERVAL;VALUE=DURATION:PT1H
X-Robots-Tag:noindex
X-PUBLISHED-TTL:PT1H
BEGIN:VTIMEZONE
TZID:America/Toronto
BEGIN:DAYLIGHT
TZOFFSETFROM:-0500
TZOFFSETTO:-0400
TZNAME:EDT
DTSTART:20230312T070000
END:DAYLIGHT
BEGIN:STANDARD
TZOFFSETFROM:-0400
TZOFFSETTO:-0500
TZNAME:EST
DTSTART:20231105T060000
END:STANDARD
BEGIN:DAYLIGHT
TZOFFSETFROM:-0500
TZOFFSETTO:-0400
TZNAME:EDT
DTSTART:20240310T070000
END:DAYLIGHT
BEGIN:STANDARD
TZOFFSETFROM:-0400
TZOFFSETTO:-0500
TZNAME:EST
DTSTART:20241103T060000
END:STANDARD
BEGIN:DAYLIGHT
TZOFFSETFROM:-0500
TZOFFSETTO:-0400
TZNAME:EDT
DTSTART:20250309T070000
END:DAYLIGHT
BEGIN:STANDARD
TZOFFSETFROM:-0400
TZOFFSETTO:-0500
TZNAME:EST
DTSTART:20251102T060000
END:STANDARD
END:VTIMEZONE
BEGIN:VEVENT
DTSTART;TZID=America/Toronto:20240602T110000
DTEND;TZID=America/Toronto:20240602T130000
DTSTAMP:20260425T125108
CREATED:20240530T181121Z
LAST-MODIFIED:20240531T011245Z
UID:152-1717326000-1717333200@yesandmtl.com
SUMMARY:Improv 4 Breakfast
DESCRIPTION:1454 rue Atateken\norganized by Improv 4 Breakfast \nA collaborative practice session for improvisers / Every Sunday at 11am!
URL:https://yesandmtl.com/event/improv-4-breakfast/
CATEGORIES:Workshops/Classes
END:VEVENT
BEGIN:VEVENT
DTSTART;TZID=America/Toronto:20240609T110000
DTEND;TZID=America/Toronto:20240609T130000
DTSTAMP:20260425T125108
CREATED:20240531T011349Z
LAST-MODIFIED:20240531T011508Z
UID:156-1717930800-1717938000@yesandmtl.com
SUMMARY:Improv 4 Breakfast
DESCRIPTION:1454 rue Atateken\norganized by Improv 4 Breakfast \nA collaborative practice session for improvisers / Every Sunday at 11am!
URL:https://yesandmtl.com/event/improv-4-breakfast-2/
CATEGORIES:Workshops/Classes
END:VEVENT
BEGIN:VEVENT
DTSTART;TZID=America/Toronto:20240609T160000
DTEND;TZID=America/Toronto:20240609T180000
DTSTAMP:20260425T125108
CREATED:20240602T040000Z
LAST-MODIFIED:20240604T123844Z
UID:170-1717948800-1717956000@yesandmtl.com
SUMMARY:Sunday Night Improv Workshop
DESCRIPTION:Theatre St Catherine: 64 St Catherine St E \nOur workshop is a lively\, engaging experience that leads directly into our show. Every Sunday\, you can join us to practice scenes and learn about story-based improv\, guided by a variety of great teachers. Sunday 4-6\, always free.
URL:https://yesandmtl.com/event/sunday-night-improv-workshop-3/
CATEGORIES:Workshops/Classes
END:VEVENT
BEGIN:VEVENT
DTSTART;TZID=America/Toronto:20240612T180000
DTEND;TZID=America/Toronto:20240612T193000
DTSTAMP:20260425T125108
CREATED:20240604T025753Z
LAST-MODIFIED:20240604T025753Z
UID:186-1718215200-1718220600@yesandmtl.com
SUMMARY:M Bar Improv: Wednesday Night Workshops
DESCRIPTION:Hotel M Montreal: 1245 rue Saint-André \norganized by mbarimprov \nThe M BAR welcomes you to its wonderful space every WEDNESDAY NIGHT from 6pm to 7:30pm\, for a fun\, engaging\, and interactive introduction to the skills of improvised comedy. \nWhether you’re a seasoned performer or just curious about improv\, our workshops offer a no-commitment opportunity to explore and enjoy the art of improvisation. \nCome meet new people\, learn new skills\, and share an evening of laughs with us in a relaxed\, and supportive environment. Only $5 per session – see you there! \nHotel M Montreal\n1245 rue St André\nWednesdays\, 6-7:30pm\n@mbarimprov \n‘One-drink minimum’ live comedy show afterwards at 8pm!
URL:https://yesandmtl.com/event/m-bar-improv-wednesday-night-workshops/
CATEGORIES:Workshops/Classes
END:VEVENT
BEGIN:VEVENT
DTSTART;TZID=America/Toronto:20240616T110000
DTEND;TZID=America/Toronto:20240616T130000
DTSTAMP:20260425T125108
CREATED:20240603T160629Z
LAST-MODIFIED:20240603T160629Z
UID:179-1718535600-1718542800@yesandmtl.com
SUMMARY:Improv 4 Breakfast
DESCRIPTION:1454 rue Atateken\norganized by Improv 4 Breakfast \nA collaborative practice session for improvisers / Every Sunday at 11am!
URL:https://yesandmtl.com/event/improv-4-breakfast-2-2/
CATEGORIES:Workshops/Classes
END:VEVENT
BEGIN:VEVENT
DTSTART;TZID=America/Toronto:20240616T160000
DTEND;TZID=America/Toronto:20240616T180000
DTSTAMP:20260425T125108
CREATED:20240602T040000Z
LAST-MODIFIED:20240604T161103Z
UID:174-1718553600-1718560800@yesandmtl.com
SUMMARY:Sunday Night Improv Workshop
DESCRIPTION:Theatre St Catherine: 64 St Catherine St E \nOur workshop is a lively\, engaging experience that leads directly into our show. Every Sunday\, you can join us to practice scenes and learn about story-based improv\, guided by a variety of great teachers. Sunday 4-6\, always free.
URL:https://yesandmtl.com/event/sunday-night-improv-workshop-2/
CATEGORIES:Workshops/Classes
END:VEVENT
BEGIN:VEVENT
DTSTART;TZID=America/Toronto:20240619T180000
DTEND;TZID=America/Toronto:20240619T193000
DTSTAMP:20260425T125108
CREATED:20240605T040215Z
LAST-MODIFIED:20240605T040215Z
UID:192-1718820000-1718825400@yesandmtl.com
SUMMARY:M Bar Improv: Wednesday Night Workshops
DESCRIPTION:Hotel M Montreal: 1245 rue Saint-André\norganized by mbarimprov \nThe M BAR welcomes you to its wonderful space every WEDNESDAY NIGHT from 6pm to 7:30pm\, for a fun\, engaging\, and interactive introduction to the skills of improvised comedy. \nWhether you’re a seasoned performer or just curious about improv\, our workshops offer a no-commitment opportunity to explore and enjoy the art of improvisation. \nCome meet new people\, learn new skills\, and share an evening of laughs with us in a relaxed\, and supportive environment. Only $5 per session – see you there! \nHotel M Montreal\n1245 rue St André\nWednesdays\, 6-7:30pm\n@mbarimprov \n‘One-drink minimum’ live comedy show afterwards at 8pm!
URL:https://yesandmtl.com/event/m-bar-improv-wednesday-night-workshops-2/
CATEGORIES:Workshops/Classes
END:VEVENT
BEGIN:VEVENT
DTSTART;TZID=America/Toronto:20240623T160000
DTEND;TZID=America/Toronto:20240623T180000
DTSTAMP:20260425T125108
CREATED:20240609T040158Z
LAST-MODIFIED:20240609T040158Z
UID:200-1719158400-1719165600@yesandmtl.com
SUMMARY:Sunday Night Improv Workshop
DESCRIPTION:Theatre St Catherine: 64 St Catherine St E \n\nOur workshop is a lively\, engaging experience that leads directly into our show. Every Sunday\, you can join us to practice scenes and learn about story-based improv\, guided by a variety of great teachers. Sunday 4-6\, always free.
URL:https://yesandmtl.com/event/sunday-night-improv-workshop-4/
CATEGORIES:Workshops/Classes
END:VEVENT
BEGIN:VEVENT
DTSTART;TZID=America/Toronto:20240626T180000
DTEND;TZID=America/Toronto:20240626T193000
DTSTAMP:20260425T125108
CREATED:20240612T040237Z
LAST-MODIFIED:20240612T040237Z
UID:203-1719424800-1719430200@yesandmtl.com
SUMMARY:M Bar Improv: Wednesday Night Workshops
DESCRIPTION:Hotel M Montreal: 1245 rue Saint-André\norganized by mbarimprov \nThe M BAR welcomes you to its wonderful space every WEDNESDAY NIGHT from 6pm to 7:30pm\, for a fun\, engaging\, and interactive introduction to the skills of improvised comedy. \nWhether you’re a seasoned performer or just curious about improv\, our workshops offer a no-commitment opportunity to explore and enjoy the art of improvisation. \nCome meet new people\, learn new skills\, and share an evening of laughs with us in a relaxed\, and supportive environment. Only $5 per session – see you there! \nHotel M Montreal\n1245 rue St André\nWednesdays\, 6-7:30pm\n@mbarimprov \n‘One-drink minimum’ live comedy show afterwards at 8pm!
URL:https://yesandmtl.com/event/m-bar-improv-wednesday-night-workshops-3/
CATEGORIES:Workshops/Classes
END:VEVENT
BEGIN:VEVENT
DTSTART;TZID=America/Toronto:20240630T110000
DTEND;TZID=America/Toronto:20240630T130000
DTSTAMP:20260425T125108
CREATED:20240609T040015Z
LAST-MODIFIED:20240609T040015Z
UID:199-1719745200-1719752400@yesandmtl.com
SUMMARY:Improv 4 Breakfast
DESCRIPTION:1454 rue Atateken \n\nA collaborative practice session for improvisers / Every Sunday at 11am!
URL:https://yesandmtl.com/event/improv-4-breakfast-4/
CATEGORIES:Workshops/Classes
END:VEVENT
BEGIN:VEVENT
DTSTART;TZID=America/Toronto:20240630T160000
DTEND;TZID=America/Toronto:20240630T180000
DTSTAMP:20260425T125108
CREATED:20240616T040154Z
LAST-MODIFIED:20240616T040154Z
UID:206-1719763200-1719770400@yesandmtl.com
SUMMARY:Sunday Night Improv Workshop
DESCRIPTION:Theatre St Catherine: 64 St Catherine St E \n\nOur workshop is a lively\, engaging experience that leads directly into our show. Every Sunday\, you can join us to practice scenes and learn about story-based improv\, guided by a variety of great teachers. Sunday 4-6\, always free.
URL:https://yesandmtl.com/event/sunday-night-improv-workshop-5/
CATEGORIES:Workshops/Classes
END:VEVENT
END:VCALENDAR