BEGIN:VCALENDAR
VERSION:2.0
PRODID:-//Yes And MTL - ECPv6.15.17.1//NONSGML v1.0//EN
CALSCALE:GREGORIAN
METHOD:PUBLISH
X-WR-CALNAME:Yes And MTL
X-ORIGINAL-URL:https://yesandmtl.com
X-WR-CALDESC:Events for Yes And MTL
REFRESH-INTERVAL;VALUE=DURATION:PT1H
X-Robots-Tag:noindex
X-PUBLISHED-TTL:PT1H
BEGIN:VTIMEZONE
TZID:America/Toronto
BEGIN:DAYLIGHT
TZOFFSETFROM:-0500
TZOFFSETTO:-0400
TZNAME:EDT
DTSTART:20230312T070000
END:DAYLIGHT
BEGIN:STANDARD
TZOFFSETFROM:-0400
TZOFFSETTO:-0500
TZNAME:EST
DTSTART:20231105T060000
END:STANDARD
BEGIN:DAYLIGHT
TZOFFSETFROM:-0500
TZOFFSETTO:-0400
TZNAME:EDT
DTSTART:20240310T070000
END:DAYLIGHT
BEGIN:STANDARD
TZOFFSETFROM:-0400
TZOFFSETTO:-0500
TZNAME:EST
DTSTART:20241103T060000
END:STANDARD
BEGIN:DAYLIGHT
TZOFFSETFROM:-0500
TZOFFSETTO:-0400
TZNAME:EDT
DTSTART:20250309T070000
END:DAYLIGHT
BEGIN:STANDARD
TZOFFSETFROM:-0400
TZOFFSETTO:-0500
TZNAME:EST
DTSTART:20251102T060000
END:STANDARD
END:VTIMEZONE
BEGIN:VEVENT
DTSTART;TZID=America/Toronto:20240804T110000
DTEND;TZID=America/Toronto:20240804T130000
DTSTAMP:20260425T091338
CREATED:20240714T040027Z
LAST-MODIFIED:20240714T040027Z
UID:253-1722769200-1722776400@yesandmtl.com
SUMMARY:Improv 4 Breakfast
DESCRIPTION:1454 rue Atateken \n\nA collaborative practice session for improvisers / Every Sunday at 11am!
URL:https://yesandmtl.com/event/improv-4-breakfast-9/
CATEGORIES:Workshops/Classes
END:VEVENT
BEGIN:VEVENT
DTSTART;TZID=America/Toronto:20240804T160000
DTEND;TZID=America/Toronto:20240804T180000
DTSTAMP:20260425T091338
CREATED:20240721T040139Z
LAST-MODIFIED:20240721T040139Z
UID:267-1722787200-1722794400@yesandmtl.com
SUMMARY:Sunday Night Improv Workshop
DESCRIPTION:Theatre St Catherine: 64 St Catherine St E \n\nOur workshop is a lively\, engaging experience that leads directly into our show. Every Sunday\, you can join us to practice scenes and learn about story-based improv\, guided by a variety of great teachers. Sunday 4-6\, always free.
URL:https://yesandmtl.com/event/sunday-night-improv-workshop-10/
CATEGORIES:Workshops/Classes
END:VEVENT
BEGIN:VEVENT
DTSTART;TZID=America/Toronto:20240807T180000
DTEND;TZID=America/Toronto:20240807T193000
DTSTAMP:20260425T091338
CREATED:20240724T040036Z
LAST-MODIFIED:20240724T040036Z
UID:270-1723053600-1723059000@yesandmtl.com
SUMMARY:M Bar Improv: Wednesday Night Workshops
DESCRIPTION:Hotel M Montreal: 1245 rue Saint-André\norganized by mbarimprov \nThe M BAR welcomes you to its wonderful space every WEDNESDAY NIGHT from 6pm to 7:30pm\, for a fun\, engaging\, and interactive introduction to the skills of improvised comedy. \nWhether you’re a seasoned performer or just curious about improv\, our workshops offer a no-commitment opportunity to explore and enjoy the art of improvisation. \nCome meet new people\, learn new skills\, and share an evening of laughs with us in a relaxed\, and supportive environment. Only $5 per session – see you there! \nHotel M Montreal\n1245 rue St André\nWednesdays\, 6-7:30pm\n@mbarimprov \n‘One-drink minimum’ live comedy show afterwards at 8pm!
URL:https://yesandmtl.com/event/m-bar-improv-wednesday-night-workshops-9/
CATEGORIES:Workshops/Classes
END:VEVENT
BEGIN:VEVENT
DTSTART;TZID=America/Toronto:20240811T110000
DTEND;TZID=America/Toronto:20240811T130000
DTSTAMP:20260425T091338
CREATED:20240721T040034Z
LAST-MODIFIED:20240721T040034Z
UID:266-1723374000-1723381200@yesandmtl.com
SUMMARY:Improv 4 Breakfast
DESCRIPTION:1454 rue Atateken \n\nA collaborative practice session for improvisers / Every Sunday at 11am!
URL:https://yesandmtl.com/event/improv-4-breakfast-10/
CATEGORIES:Workshops/Classes
END:VEVENT
BEGIN:VEVENT
DTSTART;TZID=America/Toronto:20240811T160000
DTEND;TZID=America/Toronto:20240811T180000
DTSTAMP:20260425T091338
CREATED:20240728T040156Z
LAST-MODIFIED:20240728T040156Z
UID:274-1723392000-1723399200@yesandmtl.com
SUMMARY:Sunday Night Improv Workshop
DESCRIPTION:Theatre St Catherine: 64 St Catherine St E \n\nOur workshop is a lively\, engaging experience that leads directly into our show. Every Sunday\, you can join us to practice scenes and learn about story-based improv\, guided by a variety of great teachers. Sunday 4-6\, always free.
URL:https://yesandmtl.com/event/sunday-night-improv-workshop-11/
CATEGORIES:Workshops/Classes
END:VEVENT
BEGIN:VEVENT
DTSTART;TZID=America/Toronto:20240814T180000
DTEND;TZID=America/Toronto:20240814T193000
DTSTAMP:20260425T091338
CREATED:20240731T040004Z
LAST-MODIFIED:20240731T040004Z
UID:275-1723658400-1723663800@yesandmtl.com
SUMMARY:M Bar Improv: Wednesday Night Workshops
DESCRIPTION:Hotel M Montreal: 1245 rue Saint-André\norganized by mbarimprov \nThe M BAR welcomes you to its wonderful space every WEDNESDAY NIGHT from 6pm to 7:30pm\, for a fun\, engaging\, and interactive introduction to the skills of improvised comedy. \nWhether you’re a seasoned performer or just curious about improv\, our workshops offer a no-commitment opportunity to explore and enjoy the art of improvisation. \nCome meet new people\, learn new skills\, and share an evening of laughs with us in a relaxed\, and supportive environment. Only $5 per session – see you there! \nHotel M Montreal\n1245 rue St André\nWednesdays\, 6-7:30pm\n@mbarimprov \n‘One-drink minimum’ live comedy show afterwards at 8pm!
URL:https://yesandmtl.com/event/m-bar-improv-wednesday-night-workshops-10/
CATEGORIES:Workshops/Classes
END:VEVENT
BEGIN:VEVENT
DTSTART;TZID=America/Toronto:20240815T183000
DTEND;TZID=America/Toronto:20240815T200000
DTSTAMP:20260425T091338
CREATED:20240814T141308Z
LAST-MODIFIED:20240814T144506Z
UID:305-1723746600-1723752000@yesandmtl.com
SUMMARY:The Weekly
DESCRIPTION:Mile End Improv / Theatre VME: 5337 Boul. Saint-Laurent #250\, Montréal\, QC H2T 1S5\norganized by Mile End Improv / Theatre VME \nTHURSDAYS / 6:30PM / 90 MINS + FREE ENTRY TO THE EVERY THURSDAY IMPROV SHOW \nSwing by for an hour and a half drop-in improv workshop for adults! These exciting drop-in classes are open to improvisers of all levels\, whether you’re just starting out or you want to hone your skills. Practice makes perfect and this weekly workshop will get your head back in the game\, introduce new concepts and give you the workout you need to keep moving forward in improv! \nALL LEVELS WELCOME / BEGINNERS TO EXPERIENCED / AGE 18+\nWorkshops will be taught by experienced improvisers/teachers\, and will be held in Studio B. These drop-ins are instructed in English and tend to fill up fast. Registration is highly recommended to reserve your spot\, and it’s best to do so on Monday or Tuesday. \n$15 IN ADVANCE VIA E-TRANSFER / OR / $20 IN PERSON BEFORE CLASS IF SPACE REMAINS.
URL:https://yesandmtl.com/event/the-weekly/
CATEGORIES:Workshops/Classes
END:VEVENT
BEGIN:VEVENT
DTSTART;TZID=America/Toronto:20240818T110000
DTEND;TZID=America/Toronto:20240818T130000
DTSTAMP:20260425T091338
CREATED:20240728T040029Z
LAST-MODIFIED:20240728T040029Z
UID:273-1723978800-1723986000@yesandmtl.com
SUMMARY:Improv 4 Breakfast
DESCRIPTION:1454 rue Atateken \n\nA collaborative practice session for improvisers / Every Sunday at 11am!
URL:https://yesandmtl.com/event/improv-4-breakfast-11/
CATEGORIES:Workshops/Classes
END:VEVENT
BEGIN:VEVENT
DTSTART;TZID=America/Toronto:20240818T160000
DTEND;TZID=America/Toronto:20240818T180000
DTSTAMP:20260425T091338
CREATED:20240804T040123Z
LAST-MODIFIED:20240804T040123Z
UID:283-1723996800-1724004000@yesandmtl.com
SUMMARY:Sunday Night Improv Workshop
DESCRIPTION:Theatre St Catherine: 64 St Catherine St E \n\nOur workshop is a lively\, engaging experience that leads directly into our show. Every Sunday\, you can join us to practice scenes and learn about story-based improv\, guided by a variety of great teachers. Sunday 4-6\, always free.
URL:https://yesandmtl.com/event/sunday-night-improv-workshop-12/
CATEGORIES:Workshops/Classes
END:VEVENT
BEGIN:VEVENT
DTSTART;TZID=America/Toronto:20240821T180000
DTEND;TZID=America/Toronto:20240821T193000
DTSTAMP:20260425T091338
CREATED:20240807T040031Z
LAST-MODIFIED:20240807T040031Z
UID:285-1724263200-1724268600@yesandmtl.com
SUMMARY:M Bar Improv: Wednesday Night Workshops
DESCRIPTION:Hotel M Montreal: 1245 rue Saint-André\norganized by mbarimprov \nThe M BAR welcomes you to its wonderful space every WEDNESDAY NIGHT from 6pm to 7:30pm\, for a fun\, engaging\, and interactive introduction to the skills of improvised comedy. \nWhether you’re a seasoned performer or just curious about improv\, our workshops offer a no-commitment opportunity to explore and enjoy the art of improvisation. \nCome meet new people\, learn new skills\, and share an evening of laughs with us in a relaxed\, and supportive environment. Only $5 per session – see you there! \nHotel M Montreal\n1245 rue St André\nWednesdays\, 6-7:30pm\n@mbarimprov \n‘One-drink minimum’ live comedy show afterwards at 8pm!
URL:https://yesandmtl.com/event/m-bar-improv-wednesday-night-workshops-11/
CATEGORIES:Workshops/Classes
END:VEVENT
BEGIN:VEVENT
DTSTART;TZID=America/Toronto:20240825T110000
DTEND;TZID=America/Toronto:20240825T130000
DTSTAMP:20260425T091338
CREATED:20240804T040056Z
LAST-MODIFIED:20240804T040056Z
UID:282-1724583600-1724590800@yesandmtl.com
SUMMARY:Improv 4 Breakfast
DESCRIPTION:1454 rue Atateken \n\nA collaborative practice session for improvisers / Every Sunday at 11am!
URL:https://yesandmtl.com/event/improv-4-breakfast-12/
CATEGORIES:Workshops/Classes
END:VEVENT
BEGIN:VEVENT
DTSTART;TZID=America/Toronto:20240825T160000
DTEND;TZID=America/Toronto:20240825T180000
DTSTAMP:20260425T091338
CREATED:20240811T040131Z
LAST-MODIFIED:20240811T040131Z
UID:290-1724601600-1724608800@yesandmtl.com
SUMMARY:Sunday Night Improv Workshop
DESCRIPTION:Theatre St Catherine: 64 St Catherine St E \n\nOur workshop is a lively\, engaging experience that leads directly into our show. Every Sunday\, you can join us to practice scenes and learn about story-based improv\, guided by a variety of great teachers. Sunday 4-6\, always free.
URL:https://yesandmtl.com/event/sunday-night-improv-workshop-13/
CATEGORIES:Workshops/Classes
END:VEVENT
BEGIN:VEVENT
DTSTART;TZID=America/Toronto:20240828T180000
DTEND;TZID=America/Toronto:20240828T193000
DTSTAMP:20260425T091338
CREATED:20240814T040029Z
LAST-MODIFIED:20240814T040029Z
UID:304-1724868000-1724873400@yesandmtl.com
SUMMARY:M Bar Improv: Wednesday Night Workshops
DESCRIPTION:Hotel M Montreal: 1245 rue Saint-André\norganized by mbarimprov \nThe M BAR welcomes you to its wonderful space every WEDNESDAY NIGHT from 6pm to 7:30pm\, for a fun\, engaging\, and interactive introduction to the skills of improvised comedy. \nWhether you’re a seasoned performer or just curious about improv\, our workshops offer a no-commitment opportunity to explore and enjoy the art of improvisation. \nCome meet new people\, learn new skills\, and share an evening of laughs with us in a relaxed\, and supportive environment. Only $5 per session – see you there! \nHotel M Montreal\n1245 rue St André\nWednesdays\, 6-7:30pm\n@mbarimprov \n‘One-drink minimum’ live comedy show afterwards at 8pm!
URL:https://yesandmtl.com/event/m-bar-improv-wednesday-night-workshops-12/
CATEGORIES:Workshops/Classes
END:VEVENT
END:VCALENDAR