BEGIN:VCALENDAR
VERSION:2.0
PRODID:-//Yes And MTL - ECPv6.15.17.1//NONSGML v1.0//EN
CALSCALE:GREGORIAN
METHOD:PUBLISH
X-ORIGINAL-URL:https://yesandmtl.com
X-WR-CALDESC:Events for Yes And MTL
REFRESH-INTERVAL;VALUE=DURATION:PT1H
X-Robots-Tag:noindex
X-PUBLISHED-TTL:PT1H
BEGIN:VTIMEZONE
TZID:America/Toronto
BEGIN:DAYLIGHT
TZOFFSETFROM:-0500
TZOFFSETTO:-0400
TZNAME:EDT
DTSTART:20240310T070000
END:DAYLIGHT
BEGIN:STANDARD
TZOFFSETFROM:-0400
TZOFFSETTO:-0500
TZNAME:EST
DTSTART:20241103T060000
END:STANDARD
BEGIN:DAYLIGHT
TZOFFSETFROM:-0500
TZOFFSETTO:-0400
TZNAME:EDT
DTSTART:20250309T070000
END:DAYLIGHT
BEGIN:STANDARD
TZOFFSETFROM:-0400
TZOFFSETTO:-0500
TZNAME:EST
DTSTART:20251102T060000
END:STANDARD
BEGIN:DAYLIGHT
TZOFFSETFROM:-0500
TZOFFSETTO:-0400
TZNAME:EDT
DTSTART:20260308T070000
END:DAYLIGHT
BEGIN:STANDARD
TZOFFSETFROM:-0400
TZOFFSETTO:-0500
TZNAME:EST
DTSTART:20261101T060000
END:STANDARD
END:VTIMEZONE
BEGIN:VEVENT
DTSTART;TZID=America/Toronto:20250101T180000
DTEND;TZID=America/Toronto:20250101T193000
DTSTAMP:20260425T001340
CREATED:20241218T050458Z
LAST-MODIFIED:20241218T050458Z
UID:552-1735754400-1735759800@yesandmtl.com
SUMMARY:M Bar Improv: Wednesday Night Workshops
DESCRIPTION:Hotel M Montreal: 1245 rue Saint-André\norganized by mbarimprov \nThe M BAR welcomes you to its wonderful space every WEDNESDAY NIGHT from 6pm to 7:30pm\, for a fun\, engaging\, and interactive introduction to the skills of improvised comedy. \nWhether you’re a seasoned performer or just curious about improv\, our workshops offer a no-commitment opportunity to explore and enjoy the art of improvisation. \nCome meet new people\, learn new skills\, and share an evening of laughs with us in a relaxed\, and supportive environment. Only $5 per session – see you there! \nHotel M Montreal\n1245 rue St André\nWednesdays\, 6-7:30pm\n@mbarimprov \n‘One-drink minimum’ live comedy show afterwards at 8pm!
URL:https://yesandmtl.com/event/m-bar-improv-wednesday-night-workshops-30/
CATEGORIES:Workshops/Classes
END:VEVENT
BEGIN:VEVENT
DTSTART;TZID=America/Toronto:20250105T160000
DTEND;TZID=America/Toronto:20250105T180000
DTSTAMP:20260425T001340
CREATED:20241222T050207Z
LAST-MODIFIED:20241222T050207Z
UID:558-1736092800-1736100000@yesandmtl.com
SUMMARY:Sunday Night Improv Workshop
DESCRIPTION:Theatre St Catherine: 64 St Catherine St E \n\nOur workshop is a lively\, engaging experience that leads directly into our show. Every Sunday\, you can join us to practice scenes and learn about story-based improv\, guided by a variety of great teachers. Sunday 4-6\, always free.
URL:https://yesandmtl.com/event/sunday-night-improv-workshop-32/
CATEGORIES:Workshops/Classes
END:VEVENT
BEGIN:VEVENT
DTSTART;TZID=America/Toronto:20250108T180000
DTEND;TZID=America/Toronto:20250108T193000
DTSTAMP:20260425T001340
CREATED:20241225T050031Z
LAST-MODIFIED:20241225T050031Z
UID:559-1736359200-1736364600@yesandmtl.com
SUMMARY:M Bar Improv: Wednesday Night Workshops
DESCRIPTION:Hotel M Montreal: 1245 rue Saint-André\norganized by mbarimprov \nThe M BAR welcomes you to its wonderful space every WEDNESDAY NIGHT from 6pm to 7:30pm\, for a fun\, engaging\, and interactive introduction to the skills of improvised comedy. \nWhether you’re a seasoned performer or just curious about improv\, our workshops offer a no-commitment opportunity to explore and enjoy the art of improvisation. \nCome meet new people\, learn new skills\, and share an evening of laughs with us in a relaxed\, and supportive environment. Only $5 per session – see you there! \nHotel M Montreal\n1245 rue St André\nWednesdays\, 6-7:30pm\n@mbarimprov \n‘One-drink minimum’ live comedy show afterwards at 8pm!
URL:https://yesandmtl.com/event/m-bar-improv-wednesday-night-workshops-31/
CATEGORIES:Workshops/Classes
END:VEVENT
BEGIN:VEVENT
DTSTART;TZID=America/Toronto:20250112T140000
DTEND;TZID=America/Toronto:20250112T153000
DTSTAMP:20260425T001340
CREATED:20250101T231433Z
LAST-MODIFIED:20250101T231433Z
UID:570-1736690400-1736695800@yesandmtl.com
SUMMARY:Just Sing!
DESCRIPTION:Mainline Theatre : 3997 St Laurent Blvd\, Montreal\, Quebec H2W 1Y4 \norganized by Musical Improv Montreal \nJust Sing! is an opportunity to focus on improvised singing and group music making while strengthening vocal techniques along the way. This is the vibe of a vocal and piano jam without improv comedy scenes or musical theatre context. \nEnjoy making music with other humans in a no-pressure environment\, while enhancing singing skills. These short sessions are great for any musical improviser looking to supplement their work\, or for anyone looking for something fun and free stylin’ to do. \nNo experience required.
URL:https://yesandmtl.com/event/just-sing/
CATEGORIES:Workshops/Classes
END:VEVENT
BEGIN:VEVENT
DTSTART;TZID=America/Toronto:20250112T160000
DTEND;TZID=America/Toronto:20250112T180000
DTSTAMP:20260425T001340
CREATED:20241229T050210Z
LAST-MODIFIED:20241229T050210Z
UID:568-1736697600-1736704800@yesandmtl.com
SUMMARY:Sunday Night Improv Workshop
DESCRIPTION:Theatre St Catherine: 64 St Catherine St E \n\nOur workshop is a lively\, engaging experience that leads directly into our show. Every Sunday\, you can join us to practice scenes and learn about story-based improv\, guided by a variety of great teachers. Sunday 4-6\, always free.
URL:https://yesandmtl.com/event/sunday-night-improv-workshop-33/
CATEGORIES:Workshops/Classes
END:VEVENT
BEGIN:VEVENT
DTSTART;TZID=America/Toronto:20250115T180000
DTEND;TZID=America/Toronto:20250115T193000
DTSTAMP:20260425T001340
CREATED:20250101T050046Z
LAST-MODIFIED:20250101T050046Z
UID:569-1736964000-1736969400@yesandmtl.com
SUMMARY:M Bar Improv: Wednesday Night Workshops
DESCRIPTION:Hotel M Montreal: 1245 rue Saint-André\norganized by mbarimprov \nThe M BAR welcomes you to its wonderful space every WEDNESDAY NIGHT from 6pm to 7:30pm\, for a fun\, engaging\, and interactive introduction to the skills of improvised comedy. \nWhether you’re a seasoned performer or just curious about improv\, our workshops offer a no-commitment opportunity to explore and enjoy the art of improvisation. \nCome meet new people\, learn new skills\, and share an evening of laughs with us in a relaxed\, and supportive environment. Only $5 per session – see you there! \nHotel M Montreal\n1245 rue St André\nWednesdays\, 6-7:30pm\n@mbarimprov \n‘One-drink minimum’ live comedy show afterwards at 8pm!
URL:https://yesandmtl.com/event/m-bar-improv-wednesday-night-workshops-32/
CATEGORIES:Workshops/Classes
END:VEVENT
BEGIN:VEVENT
DTSTART;TZID=America/Toronto:20250119T160000
DTEND;TZID=America/Toronto:20250119T180000
DTSTAMP:20260425T001340
CREATED:20250104T045840Z
LAST-MODIFIED:20250104T045840Z
UID:581-1737302400-1737309600@yesandmtl.com
SUMMARY:One Hit Wonder
DESCRIPTION:Theatre Sainte-Catherine: 264 St Catherine St E\, Montreal\, Quebec H2X 1L4 \norganized by Musical Improv Montreal \nAll are welcome to play for the day and explore the art of musical improv! These fun-filled sessions are for both beginner and experienced musical improvisers\, where you will learn and practice short form musical ditties and scenes\, appropriate for folks of all levels of experience. If you’re slightly intrigued or already addicted to Musical Improv\, you don’t want to miss out on these one-off workshops! Some One-Hit Wonder classes end with a show for the public\, where elected participants from the workshop will be invited to participate. Come jam out and see what the fuss is about!
URL:https://yesandmtl.com/event/one-hit-wonder/
CATEGORIES:Workshops/Classes
END:VEVENT
BEGIN:VEVENT
DTSTART;TZID=America/Toronto:20250122T180000
DTEND;TZID=America/Toronto:20250122T193000
DTSTAMP:20260425T001341
CREATED:20250108T050143Z
LAST-MODIFIED:20250108T050143Z
UID:593-1737568800-1737574200@yesandmtl.com
SUMMARY:M Bar Improv: Wednesday Night Workshops
DESCRIPTION:Hotel M Montreal: 1245 rue Saint-André\norganized by mbarimprov \nThe M BAR welcomes you to its wonderful space every WEDNESDAY NIGHT from 6pm to 7:30pm\, for a fun\, engaging\, and interactive introduction to the skills of improvised comedy. \nWhether you’re a seasoned performer or just curious about improv\, our workshops offer a no-commitment opportunity to explore and enjoy the art of improvisation. \nCome meet new people\, learn new skills\, and share an evening of laughs with us in a relaxed\, and supportive environment. Only $5 per session – see you there! \nHotel M Montreal\n1245 rue St André\nWednesdays\, 6-7:30pm\n@mbarimprov \n‘One-drink minimum’ live comedy show afterwards at 8pm!
URL:https://yesandmtl.com/event/m-bar-improv-wednesday-night-workshops-33/
CATEGORIES:Workshops/Classes
END:VEVENT
BEGIN:VEVENT
DTSTART;TZID=America/Toronto:20250126T160000
DTEND;TZID=America/Toronto:20250126T180000
DTSTAMP:20260425T001341
CREATED:20250112T050213Z
LAST-MODIFIED:20250112T050213Z
UID:598-1737907200-1737914400@yesandmtl.com
SUMMARY:Sunday Night Improv Workshop
DESCRIPTION:Theatre St Catherine: 64 St Catherine St E \n\nOur workshop is a lively\, engaging experience that leads directly into our show. Every Sunday\, you can join us to practice scenes and learn about story-based improv\, guided by a variety of great teachers. Sunday 4-6\, always free.
URL:https://yesandmtl.com/event/sunday-night-improv-workshop-34/
CATEGORIES:Workshops/Classes
END:VEVENT
BEGIN:VEVENT
DTSTART;TZID=America/Toronto:20250129T180000
DTEND;TZID=America/Toronto:20250129T193000
DTSTAMP:20260425T001341
CREATED:20250115T050114Z
LAST-MODIFIED:20250115T050114Z
UID:601-1738173600-1738179000@yesandmtl.com
SUMMARY:M Bar Improv: Wednesday Night Workshops
DESCRIPTION:Hotel M Montreal: 1245 rue Saint-André\norganized by mbarimprov \nThe M BAR welcomes you to its wonderful space every WEDNESDAY NIGHT from 6pm to 7:30pm\, for a fun\, engaging\, and interactive introduction to the skills of improvised comedy. \nWhether you’re a seasoned performer or just curious about improv\, our workshops offer a no-commitment opportunity to explore and enjoy the art of improvisation. \nCome meet new people\, learn new skills\, and share an evening of laughs with us in a relaxed\, and supportive environment. Only $5 per session – see you there! \nHotel M Montreal\n1245 rue St André\nWednesdays\, 6-7:30pm\n@mbarimprov \n‘One-drink minimum’ live comedy show afterwards at 8pm!
URL:https://yesandmtl.com/event/m-bar-improv-wednesday-night-workshops-34/
CATEGORIES:Workshops/Classes
END:VEVENT
END:VCALENDAR