BEGIN:VCALENDAR
VERSION:2.0
PRODID:-//Yes And MTL - ECPv6.15.17.1//NONSGML v1.0//EN
CALSCALE:GREGORIAN
METHOD:PUBLISH
X-WR-CALNAME:Yes And MTL
X-ORIGINAL-URL:https://yesandmtl.com
X-WR-CALDESC:Events for Yes And MTL
REFRESH-INTERVAL;VALUE=DURATION:PT1H
X-Robots-Tag:noindex
X-PUBLISHED-TTL:PT1H
BEGIN:VTIMEZONE
TZID:America/Toronto
BEGIN:DAYLIGHT
TZOFFSETFROM:-0500
TZOFFSETTO:-0400
TZNAME:EDT
DTSTART:20240310T070000
END:DAYLIGHT
BEGIN:STANDARD
TZOFFSETFROM:-0400
TZOFFSETTO:-0500
TZNAME:EST
DTSTART:20241103T060000
END:STANDARD
BEGIN:DAYLIGHT
TZOFFSETFROM:-0500
TZOFFSETTO:-0400
TZNAME:EDT
DTSTART:20250309T070000
END:DAYLIGHT
BEGIN:STANDARD
TZOFFSETFROM:-0400
TZOFFSETTO:-0500
TZNAME:EST
DTSTART:20251102T060000
END:STANDARD
BEGIN:DAYLIGHT
TZOFFSETFROM:-0500
TZOFFSETTO:-0400
TZNAME:EDT
DTSTART:20260308T070000
END:DAYLIGHT
BEGIN:STANDARD
TZOFFSETFROM:-0400
TZOFFSETTO:-0500
TZNAME:EST
DTSTART:20261101T060000
END:STANDARD
END:VTIMEZONE
BEGIN:VEVENT
DTSTART;TZID=America/Toronto:20250702T180000
DTEND;TZID=America/Toronto:20250702T193000
DTSTAMP:20260424T133208
CREATED:20250618T040028Z
LAST-MODIFIED:20250618T040028Z
UID:1016-1751479200-1751484600@yesandmtl.com
SUMMARY:M Bar Improv: Wednesday Night Workshops
DESCRIPTION:Hotel M Montreal: 1245 rue Saint-André\norganized by mbarimprov \nThe M BAR welcomes you to its wonderful space every WEDNESDAY NIGHT from 6pm to 7:30pm\, for a fun\, engaging\, and interactive introduction to the skills of improvised comedy. \nWhether you’re a seasoned performer or just curious about improv\, our workshops offer a no-commitment opportunity to explore and enjoy the art of improvisation. \nCome meet new people\, learn new skills\, and share an evening of laughs with us in a relaxed\, and supportive environment. Only $5 per session – see you there! \nHotel M Montreal\n1245 rue St André\nWednesdays\, 6-7:30pm\n@mbarimprov \n‘One-drink minimum’ live comedy show afterwards at 8pm!
URL:https://yesandmtl.com/event/m-bar-improv-wednesday-night-workshops-56/
CATEGORIES:Workshops/Classes
END:VEVENT
BEGIN:VEVENT
DTSTART;TZID=America/Toronto:20250706T160000
DTEND;TZID=America/Toronto:20250706T180000
DTSTAMP:20260424T133208
CREATED:20250622T040010Z
LAST-MODIFIED:20250703T015158Z
UID:1021-1751817600-1751824800@yesandmtl.com
SUMMARY:Sunday Night Improv Workshop
DESCRIPTION:Theatre St Catherine: 64 St Catherine St E \nOur workshop is a lively\, engaging experience that leads directly into our show. Every Sunday\, you can join us to practice scenes and learn about story-based improv\, guided by a variety of great teachers. Sunday 4-6\, always free.
URL:https://yesandmtl.com/event/sunday-night-improv-workshop-58/
LOCATION:Theatre Saint Catherine\, 264 St Catherine St E\, Montreal\, Quebec\, H2X 1L4\, Canada
CATEGORIES:Workshops/Classes
END:VEVENT
BEGIN:VEVENT
DTSTART;TZID=America/Toronto:20250713T150000
DTEND;TZID=America/Toronto:20250713T170000
DTSTAMP:20260424T133208
CREATED:20250622T142329Z
LAST-MODIFIED:20250703T020355Z
UID:1023-1752418800-1752426000@yesandmtl.com
SUMMARY:Rhyme Time
DESCRIPTION:The Wiggle Room: 3874 St Laurent Blvd\, Montreal\, Quebec H2W 1Y2\norganized by Musical Improv Montreal \nLet’s take the time to rhyme! In this short musical improv jam\, we’ll practice improvised rhyming through different exercises\, games\, and then create phrases and songs on the spot\, focusing on the rhyme scheme. \nThese short sessions are great for any musical improviser looking to up their game\, for any comedic song writer\, or for anyone looking for something fun\, creative\, and focused to do. \nNo experience required\, though some newbies might find it more challenging.
URL:https://yesandmtl.com/event/rhyme-time-2/
LOCATION:The Wiggle Room\, 3874 St Laurent Blvd\, Montreal\, Quebec\, H2W 1Y2\, Canada
CATEGORIES:Workshops/Classes
END:VEVENT
BEGIN:VEVENT
DTSTART;TZID=America/Toronto:20250713T160000
DTEND;TZID=America/Toronto:20250713T180000
DTSTAMP:20260424T133208
CREATED:20250629T040011Z
LAST-MODIFIED:20250703T020426Z
UID:1064-1752422400-1752429600@yesandmtl.com
SUMMARY:Sunday Night Improv Workshop
DESCRIPTION:Theatre St Catherine: 64 St Catherine St E \nOur workshop is a lively\, engaging experience that leads directly into our show. Every Sunday\, you can join us to practice scenes and learn about story-based improv\, guided by a variety of great teachers. Sunday 4-6\, always free.
URL:https://yesandmtl.com/event/sunday-night-improv-workshop-59/
LOCATION:Theatre Saint Catherine\, 264 St Catherine St E\, Montreal\, Quebec\, H2X 1L4\, Canada
CATEGORIES:Workshops/Classes
END:VEVENT
BEGIN:VEVENT
DTSTART;TZID=America/Toronto:20250720T160000
DTEND;TZID=America/Toronto:20250720T180000
DTSTAMP:20260424T133208
CREATED:20250706T040030Z
LAST-MODIFIED:20250706T040030Z
UID:1136-1753027200-1753034400@yesandmtl.com
SUMMARY:Sunday Night Improv Workshop
DESCRIPTION:Theatre St Catherine: 64 St Catherine St E \n\nOur workshop is a lively\, engaging experience that leads directly into our show. Every Sunday\, you can join us to practice scenes and learn about story-based improv\, guided by a variety of great teachers. Sunday 4-6\, always free.
URL:https://yesandmtl.com/event/sunday-night-improv-workshop-60/
LOCATION:Theatre Saint Catherine\, 264 St Catherine St E\, Montreal\, Quebec\, H2X 1L4\, Canada
CATEGORIES:Workshops/Classes
END:VEVENT
BEGIN:VEVENT
DTSTART;TZID=America/Toronto:20250727T110000
DTEND;TZID=America/Toronto:20250727T130000
DTSTAMP:20260424T133208
CREATED:20250706T040027Z
LAST-MODIFIED:20250706T040027Z
UID:1135-1753614000-1753621200@yesandmtl.com
SUMMARY:Every Sunday Improv 4 Breakfast Workshop
DESCRIPTION:Drop in improv workshops every Sunday from 11am-1pm\n$10 drop in\n1454 rue Atateken
URL:https://yesandmtl.com/event/every-sunday-improv-4-breakfast-workshop-20/
LOCATION:1454 rue Atateken\, 1454 rue Atateken\, Montreal\, Canada
CATEGORIES:Workshops/Classes
END:VEVENT
BEGIN:VEVENT
DTSTART;TZID=America/Toronto:20250727T160000
DTEND;TZID=America/Toronto:20250727T180000
DTSTAMP:20260424T133208
CREATED:20250713T040027Z
LAST-MODIFIED:20250713T040027Z
UID:1145-1753632000-1753639200@yesandmtl.com
SUMMARY:Sunday Night Improv Workshop
DESCRIPTION:Theatre St Catherine: 64 St Catherine St E \n\nOur workshop is a lively\, engaging experience that leads directly into our show. Every Sunday\, you can join us to practice scenes and learn about story-based improv\, guided by a variety of great teachers. Sunday 4-6\, always free.
URL:https://yesandmtl.com/event/sunday-night-improv-workshop-61/
LOCATION:Theatre Saint Catherine\, 264 St Catherine St E\, Montreal\, Quebec\, H2X 1L4\, Canada
CATEGORIES:Workshops/Classes
END:VEVENT
BEGIN:VEVENT
DTSTART;TZID=America/Toronto:20250730T180000
DTEND;TZID=America/Toronto:20250730T193000
DTSTAMP:20260424T133208
CREATED:20250702T040027Z
LAST-MODIFIED:20250724T134010Z
UID:1068-1753898400-1753903800@yesandmtl.com
SUMMARY:M Bar Improv: Wednesday Night Workshops
DESCRIPTION:Hotel M Montreal: 1245 rue Saint-André\norganized by mbarimprov \nThe M BAR welcomes you to its wonderful space every WEDNESDAY NIGHT from 6pm to 7:30pm\, for a fun\, engaging\, and interactive introduction to the skills of improvised comedy. \nWhether you’re a seasoned performer or just curious about improv\, our workshops offer a no-commitment opportunity to explore and enjoy the art of improvisation. \nCome meet new people\, learn new skills\, and share an evening of laughs with us in a relaxed\, and supportive environment. Only $5 per session – see you there! \nHotel M Montreal\n1245 rue St André\nWednesdays\, 6-7:30pm\n@mbarimprov \n‘One-drink minimum’ live comedy show afterwards at 8pm!
URL:https://yesandmtl.com/event/m-bar-improv-wednesday-night-workshops-58/
CATEGORIES:Workshops/Classes
END:VEVENT
END:VCALENDAR