BEGIN:VCALENDAR
VERSION:2.0
PRODID:-//Yes And MTL - ECPv6.15.17.1//NONSGML v1.0//EN
CALSCALE:GREGORIAN
METHOD:PUBLISH
X-ORIGINAL-URL:https://yesandmtl.com
X-WR-CALDESC:Events for Yes And MTL
REFRESH-INTERVAL;VALUE=DURATION:PT1H
X-Robots-Tag:noindex
X-PUBLISHED-TTL:PT1H
BEGIN:VTIMEZONE
TZID:America/Toronto
BEGIN:DAYLIGHT
TZOFFSETFROM:-0500
TZOFFSETTO:-0400
TZNAME:EDT
DTSTART:20250309T070000
END:DAYLIGHT
BEGIN:STANDARD
TZOFFSETFROM:-0400
TZOFFSETTO:-0500
TZNAME:EST
DTSTART:20251102T060000
END:STANDARD
BEGIN:DAYLIGHT
TZOFFSETFROM:-0500
TZOFFSETTO:-0400
TZNAME:EDT
DTSTART:20260308T070000
END:DAYLIGHT
BEGIN:STANDARD
TZOFFSETFROM:-0400
TZOFFSETTO:-0500
TZNAME:EST
DTSTART:20261101T060000
END:STANDARD
BEGIN:DAYLIGHT
TZOFFSETFROM:-0500
TZOFFSETTO:-0400
TZNAME:EDT
DTSTART:20270314T070000
END:DAYLIGHT
BEGIN:STANDARD
TZOFFSETFROM:-0400
TZOFFSETTO:-0500
TZNAME:EST
DTSTART:20271107T060000
END:STANDARD
END:VTIMEZONE
BEGIN:VEVENT
DTSTART;TZID=America/Toronto:20260104T110000
DTEND;TZID=America/Toronto:20260104T130000
DTSTAMP:20260424T015221
CREATED:20251214T050020Z
LAST-MODIFIED:20251214T050020Z
UID:1551-1767524400-1767531600@yesandmtl.com
SUMMARY:Every Sunday Improv 4 Breakfast Workshop
DESCRIPTION:Join us at Improv 4 Breakfast where all levels of improv are welcome! \nEvery Sunday we have a new topic to learn. It might be basic technique to advanced theory but we believe anyone can pick it up and add new skills in their repertoire! \nNever tried improv? Come check it out.\nWant more practice? This place is for you!\nWoke up too early on Sunday and are still lying in bed? GET UP AND GET SOME IMPROV 4 BREAKFAST \nEvery Sunday\n11:00am – 1:00pm\n$10 drop in – cash or etrans\n1454 rue atateken
URL:https://yesandmtl.com/event/every-sunday-improv-4-breakfast-workshop-24/
LOCATION:1454 rue Atateken\, 1454 rue Atateken\, Montreal\, Canada
CATEGORIES:Workshops/Classes
END:VEVENT
BEGIN:VEVENT
DTSTART;TZID=America/Toronto:20260104T160000
DTEND;TZID=America/Toronto:20260104T180000
DTSTAMP:20260424T015221
CREATED:20251221T050050Z
LAST-MODIFIED:20251221T050050Z
UID:1559-1767542400-1767549600@yesandmtl.com
SUMMARY:Sunday Night Improv Workshop
DESCRIPTION:Theatre St Catherine: 64 St Catherine St E \n\nOur workshop is a lively\, engaging experience that leads directly into our show. Every Sunday\, you can join us to practice scenes and learn about story-based improv\, guided by a variety of great teachers. Sunday 4-6\, always free.
URL:https://yesandmtl.com/event/sunday-night-improv-workshop-83/
LOCATION:Theatre Saint Catherine\, 264 St Catherine St E\, Montreal\, Quebec\, H2X 1L4\, Canada
CATEGORIES:Workshops/Classes
END:VEVENT
BEGIN:VEVENT
DTSTART;TZID=America/Toronto:20260107T180000
DTEND;TZID=America/Toronto:20260107T193000
DTSTAMP:20260424T015221
CREATED:20251224T050025Z
LAST-MODIFIED:20251224T050025Z
UID:1561-1767808800-1767814200@yesandmtl.com
SUMMARY:M Bar Improv: Wednesday Night Workshops
DESCRIPTION:Hotel M Montreal: 1245 rue Saint-André\norganized by mbarimprov \nThe M BAR welcomes you to its wonderful space every WEDNESDAY NIGHT from 6pm to 7:30pm\, for a fun\, engaging\, and interactive introduction to the skills of improvised comedy. \nWhether you’re a seasoned performer or just curious about improv\, our workshops offer a no-commitment opportunity to explore and enjoy the art of improvisation. \nCome meet new people\, learn new skills\, and share an evening of laughs with us in a relaxed\, and supportive environment. Only $5 per session – see you there! \nHotel M Montreal\n1245 rue St André\nWednesdays\, 6-7:30pm\n@mbarimprov \n‘One-drink minimum’ live comedy show afterwards at 8pm!
URL:https://yesandmtl.com/event/m-bar-improv-wednesday-night-workshops-80/
CATEGORIES:Workshops/Classes
END:VEVENT
BEGIN:VEVENT
DTSTART;TZID=America/Toronto:20260111T110000
DTEND;TZID=America/Toronto:20260111T130000
DTSTAMP:20260424T015221
CREATED:20251221T050020Z
LAST-MODIFIED:20251221T050020Z
UID:1558-1768129200-1768136400@yesandmtl.com
SUMMARY:Every Sunday Improv 4 Breakfast Workshop
DESCRIPTION:Join us at Improv 4 Breakfast where all levels of improv are welcome! \nEvery Sunday we have a new topic to learn. It might be basic technique to advanced theory but we believe anyone can pick it up and add new skills in their repertoire! \nNever tried improv? Come check it out.\nWant more practice? This place is for you!\nWoke up too early on Sunday and are still lying in bed? GET UP AND GET SOME IMPROV 4 BREAKFAST \nEvery Sunday\n11:00am – 1:00pm\n$10 drop in – cash or etrans\n1454 rue atateken
URL:https://yesandmtl.com/event/every-sunday-improv-4-breakfast-workshop-25/
LOCATION:1454 rue Atateken\, 1454 rue Atateken\, Montreal\, Canada
CATEGORIES:Workshops/Classes
END:VEVENT
BEGIN:VEVENT
DTSTART;TZID=America/Toronto:20260111T160000
DTEND;TZID=America/Toronto:20260111T180000
DTSTAMP:20260424T015221
CREATED:20251228T050036Z
LAST-MODIFIED:20251228T050036Z
UID:1567-1768147200-1768154400@yesandmtl.com
SUMMARY:Sunday Night Improv Workshop
DESCRIPTION:Theatre St Catherine: 64 St Catherine St E \n\nOur workshop is a lively\, engaging experience that leads directly into our show. Every Sunday\, you can join us to practice scenes and learn about story-based improv\, guided by a variety of great teachers. Sunday 4-6\, always free.
URL:https://yesandmtl.com/event/sunday-night-improv-workshop-84/
LOCATION:Theatre Saint Catherine\, 264 St Catherine St E\, Montreal\, Quebec\, H2X 1L4\, Canada
CATEGORIES:Workshops/Classes
END:VEVENT
BEGIN:VEVENT
DTSTART;TZID=America/Toronto:20260114T180000
DTEND;TZID=America/Toronto:20260114T193000
DTSTAMP:20260424T015221
CREATED:20251231T050024Z
LAST-MODIFIED:20251231T050024Z
UID:1568-1768413600-1768419000@yesandmtl.com
SUMMARY:M Bar Improv: Wednesday Night Workshops
DESCRIPTION:Hotel M Montreal: 1245 rue Saint-André\norganized by mbarimprov \nThe M BAR welcomes you to its wonderful space every WEDNESDAY NIGHT from 6pm to 7:30pm\, for a fun\, engaging\, and interactive introduction to the skills of improvised comedy. \nWhether you’re a seasoned performer or just curious about improv\, our workshops offer a no-commitment opportunity to explore and enjoy the art of improvisation. \nCome meet new people\, learn new skills\, and share an evening of laughs with us in a relaxed\, and supportive environment. Only $5 per session – see you there! \nHotel M Montreal\n1245 rue St André\nWednesdays\, 6-7:30pm\n@mbarimprov \n‘One-drink minimum’ live comedy show afterwards at 8pm!
URL:https://yesandmtl.com/event/m-bar-improv-wednesday-night-workshops-81/
CATEGORIES:Workshops/Classes
END:VEVENT
BEGIN:VEVENT
DTSTART;TZID=America/Toronto:20260118T110000
DTEND;TZID=America/Toronto:20260118T130000
DTSTAMP:20260424T015221
CREATED:20251228T050022Z
LAST-MODIFIED:20251228T050022Z
UID:1566-1768734000-1768741200@yesandmtl.com
SUMMARY:Every Sunday Improv 4 Breakfast Workshop
DESCRIPTION:Join us at Improv 4 Breakfast where all levels of improv are welcome! \nEvery Sunday we have a new topic to learn. It might be basic technique to advanced theory but we believe anyone can pick it up and add new skills in their repertoire! \nNever tried improv? Come check it out.\nWant more practice? This place is for you!\nWoke up too early on Sunday and are still lying in bed? GET UP AND GET SOME IMPROV 4 BREAKFAST \nEvery Sunday\n11:00am – 1:00pm\n$10 drop in – cash or etrans\n1454 rue atateken
URL:https://yesandmtl.com/event/every-sunday-improv-4-breakfast-workshop-26/
LOCATION:1454 rue Atateken\, 1454 rue Atateken\, Montreal\, Canada
CATEGORIES:Workshops/Classes
END:VEVENT
BEGIN:VEVENT
DTSTART;TZID=America/Toronto:20260118T160000
DTEND;TZID=America/Toronto:20260118T180000
DTSTAMP:20260424T015221
CREATED:20260104T050039Z
LAST-MODIFIED:20260104T050039Z
UID:1576-1768752000-1768759200@yesandmtl.com
SUMMARY:Sunday Night Improv Workshop
DESCRIPTION:Theatre St Catherine: 64 St Catherine St E \n\nOur workshop is a lively\, engaging experience that leads directly into our show. Every Sunday\, you can join us to practice scenes and learn about story-based improv\, guided by a variety of great teachers. Sunday 4-6\, always free.
URL:https://yesandmtl.com/event/sunday-night-improv-workshop-85/
LOCATION:Theatre Saint Catherine\, 264 St Catherine St E\, Montreal\, Quebec\, H2X 1L4\, Canada
CATEGORIES:Workshops/Classes
END:VEVENT
BEGIN:VEVENT
DTSTART;TZID=America/Toronto:20260121T180000
DTEND;TZID=America/Toronto:20260121T193000
DTSTAMP:20260424T015221
CREATED:20260107T050034Z
LAST-MODIFIED:20260107T050034Z
UID:1577-1769018400-1769023800@yesandmtl.com
SUMMARY:M Bar Improv: Wednesday Night Workshops
DESCRIPTION:Hotel M Montreal: 1245 rue Saint-André\norganized by mbarimprov \nThe M BAR welcomes you to its wonderful space every WEDNESDAY NIGHT from 6pm to 7:30pm\, for a fun\, engaging\, and interactive introduction to the skills of improvised comedy. \nWhether you’re a seasoned performer or just curious about improv\, our workshops offer a no-commitment opportunity to explore and enjoy the art of improvisation. \nCome meet new people\, learn new skills\, and share an evening of laughs with us in a relaxed\, and supportive environment. Only $5 per session – see you there! \nHotel M Montreal\n1245 rue St André\nWednesdays\, 6-7:30pm\n@mbarimprov \n‘One-drink minimum’ live comedy show afterwards at 8pm!
URL:https://yesandmtl.com/event/m-bar-improv-wednesday-night-workshops-82/
CATEGORIES:Workshops/Classes
END:VEVENT
BEGIN:VEVENT
DTSTART;TZID=America/Toronto:20260125T110000
DTEND;TZID=America/Toronto:20260125T130000
DTSTAMP:20260424T015221
CREATED:20260104T050021Z
LAST-MODIFIED:20260104T050021Z
UID:1575-1769338800-1769346000@yesandmtl.com
SUMMARY:Every Sunday Improv 4 Breakfast Workshop
DESCRIPTION:Join us at Improv 4 Breakfast where all levels of improv are welcome! \nEvery Sunday we have a new topic to learn. It might be basic technique to advanced theory but we believe anyone can pick it up and add new skills in their repertoire! \nNever tried improv? Come check it out.\nWant more practice? This place is for you!\nWoke up too early on Sunday and are still lying in bed? GET UP AND GET SOME IMPROV 4 BREAKFAST \nEvery Sunday\n11:00am – 1:00pm\n$10 drop in – cash or etrans\n1454 rue atateken
URL:https://yesandmtl.com/event/every-sunday-improv-4-breakfast-workshop-27/
LOCATION:1454 rue Atateken\, 1454 rue Atateken\, Montreal\, Canada
CATEGORIES:Workshops/Classes
END:VEVENT
BEGIN:VEVENT
DTSTART;TZID=America/Toronto:20260125T160000
DTEND;TZID=America/Toronto:20260125T180000
DTSTAMP:20260424T015221
CREATED:20260111T050035Z
LAST-MODIFIED:20260111T050035Z
UID:1586-1769356800-1769364000@yesandmtl.com
SUMMARY:Sunday Night Improv Workshop
DESCRIPTION:Theatre St Catherine: 64 St Catherine St E \n\nOur workshop is a lively\, engaging experience that leads directly into our show. Every Sunday\, you can join us to practice scenes and learn about story-based improv\, guided by a variety of great teachers. Sunday 4-6\, always free.
URL:https://yesandmtl.com/event/sunday-night-improv-workshop-86/
LOCATION:Theatre Saint Catherine\, 264 St Catherine St E\, Montreal\, Quebec\, H2X 1L4\, Canada
CATEGORIES:Workshops/Classes
END:VEVENT
BEGIN:VEVENT
DTSTART;TZID=America/Toronto:20260128T180000
DTEND;TZID=America/Toronto:20260128T193000
DTSTAMP:20260424T015221
CREATED:20260114T050044Z
LAST-MODIFIED:20260114T050044Z
UID:1587-1769623200-1769628600@yesandmtl.com
SUMMARY:M Bar Improv: Wednesday Night Workshops
DESCRIPTION:Hotel M Montreal: 1245 rue Saint-André\norganized by mbarimprov \nThe M BAR welcomes you to its wonderful space every WEDNESDAY NIGHT from 6pm to 7:30pm\, for a fun\, engaging\, and interactive introduction to the skills of improvised comedy. \nWhether you’re a seasoned performer or just curious about improv\, our workshops offer a no-commitment opportunity to explore and enjoy the art of improvisation. \nCome meet new people\, learn new skills\, and share an evening of laughs with us in a relaxed\, and supportive environment. Only $5 per session – see you there! \nHotel M Montreal\n1245 rue St André\nWednesdays\, 6-7:30pm\n@mbarimprov \n‘One-drink minimum’ live comedy show afterwards at 8pm!
URL:https://yesandmtl.com/event/m-bar-improv-wednesday-night-workshops-83/
CATEGORIES:Workshops/Classes
END:VEVENT
END:VCALENDAR